BEGIN:VCALENDAR
VERSION:2.0
PRODID:-//Yokota FSS - ECPv6.15.20//NONSGML v1.0//EN
CALSCALE:GREGORIAN
METHOD:PUBLISH
X-WR-CALNAME:Yokota FSS
X-ORIGINAL-URL:https://yokota374fss.com
X-WR-CALDESC:Events for Yokota FSS
REFRESH-INTERVAL;VALUE=DURATION:PT1H
X-Robots-Tag:noindex
X-PUBLISHED-TTL:PT1H
BEGIN:VTIMEZONE
TZID:Asia/Tokyo
BEGIN:STANDARD
TZOFFSETFROM:+0900
TZOFFSETTO:+0900
TZNAME:JST
DTSTART:20250101T000000
END:STANDARD
END:VTIMEZONE
BEGIN:VTIMEZONE
TZID:UTC
BEGIN:STANDARD
TZOFFSETFROM:+0000
TZOFFSETTO:+0000
TZNAME:UTC
DTSTART:20250101T000000
END:STANDARD
END:VTIMEZONE
BEGIN:VEVENT
DTSTART;TZID=Asia/Tokyo:20260415T080000
DTEND;TZID=Asia/Tokyo:20260415T143000
DTSTAMP:20260421T172846
CREATED:20260108T013124Z
LAST-MODIFIED:20260223T000107Z
UID:10010441-1776240000-1776263400@yokota374fss.com
SUMMARY:Newcomers’ Orientation
DESCRIPTION:
URL:https://yokota374fss.com/event/newcomers-orientation-2/2026-04-15/
CATEGORIES:M&FRC
END:VEVENT
BEGIN:VEVENT
DTSTART;TZID=Asia/Tokyo:20260415T093000
DTEND;TZID=Asia/Tokyo:20260415T223000
DTSTAMP:20260421T172846
CREATED:20260303T051025Z
LAST-MODIFIED:20260303T071800Z
UID:10010805-1776245400-1776292200@yokota374fss.com
SUMMARY:Yoga Rise N Shine
DESCRIPTION:Wednesdays • 9:30 a.m.–10:30 p.m.\nInstructor: Jaqueline Goodwin\n$40/8 Classes\n$24/4 Classes\n$7 Walk In
URL:https://yokota374fss.com/event/hatha-rise-n-shine/2026-04-15/
CATEGORIES:Natatorium
END:VEVENT
BEGIN:VEVENT
DTSTART;TZID=Asia/Tokyo:20260415T150000
DTEND;TZID=Asia/Tokyo:20260415T154000
DTSTAMP:20260421T172846
CREATED:20260303T060826Z
LAST-MODIFIED:20260303T060955Z
UID:10011175-1776265200-1776267600@yokota374fss.com
SUMMARY:Karate (Ages 5-6) Wednesdays
DESCRIPTION:Wednesdays • 3:00 p.m.–3:40 p.m.\nInstructor: Kazumasa &amp; Gyoko Itaki\n$65/8 Classes\n$40/4 Classes
URL:https://yokota374fss.com/event/karate-ages-5-6-wednesdays/2026-04-15/
CATEGORIES:Natatorium
END:VEVENT
BEGIN:VEVENT
DTSTART;TZID=Asia/Tokyo:20260415T154500
DTEND;TZID=Asia/Tokyo:20260415T163500
DTSTAMP:20260421T172846
CREATED:20260303T054628Z
LAST-MODIFIED:20260303T060520Z
UID:10011070-1776267900-1776270900@yokota374fss.com
SUMMARY:Karate (Ages 7+) Wednesdays
DESCRIPTION:Wednesdays • 3:45 p.m.–4:35 p.m.\nInstructor: Kazumasa &amp; Gyoko Itaki\n$65/8 Classes\n$40/4 Classes
URL:https://yokota374fss.com/event/karate-ages-7-wednesdays/2026-04-15/
CATEGORIES:Natatorium
END:VEVENT
BEGIN:VEVENT
DTSTART;TZID=Asia/Tokyo:20260415T160000
DTEND;TZID=Asia/Tokyo:20260415T180000
DTSTAMP:20260421T172846
CREATED:20241112T015919Z
LAST-MODIFIED:20250520T022233Z
UID:10007956-1776268800-1776276000@yokota374fss.com
SUMMARY:LEGO LAB
DESCRIPTION:Wednesdays • 4-6 p.m. \nLibrary • All Ages \nCalling all Master Builders to join us in the library for an evening of building and creating until your heart’s content! \nNow with Duplo
URL:https://yokota374fss.com/event/lego-lab-2/2026-04-15/
CATEGORIES:Library
ATTACH;FMTTYPE=image/jpeg:https://yokota374fss.com/wp-content/uploads/2024/11/TN8309-LEGO-Lab_FSSTV-scaled.jpg
END:VEVENT
BEGIN:VEVENT
DTSTART;TZID=Asia/Tokyo:20260415T170000
DTEND;TZID=Asia/Tokyo:20260415T210000
DTSTAMP:20260421T172846
CREATED:20240617T034427Z
LAST-MODIFIED:20260318T005406Z
UID:10011493-1776272400-1776286800@yokota374fss.com
SUMMARY:BUTCHER’S CHOICE
DESCRIPTION:Officers’ Club Ballroom\nReservations recommended\nPrices range from $7–$26 \nEnjoy a choice of lobster\, seafood\, pork chops & steaks. Includes a salad bar and a buffet of delicious sides and desserts (free for members\, $5 for nonmembers).\nShow proof of membership and receive 15% off!
URL:https://yokota374fss.com/event/butchers-choice-3/2026-04-15/
LOCATION:Officers’ Club\, Bldg. 31\, Yokota Air Base\, Japan
CATEGORIES:Hot Events,Officer's Club,Officers-club-hot
ATTACH;FMTTYPE=image/jpeg:https://yokota374fss.com/wp-content/uploads/2024/06/TN8933-Butcherss-Choice_FSSTV_2-scaled.jpg
END:VEVENT
BEGIN:VEVENT
DTSTART;TZID=UTC:20260415T180000
DTEND;TZID=UTC:20260415T210000
DTSTAMP:20260421T172846
CREATED:20240326T232328Z
LAST-MODIFIED:20251229T064909Z
UID:10007224-1776276000-1776286800@yokota374fss.com
SUMMARY:Wednesdays: Wingman Wednesday & Trivia
DESCRIPTION:Every Wednesday at 6 p.m – 9 p.m at the Enlisted Club.
URL:https://yokota374fss.com/event/wednesday-trivia/2026-04-15/
LOCATION:Enlisted Club\, Bldg. 2066\, Yokota Air Base\, Japan
CATEGORIES:Enlisted Club
END:VEVENT
END:VCALENDAR