BEGIN:VCALENDAR
VERSION:2.0
PRODID:-//Yokota FSS - ECPv6.15.20//NONSGML v1.0//EN
CALSCALE:GREGORIAN
METHOD:PUBLISH
X-WR-CALNAME:Yokota FSS
X-ORIGINAL-URL:https://yokota374fss.com
X-WR-CALDESC:Events for Yokota FSS
REFRESH-INTERVAL;VALUE=DURATION:PT1H
X-Robots-Tag:noindex
X-PUBLISHED-TTL:PT1H
BEGIN:VTIMEZONE
TZID:Asia/Tokyo
BEGIN:STANDARD
TZOFFSETFROM:+0900
TZOFFSETTO:+0900
TZNAME:JST
DTSTART:20250101T000000
END:STANDARD
END:VTIMEZONE
BEGIN:VEVENT
DTSTART;TZID=Asia/Tokyo:20260424T130000
DTEND;TZID=Asia/Tokyo:20260424T140000
DTSTAMP:20260424T222259
CREATED:20260302T015432Z
LAST-MODIFIED:20260302T015432Z
UID:10010640-1777035600-1777039200@yokota374fss.com
SUMMARY:Animal Flow
DESCRIPTION:Fridays • 1 p.m.–2 p.m.\nInstructor: Ladonna Spivey\n$50/8 Classes\n$30/4 Classes\n$8 Walk In
URL:https://yokota374fss.com/event/animal-flow/2026-04-24/
CATEGORIES:Natatorium
END:VEVENT
BEGIN:VEVENT
DTSTART;TZID=Asia/Tokyo:20260424T150000
DTEND;TZID=Asia/Tokyo:20260424T154000
DTSTAMP:20260424T222259
CREATED:20260303T054801Z
LAST-MODIFIED:20260303T061205Z
UID:10011229-1777042800-1777045200@yokota374fss.com
SUMMARY:Karate (Ages 5-6) Fridays
DESCRIPTION:Fridays • 3:00 p.m.–3:40 p.m.\nInstructor: Kazumasa &amp; Gyoko Itaki\n$65/8 Classes\n$40/4 Classes
URL:https://yokota374fss.com/event/karate-ages-5-6-fridays/2026-04-24/
CATEGORIES:Natatorium
END:VEVENT
BEGIN:VEVENT
DTSTART;TZID=Asia/Tokyo:20260424T154500
DTEND;TZID=Asia/Tokyo:20260424T163500
DTSTAMP:20260424T222259
CREATED:20260303T060701Z
LAST-MODIFIED:20260303T060701Z
UID:10011124-1777045500-1777048500@yokota374fss.com
SUMMARY:Karate (Ages 7+) Fridays
DESCRIPTION:Fridays • 3:45 p.m.–4:35 p.m.\nInstructor: Kazumasa &amp; Gyoko Itaki\n$65/8 Classes
URL:https://yokota374fss.com/event/karate-ages-7-fridays/2026-04-24/
CATEGORIES:Natatorium
END:VEVENT
BEGIN:VEVENT
DTSTART;TZID=Asia/Tokyo:20260424T170000
DTEND;TZID=Asia/Tokyo:20260424T200000
DTSTAMP:20260424T222259
CREATED:20260403T002255Z
LAST-MODIFIED:20260403T072402Z
UID:10011746-1777050000-1777060800@yokota374fss.com
SUMMARY:SPRING SIP & SAVOR
DESCRIPTION:Fri • 24 Apr • 5-8 p.m.\nOfficers’ Club• $25* • Ages 20 & up\n*Members get $5 off! \nJoin us for this sampling event\, in collaboration with AAFES.\nEnjoy a giveaway\, wines\, liquors\, and spirits including sake!\nAlong with tasty drinks\, enjoy an arrangement of appetizers\, desserts\, and action stations!
URL:https://yokota374fss.com/event/spring-sip-savor/
CATEGORIES:Hot Events,Officer's Club,Officers-club-hot
ATTACH;FMTTYPE=image/jpeg:https://yokota374fss.com/wp-content/uploads/2026/04/TN10141-Spring-Sip-Savor_FSSTV-1-scaled.jpg
END:VEVENT
BEGIN:VEVENT
DTSTART;TZID=Asia/Tokyo:20260424T180000
DTEND;TZID=Asia/Tokyo:20260424T200000
DTSTAMP:20260424T222259
CREATED:20260127T075214Z
LAST-MODIFIED:20260127T075214Z
UID:10010182-1777053600-1777060800@yokota374fss.com
SUMMARY:TAMA HILLS GAMES & MOVIE NIGHT
DESCRIPTION:Fridays & Saturdays • 6-8 p.m.\nEnds: Sat • 28 Feb\nTama Hills Golf & Resort • Free • All Ages \nWe are now opening our conference room where children’s movies will be played\, and games will be provided.\nPopcorn can be purchased at the Tama Lodge Store.\n*Availability depends on conference room reservations.
URL:https://yokota374fss.com/event/tama-hills-games-movie-night/2026-04-24/
CATEGORIES:Tama Hills Recreation
END:VEVENT
BEGIN:VEVENT
DTSTART;TZID=Asia/Tokyo:20260424T180000
DTEND;TZID=Asia/Tokyo:20260424T220000
DTSTAMP:20260424T222259
CREATED:20241217T071643Z
LAST-MODIFIED:20251229T065844Z
UID:10007271-1777053600-1777068000@yokota374fss.com
SUMMARY:Fridays: Karaoke
DESCRIPTION:Every Friday at 6 p.m – 10 p.m at the Enlisted Club.
URL:https://yokota374fss.com/event/fridays-karaoke/2026-04-24/
CATEGORIES:Enlisted Club
ATTACH;FMTTYPE=image/jpeg:https://yokota374fss.com/wp-content/uploads/2024/03/thinkstockphotos-498654816.jpg
END:VEVENT
BEGIN:VEVENT
DTSTART;TZID=Asia/Tokyo:20260424T200000
DTEND;TZID=Asia/Tokyo:20260424T230000
DTSTAMP:20260424T222259
CREATED:20260401T032951Z
LAST-MODIFIED:20260401T032951Z
UID:10011589-1777060800-1777071600@yokota374fss.com
SUMMARY:ROCK-N-BOWL
DESCRIPTION:Fridays & Saturdays • 8–11 p.m.\nTomodachi Lanes • $16/person • All Ages \nCome by our weekly bowling event!
URL:https://yokota374fss.com/event/rock-n-bowl/2026-04-24/
CATEGORIES:Tomodachi Lanes
ATTACH;FMTTYPE=image/jpeg:https://yokota374fss.com/wp-content/uploads/2026/04/TN2809-Rock-n-Bowl-TV.jpg
END:VEVENT
BEGIN:VEVENT
DTSTART;TZID=Asia/Tokyo:20260424T203000
DTEND;TZID=Asia/Tokyo:20260425T063000
DTSTAMP:20260424T222259
CREATED:20260403T063105Z
LAST-MODIFIED:20260403T063437Z
UID:10011747-1777062600-1777098600@yokota374fss.com
SUMMARY:LOCK-IN: OPERATION MEGAPHONE 2026
DESCRIPTION:Fri-Sat • 24-25 Apr\n8:30 p.m.-6:30 a.m.\nTeen Center • Ages 13-18*\nMembers: $25\nNonmembers: $30 \nFor more information\, please call 225-6793 or email 374fss.fsy.teencenter@us.af.mil\n*18-year-olds must be enrolled in high school \nAnother year\, another Operation Megaphone! This month\, we are celebrating the strength and resilience of the military child. Come one\, come all teens to build friendships\, connections\, and confidence! Make sure to register through CYPBMS to sign up.\nFor more information\, please call 225-6793 or email 374fss.fsy.teencenter@us.af.mil\n*18-year-olds must be enrolled in high school
URL:https://yokota374fss.com/event/lock-in-operation-megaphone-2026/
CATEGORIES:Hot Events,Teen Center
ATTACH;FMTTYPE=image/jpeg:https://yokota374fss.com/wp-content/uploads/2026/04/TN10076-Operation-Megaphone-26_FSSTV-scaled.jpg
END:VEVENT
END:VCALENDAR