BEGIN:VCALENDAR
VERSION:2.0
PRODID:-//Yokota FSS - ECPv6.15.20//NONSGML v1.0//EN
CALSCALE:GREGORIAN
METHOD:PUBLISH
X-WR-CALNAME:Yokota FSS
X-ORIGINAL-URL:https://yokota374fss.com
X-WR-CALDESC:Events for Yokota FSS
REFRESH-INTERVAL;VALUE=DURATION:PT1H
X-Robots-Tag:noindex
X-PUBLISHED-TTL:PT1H
BEGIN:VTIMEZONE
TZID:Asia/Tokyo
BEGIN:STANDARD
TZOFFSETFROM:+0900
TZOFFSETTO:+0900
TZNAME:JST
DTSTART:20250101T000000
END:STANDARD
END:VTIMEZONE
BEGIN:VEVENT
DTSTART;TZID=Asia/Tokyo:20260424T203000
DTEND;TZID=Asia/Tokyo:20260425T063000
DTSTAMP:20260425T055201
CREATED:20260403T063105Z
LAST-MODIFIED:20260403T063437Z
UID:10011747-1777062600-1777098600@yokota374fss.com
SUMMARY:LOCK-IN: OPERATION MEGAPHONE 2026
DESCRIPTION:Fri-Sat • 24-25 Apr\n8:30 p.m.-6:30 a.m.\nTeen Center • Ages 13-18*\nMembers: $25\nNonmembers: $30 \nFor more information\, please call 225-6793 or email 374fss.fsy.teencenter@us.af.mil\n*18-year-olds must be enrolled in high school \nAnother year\, another Operation Megaphone! This month\, we are celebrating the strength and resilience of the military child. Come one\, come all teens to build friendships\, connections\, and confidence! Make sure to register through CYPBMS to sign up.\nFor more information\, please call 225-6793 or email 374fss.fsy.teencenter@us.af.mil\n*18-year-olds must be enrolled in high school
URL:https://yokota374fss.com/event/lock-in-operation-megaphone-2026/
CATEGORIES:Hot Events,Teen Center
ATTACH;FMTTYPE=image/jpeg:https://yokota374fss.com/wp-content/uploads/2026/04/TN10076-Operation-Megaphone-26_FSSTV-scaled.jpg
END:VEVENT
BEGIN:VEVENT
DTSTART;TZID=Asia/Tokyo:20260425T104000
DTEND;TZID=Asia/Tokyo:20260425T113000
DTSTAMP:20260425T055201
CREATED:20260303T071358Z
LAST-MODIFIED:20260303T071358Z
UID:10011281-1777113600-1777116600@yokota374fss.com
SUMMARY:Karate (Ages 14+)
DESCRIPTION:Saturdays • 10:40 a.m.–11:30 a.m.\nInstructor: Kazumasa &amp; Gyoko Itaki\n$65/8 Classes\n$40/4 Classes
URL:https://yokota374fss.com/event/karate-ages-14/2026-04-25/
CATEGORIES:Natatorium
END:VEVENT
BEGIN:VEVENT
DTSTART;TZID=Asia/Tokyo:20260425T160000
DTEND;TZID=Asia/Tokyo:20260425T170000
DTSTAMP:20260425T055201
CREATED:20251208T072929Z
LAST-MODIFIED:20251208T072929Z
UID:10009878-1777132800-1777136400@yokota374fss.com
SUMMARY:SENSORY HOUR
DESCRIPTION:Saturdays • 4-5 P.M. \nLIBRARY – FREE • ALL AGES \nRoom 1\nSensory Playtime\nRoom 2\nSensory Room\n(available as needed) \nJoin us for a special hour with sensory friendly toys and activities. All ages and families are welcome in this space.
URL:https://yokota374fss.com/event/sensory-hour/2026-04-25/
CATEGORIES:Library
ATTACH;FMTTYPE=image/jpeg:https://yokota374fss.com/wp-content/uploads/2025/12/TN9617-Sensory-Hour_FSSTV-scaled.jpg
END:VEVENT
BEGIN:VEVENT
DTSTART;TZID=Asia/Tokyo:20260425T170000
DTEND;TZID=Asia/Tokyo:20260425T220000
DTSTAMP:20260425T055201
CREATED:20240619T234517Z
LAST-MODIFIED:20251001T030003Z
UID:10009104-1777136400-1777154400@yokota374fss.com
SUMMARY:Saturday Karaoke Night
DESCRIPTION:Karaoke Night\nEvery Saturday • 5–10 p.m\nOfficer’s Club • FREE • Ages 18 & up \n 
URL:https://yokota374fss.com/event/karaoke-pizza-night/2026-04-25/
LOCATION:Officers’ Club\, Bldg. 31\, Yokota Air Base\, Japan
CATEGORIES:Officer's Club
ATTACH;FMTTYPE=image/jpeg:https://yokota374fss.com/wp-content/uploads/2024/07/TN8094-Karaoke-Night_FSSTV-01-1-scaled.jpg
END:VEVENT
BEGIN:VEVENT
DTSTART;TZID=Asia/Tokyo:20260425T180000
DTEND;TZID=Asia/Tokyo:20260425T200000
DTSTAMP:20260425T055201
CREATED:20260127T075214Z
LAST-MODIFIED:20260127T075214Z
UID:10010183-1777140000-1777147200@yokota374fss.com
SUMMARY:TAMA HILLS GAMES & MOVIE NIGHT
DESCRIPTION:Fridays & Saturdays • 6-8 p.m.\nEnds: Sat • 28 Feb\nTama Hills Golf & Resort • Free • All Ages \nWe are now opening our conference room where children’s movies will be played\, and games will be provided.\nPopcorn can be purchased at the Tama Lodge Store.\n*Availability depends on conference room reservations.
URL:https://yokota374fss.com/event/tama-hills-games-movie-night/2026-04-25/
CATEGORIES:Tama Hills Recreation
END:VEVENT
BEGIN:VEVENT
DTSTART;TZID=Asia/Tokyo:20260425T200000
DTEND;TZID=Asia/Tokyo:20260425T230000
DTSTAMP:20260425T055201
CREATED:20260401T032951Z
LAST-MODIFIED:20260401T032951Z
UID:10011590-1777147200-1777158000@yokota374fss.com
SUMMARY:ROCK-N-BOWL
DESCRIPTION:Fridays & Saturdays • 8–11 p.m.\nTomodachi Lanes • $16/person • All Ages \nCome by our weekly bowling event!
URL:https://yokota374fss.com/event/rock-n-bowl/2026-04-25/
CATEGORIES:Tomodachi Lanes
ATTACH;FMTTYPE=image/jpeg:https://yokota374fss.com/wp-content/uploads/2026/04/TN2809-Rock-n-Bowl-TV.jpg
END:VEVENT
END:VCALENDAR