BEGIN:VCALENDAR
VERSION:2.0
PRODID:-//Yokota FSS - ECPv6.15.20//NONSGML v1.0//EN
CALSCALE:GREGORIAN
METHOD:PUBLISH
X-WR-CALNAME:Yokota FSS
X-ORIGINAL-URL:https://yokota374fss.com
X-WR-CALDESC:Events for Yokota FSS
REFRESH-INTERVAL;VALUE=DURATION:PT1H
X-Robots-Tag:noindex
X-PUBLISHED-TTL:PT1H
BEGIN:VTIMEZONE
TZID:Asia/Tokyo
BEGIN:STANDARD
TZOFFSETFROM:+0900
TZOFFSETTO:+0900
TZNAME:JST
DTSTART:20250101T000000
END:STANDARD
END:VTIMEZONE
BEGIN:VTIMEZONE
TZID:UTC
BEGIN:STANDARD
TZOFFSETFROM:+0000
TZOFFSETTO:+0000
TZNAME:UTC
DTSTART:20250101T000000
END:STANDARD
END:VTIMEZONE
BEGIN:VEVENT
DTSTART;VALUE=DATE:20260330
DTEND;VALUE=DATE:20260331
DTSTAMP:20260421T215807
CREATED:20250321T051136Z
LAST-MODIFIED:20250516T020009Z
UID:10007516-1774828800-1774915199@yokota374fss.com
SUMMARY:BEGINNER BOWLING CLASS
DESCRIPTION:Mondays starting 2 Jun • 5-7 p.m.\nTomodachi Lanes • $15 • All Ages \nGet beginner-training from our resident pro\, Takashi Kudoh. Classes will be 2 hours long\, where you can learn the basics to get started in bowling! Bowlers do not need their own equipment to participate.\n*No end date
URL:https://yokota374fss.com/event/beginner-bowling-class/2026-03-30/
CATEGORIES:Tomodachi Lanes
ATTACH;FMTTYPE=image/jpeg:https://yokota374fss.com/wp-content/uploads/2025/03/TN8903-Biginner-Bowling-Class-FSSTV.jpg
END:VEVENT
BEGIN:VEVENT
DTSTART;TZID=Asia/Tokyo:20260330T080000
DTEND;TZID=Asia/Tokyo:20260330T160000
DTSTAMP:20260421T215807
CREATED:20250930T052324Z
LAST-MODIFIED:20260310T045131Z
UID:10010104-1774857600-1774886400@yokota374fss.com
SUMMARY:TAP/C2E Track
DESCRIPTION:
URL:https://yokota374fss.com/event/tap-c2e-track/2026-03-30/
CATEGORIES:M&FRC
END:VEVENT
BEGIN:VEVENT
DTSTART;TZID=Asia/Tokyo:20260331T080000
DTEND;TZID=Asia/Tokyo:20260331T160000
DTSTAMP:20260421T215807
CREATED:20250930T052324Z
LAST-MODIFIED:20260310T045131Z
UID:10010105-1774944000-1774972800@yokota374fss.com
SUMMARY:TAP/C2E Track
DESCRIPTION:
URL:https://yokota374fss.com/event/tap-c2e-track/2026-03-31/
CATEGORIES:M&FRC
END:VEVENT
BEGIN:VEVENT
DTSTART;TZID=Asia/Tokyo:20260331T103000
DTEND;TZID=Asia/Tokyo:20260331T233000
DTSTAMP:20260421T215807
CREATED:20260227T072717Z
LAST-MODIFIED:20260402T065125Z
UID:10011693-1774953000-1774999800@yokota374fss.com
SUMMARY:Story Time
DESCRIPTION:
URL:https://yokota374fss.com/event/story-time/2026-03-31/
CATEGORIES:Library
ATTACH;FMTTYPE=image/jpeg:https://yokota374fss.com/wp-content/uploads/2026/02/storytime.jpg
END:VEVENT
BEGIN:VEVENT
DTSTART;TZID=Asia/Tokyo:20260331T140000
DTEND;TZID=Asia/Tokyo:20260331T160000
DTSTAMP:20260421T215807
CREATED:20250922T013852Z
LAST-MODIFIED:20250922T070118Z
UID:10008193-1774965600-1774972800@yokota374fss.com
SUMMARY:SENSORY FRIENDLY LEGO LAB
DESCRIPTION:Tuesdays • 2-4 p.m.\nLibrary • Free • All Ages \nJoin us for a special sensory Lego playtime.\nAll ages and families are welcome in this space.
URL:https://yokota374fss.com/event/sensory-friendly-lego-lab/2026-03-31/
CATEGORIES:Library
ATTACH;FMTTYPE=image/jpeg:https://yokota374fss.com/wp-content/uploads/2025/09/TN9610-EFMP-Friendly-Lego-Lab_FSSTV-scaled.jpg
END:VEVENT
BEGIN:VEVENT
DTSTART;TZID=Asia/Tokyo:20260331T140000
DTEND;TZID=Asia/Tokyo:20260331T160000
DTSTAMP:20260421T215807
CREATED:20260108T064057Z
LAST-MODIFIED:20260108T065242Z
UID:10010114-1774965600-1774972800@yokota374fss.com
SUMMARY:EFMP + Friends Edu. Workshop
DESCRIPTION:
URL:https://yokota374fss.com/event/efmp-friends-edu-workshop/2026-03-31/
END:VEVENT
BEGIN:VEVENT
DTSTART;TZID=Asia/Tokyo:20260331T140000
DTEND;TZID=Asia/Tokyo:20260331T160000
DTSTAMP:20260421T215807
CREATED:20260223T040235Z
LAST-MODIFIED:20260311T050403Z
UID:10010497-1774965600-1774972800@yokota374fss.com
SUMMARY:EFMP + Friends Edu. Workshop
DESCRIPTION:Library Classroom
URL:https://yokota374fss.com/event/efmp-friends-edu-wksp/2026-03-31/
CATEGORIES:M&FRC
END:VEVENT
BEGIN:VEVENT
DTSTART;TZID=Asia/Tokyo:20260331T153000
DTEND;TZID=Asia/Tokyo:20260331T161500
DTSTAMP:20260421T215807
CREATED:20260302T023016Z
LAST-MODIFIED:20260303T044729Z
UID:10010743-1774971000-1774973700@yokota374fss.com
SUMMARY:Hip Hop Tots
DESCRIPTION:Tuesdays • 3:30 p.m.–4:15 p.m.\nAges 3-6\nInstructor: Ami Ishida\n$45
URL:https://yokota374fss.com/event/hip-hop-tots/2026-03-31/
CATEGORIES:Natatorium
END:VEVENT
BEGIN:VEVENT
DTSTART;TZID=Asia/Tokyo:20260331T163000
DTEND;TZID=Asia/Tokyo:20260331T173000
DTSTAMP:20260421T215807
CREATED:20260302T021328Z
LAST-MODIFIED:20260302T021328Z
UID:10010690-1774974600-1774978200@yokota374fss.com
SUMMARY:Hip Hop Tiny Groovers
DESCRIPTION:Tuesdays • 4:30 p.m.–5:30 p.m.\nAges 6-11\nInstructor: Ami Ishida\n$55
URL:https://yokota374fss.com/event/hip-hop-tiny-groovers/2026-03-31/
CATEGORIES:Natatorium
END:VEVENT
BEGIN:VEVENT
DTSTART;TZID=Asia/Tokyo:20260331T174500
DTEND;TZID=Asia/Tokyo:20260331T184500
DTSTAMP:20260421T215807
CREATED:20260302T014505Z
LAST-MODIFIED:20260302T014505Z
UID:10010584-1774979100-1774982700@yokota374fss.com
SUMMARY:Pound
DESCRIPTION:Tuesdays • 5:45 p.m.–6:45 p.m.\nInstructor: Arisa Suda\n$50/8 Classes\n$30/4 Classes\n$8 Walk In
URL:https://yokota374fss.com/event/pound/2026-03-31/
CATEGORIES:Natatorium
END:VEVENT
BEGIN:VEVENT
DTSTART;TZID=Asia/Tokyo:20260401T070000
DTEND;TZID=Asia/Tokyo:20260401T090000
DTSTAMP:20260421T215807
CREATED:20260302T044518Z
LAST-MODIFIED:20260302T044650Z
UID:10010792-1775026800-1775034000@yokota374fss.com
SUMMARY:QUARTERLY MEMBERSHIP BREAKFAST
DESCRIPTION:Wed • 1 Apr • 7-9 a.m.\nAll Ranks\nEnlisted Club Ohsawa Ballroom\nShow your club card and receive a complimentary breakfast buffet!
URL:https://yokota374fss.com/event/quarterly-membership-breakfast/
CATEGORIES:Enlisted Club,Enlisted Club Hot,Hot Events
ATTACH;FMTTYPE=image/jpeg:https://yokota374fss.com/wp-content/uploads/2026/03/TN9988-Membership-Breakfast-Apr-26-FSSTV-scaled.jpg
END:VEVENT
BEGIN:VEVENT
DTSTART;TZID=Asia/Tokyo:20260401T080000
DTEND;TZID=Asia/Tokyo:20260401T143000
DTSTAMP:20260421T215807
CREATED:20260108T013124Z
LAST-MODIFIED:20260223T000107Z
UID:10010439-1775030400-1775053800@yokota374fss.com
SUMMARY:Newcomers’ Orientation
DESCRIPTION:
URL:https://yokota374fss.com/event/newcomers-orientation-2/2026-04-01/
CATEGORIES:M&FRC
END:VEVENT
BEGIN:VEVENT
DTSTART;TZID=Asia/Tokyo:20260401T093000
DTEND;TZID=Asia/Tokyo:20260401T223000
DTSTAMP:20260421T215807
CREATED:20260303T051025Z
LAST-MODIFIED:20260303T071800Z
UID:10010803-1775035800-1775082600@yokota374fss.com
SUMMARY:Yoga Rise N Shine
DESCRIPTION:Wednesdays • 9:30 a.m.–10:30 p.m.\nInstructor: Jaqueline Goodwin\n$40/8 Classes\n$24/4 Classes\n$7 Walk In
URL:https://yokota374fss.com/event/hatha-rise-n-shine/2026-04-01/
CATEGORIES:Natatorium
END:VEVENT
BEGIN:VEVENT
DTSTART;TZID=Asia/Tokyo:20260401T150000
DTEND;TZID=Asia/Tokyo:20260401T154000
DTSTAMP:20260421T215807
CREATED:20260303T060826Z
LAST-MODIFIED:20260303T060955Z
UID:10011173-1775055600-1775058000@yokota374fss.com
SUMMARY:Karate (Ages 5-6) Wednesdays
DESCRIPTION:Wednesdays • 3:00 p.m.–3:40 p.m.\nInstructor: Kazumasa &amp; Gyoko Itaki\n$65/8 Classes\n$40/4 Classes
URL:https://yokota374fss.com/event/karate-ages-5-6-wednesdays/2026-04-01/
CATEGORIES:Natatorium
END:VEVENT
BEGIN:VEVENT
DTSTART;TZID=Asia/Tokyo:20260401T154500
DTEND;TZID=Asia/Tokyo:20260401T163500
DTSTAMP:20260421T215807
CREATED:20260303T054628Z
LAST-MODIFIED:20260303T060520Z
UID:10011068-1775058300-1775061300@yokota374fss.com
SUMMARY:Karate (Ages 7+) Wednesdays
DESCRIPTION:Wednesdays • 3:45 p.m.–4:35 p.m.\nInstructor: Kazumasa &amp; Gyoko Itaki\n$65/8 Classes\n$40/4 Classes
URL:https://yokota374fss.com/event/karate-ages-7-wednesdays/2026-04-01/
CATEGORIES:Natatorium
END:VEVENT
BEGIN:VEVENT
DTSTART;TZID=Asia/Tokyo:20260401T160000
DTEND;TZID=Asia/Tokyo:20260401T180000
DTSTAMP:20260421T215807
CREATED:20241112T015919Z
LAST-MODIFIED:20250520T022233Z
UID:10007954-1775059200-1775066400@yokota374fss.com
SUMMARY:LEGO LAB
DESCRIPTION:Wednesdays • 4-6 p.m. \nLibrary • All Ages \nCalling all Master Builders to join us in the library for an evening of building and creating until your heart’s content! \nNow with Duplo
URL:https://yokota374fss.com/event/lego-lab-2/2026-04-01/
CATEGORIES:Library
ATTACH;FMTTYPE=image/jpeg:https://yokota374fss.com/wp-content/uploads/2024/11/TN8309-LEGO-Lab_FSSTV-scaled.jpg
END:VEVENT
BEGIN:VEVENT
DTSTART;TZID=Asia/Tokyo:20260401T170000
DTEND;TZID=Asia/Tokyo:20260401T210000
DTSTAMP:20260421T215807
CREATED:20260227T075101Z
LAST-MODIFIED:20260331T083714Z
UID:10010574-1775062800-1775077200@yokota374fss.com
SUMMARY:STATE ADMISSION DAY
DESCRIPTION:Wed • 1 Apr • 5-9 p.m. \nCharlie T’s & Chico’s Chop House \nLouisiana & Maryland \nShow your driver’s license along with your AF Club Card to our cashier\, and receive a free dinner up to a $10 value.
URL:https://yokota374fss.com/event/state-admission-day/
CATEGORIES:Enlisted Club,Officer's Club
END:VEVENT
BEGIN:VEVENT
DTSTART;TZID=UTC:20260401T180000
DTEND;TZID=UTC:20260401T210000
DTSTAMP:20260421T215807
CREATED:20240326T232328Z
LAST-MODIFIED:20251229T064909Z
UID:10007198-1775066400-1775077200@yokota374fss.com
SUMMARY:Wednesdays: Wingman Wednesday & Trivia
DESCRIPTION:Every Wednesday at 6 p.m – 9 p.m at the Enlisted Club.
URL:https://yokota374fss.com/event/wednesday-trivia/2026-04-01/
LOCATION:Enlisted Club\, Bldg. 2066\, Yokota Air Base\, Japan
CATEGORIES:Enlisted Club
END:VEVENT
BEGIN:VEVENT
DTSTART;TZID=Asia/Tokyo:20260402T080000
DTEND;TZID=Asia/Tokyo:20260402T090000
DTSTAMP:20260421T215807
CREATED:20260223T022950Z
LAST-MODIFIED:20260310T040724Z
UID:10011352-1775116800-1775120400@yokota374fss.com
SUMMARY:Pre-Arrival Orientation
DESCRIPTION:
URL:https://yokota374fss.com/event/pre-arrival-orientation-2/2026-04-02/
CATEGORIES:M&FRC
END:VEVENT
BEGIN:VEVENT
DTSTART;TZID=Asia/Tokyo:20260402T150000
DTEND;TZID=Asia/Tokyo:20260402T160000
DTSTAMP:20260421T215807
CREATED:20260223T035426Z
LAST-MODIFIED:20260309T005711Z
UID:10011353-1775142000-1775145600@yokota374fss.com
SUMMARY:EFMP Edu. Workshop
DESCRIPTION:
URL:https://yokota374fss.com/event/efmp-edu-workshop-2/2026-04-02/
CATEGORIES:M&FRC
END:VEVENT
BEGIN:VEVENT
DTSTART;TZID=Asia/Tokyo:20260402T160000
DTEND;TZID=Asia/Tokyo:20260402T190000
DTSTAMP:20260421T215807
CREATED:20260306T064935Z
LAST-MODIFIED:20260306T064935Z
UID:10011336-1775145600-1775156400@yokota374fss.com
SUMMARY:MUSIC IN THE PARK
DESCRIPTION:Thu • 2 Apr • 4-7 p.m.\nSakura Shell • Free • All Ages \nCome out to the East Side and enjoy live music\, a beverage cart\, family activities\, and so much more!
URL:https://yokota374fss.com/event/music-in-the-park/
CATEGORIES:Community Center,Hot Events
ATTACH;FMTTYPE=image/jpeg:https://yokota374fss.com/wp-content/uploads/2026/03/TN10057-Music-in-the-Park-FSSTV.jpg
END:VEVENT
BEGIN:VEVENT
DTSTART;TZID=Asia/Tokyo:20260402T173000
DTEND;TZID=Asia/Tokyo:20260402T182000
DTSTAMP:20260421T215807
CREATED:20260313T061246Z
LAST-MODIFIED:20260313T061246Z
UID:10011436-1775151000-1775154000@yokota374fss.com
SUMMARY:ADULT'S HIP HOP DANCE CLASS
DESCRIPTION:Thu • 5:30-6:20 p.m.\nTaiyo Community Center • Ages 18 & Up \n$50/student • 4 lessons/month
URL:https://yokota374fss.com/event/adults-hip-hop-dance-class/2026-04-02/
CATEGORIES:Community Center Class
ATTACH;FMTTYPE=image/jpeg:https://yokota374fss.com/wp-content/uploads/2026/03/TN10072-Hip-Hop-for-Adults-start-FSSTV.jpg
END:VEVENT
BEGIN:VEVENT
DTSTART;TZID=UTC:20260402T180000
DTEND;TZID=UTC:20260402T203000
DTSTAMP:20260421T215807
CREATED:20240326T233835Z
LAST-MODIFIED:20251229T065346Z
UID:10007203-1775152800-1775161800@yokota374fss.com
SUMMARY:Thursday Trivia Night
DESCRIPTION:Trivia NightEvery Thursdays • 6–8:30 p.m  • Officer’s ClubCome join us for Thursday Trivia Night!   \n 
URL:https://yokota374fss.com/event/thursday-night-trivia/2026-04-02/
LOCATION:Officers’ Club\, Bldg. 31\, Yokota Air Base\, Japan
CATEGORIES:Air Force Clubs,Officer's Club
ATTACH;FMTTYPE=image/jpeg:https://yokota374fss.com/wp-content/uploads/2024/03/trivia-night-e1719381332921.jpg
END:VEVENT
BEGIN:VEVENT
DTSTART;TZID=Asia/Tokyo:20260402T180000
DTEND;TZID=Asia/Tokyo:20260402T220000
DTSTAMP:20260421T215807
CREATED:20241217T071541Z
LAST-MODIFIED:20251229T070455Z
UID:10007202-1775152800-1775167200@yokota374fss.com
SUMMARY:Thursdays: Texas Hold 'Em
DESCRIPTION:Every Thursday at 6 p.m – 10 p.m at the Enlisted Club.
URL:https://yokota374fss.com/event/thursdays-texas-hold-em/2026-04-02/
CATEGORIES:Enlisted Club
ATTACH;FMTTYPE=image/jpeg:https://yokota374fss.com/wp-content/uploads/2024/03/GettyImages-868865266-scaled-1.jpg
END:VEVENT
BEGIN:VEVENT
DTSTART;VALUE=DATE:20260403
DTEND;VALUE=DATE:20260406
DTSTAMP:20260421T215807
CREATED:20260218T071036Z
LAST-MODIFIED:20260218T071123Z
UID:10010420-1775174400-1775433599@yokota374fss.com
SUMMARY:EASTER WEEKEND: BUY2 NIGHTS GET 1 FREE
DESCRIPTION:Buy 2 Nights Get 1 Free\nYour stay\, your choice!\nRoom/Cabin package deal\nFri-Sun • 3-5 Apr \nOption 1: The Sleep-in\nEnjoy a lazy Sunday morning with a late checkout. No need to rush\, the day is yours! \nOption 2:The Extra Night\nStay another night\, on us! Your stay on Sunday night\, completely free. \nBook Friday & Saturday night in any room or cabin and receive the next night\, Sunday\, on us!\nTake advantage of all that Tama Hills has to offer and book now before we’re full! \nCall DSN 227-5230 or JP: 042-377-7009 for reservations.
URL:https://yokota374fss.com/event/easter-weekend/
CATEGORIES:Hot Events,Tama Hot Events
ATTACH;FMTTYPE=image/jpeg:https://yokota374fss.com/wp-content/uploads/2026/02/TN9924-easter-TV.jpg
END:VEVENT
BEGIN:VEVENT
DTSTART;TZID=Asia/Tokyo:20260403T130000
DTEND;TZID=Asia/Tokyo:20260403T140000
DTSTAMP:20260421T215807
CREATED:20260302T015432Z
LAST-MODIFIED:20260302T015432Z
UID:10010637-1775221200-1775224800@yokota374fss.com
SUMMARY:Animal Flow
DESCRIPTION:Fridays • 1 p.m.–2 p.m.\nInstructor: Ladonna Spivey\n$50/8 Classes\n$30/4 Classes\n$8 Walk In
URL:https://yokota374fss.com/event/animal-flow/2026-04-03/
CATEGORIES:Natatorium
END:VEVENT
BEGIN:VEVENT
DTSTART;TZID=Asia/Tokyo:20260403T150000
DTEND;TZID=Asia/Tokyo:20260403T154000
DTSTAMP:20260421T215807
CREATED:20260303T054801Z
LAST-MODIFIED:20260303T061205Z
UID:10011226-1775228400-1775230800@yokota374fss.com
SUMMARY:Karate (Ages 5-6) Fridays
DESCRIPTION:Fridays • 3:00 p.m.–3:40 p.m.\nInstructor: Kazumasa &amp; Gyoko Itaki\n$65/8 Classes\n$40/4 Classes
URL:https://yokota374fss.com/event/karate-ages-5-6-fridays/2026-04-03/
CATEGORIES:Natatorium
END:VEVENT
BEGIN:VEVENT
DTSTART;TZID=Asia/Tokyo:20260403T150000
DTEND;TZID=Asia/Tokyo:20260403T160000
DTSTAMP:20260421T215807
CREATED:20260309T010009Z
LAST-MODIFIED:20260310T052640Z
UID:10011354-1775228400-1775232000@yokota374fss.com
SUMMARY:EFMP + Friends Sensory Play
DESCRIPTION:
URL:https://yokota374fss.com/event/efmp-friends-sensory-play/2026-04-03/
CATEGORIES:M&FRC
END:VEVENT
BEGIN:VEVENT
DTSTART;TZID=Asia/Tokyo:20260403T154500
DTEND;TZID=Asia/Tokyo:20260403T163500
DTSTAMP:20260421T215807
CREATED:20260303T060701Z
LAST-MODIFIED:20260303T060701Z
UID:10011121-1775231100-1775234100@yokota374fss.com
SUMMARY:Karate (Ages 7+) Fridays
DESCRIPTION:Fridays • 3:45 p.m.–4:35 p.m.\nInstructor: Kazumasa &amp; Gyoko Itaki\n$65/8 Classes
URL:https://yokota374fss.com/event/karate-ages-7-fridays/2026-04-03/
CATEGORIES:Natatorium
END:VEVENT
BEGIN:VEVENT
DTSTART;TZID=UTC:20260403T170000
DTEND;TZID=UTC:20260403T190000
DTSTAMP:20260421T215807
CREATED:20240326T234408Z
LAST-MODIFIED:20260206T082423Z
UID:10007393-1775235600-1775242800@yokota374fss.com
SUMMARY:Friday Social Hour
DESCRIPTION:Social Hour Every Friday • 5–7 p.m • Samurai LoungeOfficer Personnel & Families • Adults OnlySocialize with friends\, enjoy our expansive hors d’oeuvres\, and drink specials. Have a chance to win one of the weekly progressive drawings and progressive jackpots! 
URL:https://yokota374fss.com/event/friday-social-hour-2/2026-04-03/
LOCATION:Officers’ Club\, Bldg. 31\, Yokota Air Base\, Japan
CATEGORIES:Air Force Clubs,Officer's Club
ATTACH;FMTTYPE=image/jpeg:https://yokota374fss.com/wp-content/uploads/2024/03/GettyImages-955942630-scaled-1-e1719381448821.jpg
END:VEVENT
END:VCALENDAR