BEGIN:VCALENDAR
VERSION:2.0
PRODID:-//Yokota FSS - ECPv6.15.20//NONSGML v1.0//EN
CALSCALE:GREGORIAN
METHOD:PUBLISH
X-WR-CALNAME:Yokota FSS
X-ORIGINAL-URL:https://yokota374fss.com
X-WR-CALDESC:Events for Yokota FSS
REFRESH-INTERVAL;VALUE=DURATION:PT1H
X-Robots-Tag:noindex
X-PUBLISHED-TTL:PT1H
BEGIN:VTIMEZONE
TZID:Asia/Tokyo
BEGIN:STANDARD
TZOFFSETFROM:+0900
TZOFFSETTO:+0900
TZNAME:JST
DTSTART:20250101T000000
END:STANDARD
END:VTIMEZONE
BEGIN:VEVENT
DTSTART;TZID=Asia/Tokyo:20260425T160000
DTEND;TZID=Asia/Tokyo:20260425T170000
DTSTAMP:20260425T000300
CREATED:20251208T072929Z
LAST-MODIFIED:20251208T072929Z
UID:10009878-1777132800-1777136400@yokota374fss.com
SUMMARY:SENSORY HOUR
DESCRIPTION:Saturdays • 4-5 P.M. \nLIBRARY – FREE • ALL AGES \nRoom 1\nSensory Playtime\nRoom 2\nSensory Room\n(available as needed) \nJoin us for a special hour with sensory friendly toys and activities. All ages and families are welcome in this space.
URL:https://yokota374fss.com/event/sensory-hour/2026-04-25/
CATEGORIES:Library
ATTACH;FMTTYPE=image/jpeg:https://yokota374fss.com/wp-content/uploads/2025/12/TN9617-Sensory-Hour_FSSTV-scaled.jpg
END:VEVENT
BEGIN:VEVENT
DTSTART;TZID=Asia/Tokyo:20260502T160000
DTEND;TZID=Asia/Tokyo:20260502T170000
DTSTAMP:20260425T000300
CREATED:20251208T072929Z
LAST-MODIFIED:20251208T072929Z
UID:10009879-1777737600-1777741200@yokota374fss.com
SUMMARY:SENSORY HOUR
DESCRIPTION:Saturdays • 4-5 P.M. \nLIBRARY – FREE • ALL AGES \nRoom 1\nSensory Playtime\nRoom 2\nSensory Room\n(available as needed) \nJoin us for a special hour with sensory friendly toys and activities. All ages and families are welcome in this space.
URL:https://yokota374fss.com/event/sensory-hour/2026-05-02/
CATEGORIES:Library
ATTACH;FMTTYPE=image/jpeg:https://yokota374fss.com/wp-content/uploads/2025/12/TN9617-Sensory-Hour_FSSTV-scaled.jpg
END:VEVENT
BEGIN:VEVENT
DTSTART;TZID=Asia/Tokyo:20260509T160000
DTEND;TZID=Asia/Tokyo:20260509T170000
DTSTAMP:20260425T000300
CREATED:20251208T072929Z
LAST-MODIFIED:20251208T072929Z
UID:10009880-1778342400-1778346000@yokota374fss.com
SUMMARY:SENSORY HOUR
DESCRIPTION:Saturdays • 4-5 P.M. \nLIBRARY – FREE • ALL AGES \nRoom 1\nSensory Playtime\nRoom 2\nSensory Room\n(available as needed) \nJoin us for a special hour with sensory friendly toys and activities. All ages and families are welcome in this space.
URL:https://yokota374fss.com/event/sensory-hour/2026-05-09/
CATEGORIES:Library
ATTACH;FMTTYPE=image/jpeg:https://yokota374fss.com/wp-content/uploads/2025/12/TN9617-Sensory-Hour_FSSTV-scaled.jpg
END:VEVENT
BEGIN:VEVENT
DTSTART;TZID=Asia/Tokyo:20260516T160000
DTEND;TZID=Asia/Tokyo:20260516T170000
DTSTAMP:20260425T000300
CREATED:20251208T072929Z
LAST-MODIFIED:20251208T072929Z
UID:10009881-1778947200-1778950800@yokota374fss.com
SUMMARY:SENSORY HOUR
DESCRIPTION:Saturdays • 4-5 P.M. \nLIBRARY – FREE • ALL AGES \nRoom 1\nSensory Playtime\nRoom 2\nSensory Room\n(available as needed) \nJoin us for a special hour with sensory friendly toys and activities. All ages and families are welcome in this space.
URL:https://yokota374fss.com/event/sensory-hour/2026-05-16/
CATEGORIES:Library
ATTACH;FMTTYPE=image/jpeg:https://yokota374fss.com/wp-content/uploads/2025/12/TN9617-Sensory-Hour_FSSTV-scaled.jpg
END:VEVENT
BEGIN:VEVENT
DTSTART;TZID=Asia/Tokyo:20260523T160000
DTEND;TZID=Asia/Tokyo:20260523T170000
DTSTAMP:20260425T000300
CREATED:20251208T072929Z
LAST-MODIFIED:20251208T072929Z
UID:10009882-1779552000-1779555600@yokota374fss.com
SUMMARY:SENSORY HOUR
DESCRIPTION:Saturdays • 4-5 P.M. \nLIBRARY – FREE • ALL AGES \nRoom 1\nSensory Playtime\nRoom 2\nSensory Room\n(available as needed) \nJoin us for a special hour with sensory friendly toys and activities. All ages and families are welcome in this space.
URL:https://yokota374fss.com/event/sensory-hour/2026-05-23/
CATEGORIES:Library
ATTACH;FMTTYPE=image/jpeg:https://yokota374fss.com/wp-content/uploads/2025/12/TN9617-Sensory-Hour_FSSTV-scaled.jpg
END:VEVENT
BEGIN:VEVENT
DTSTART;TZID=Asia/Tokyo:20260530T160000
DTEND;TZID=Asia/Tokyo:20260530T170000
DTSTAMP:20260425T000300
CREATED:20251208T072929Z
LAST-MODIFIED:20251208T072929Z
UID:10009883-1780156800-1780160400@yokota374fss.com
SUMMARY:SENSORY HOUR
DESCRIPTION:Saturdays • 4-5 P.M. \nLIBRARY – FREE • ALL AGES \nRoom 1\nSensory Playtime\nRoom 2\nSensory Room\n(available as needed) \nJoin us for a special hour with sensory friendly toys and activities. All ages and families are welcome in this space.
URL:https://yokota374fss.com/event/sensory-hour/2026-05-30/
CATEGORIES:Library
ATTACH;FMTTYPE=image/jpeg:https://yokota374fss.com/wp-content/uploads/2025/12/TN9617-Sensory-Hour_FSSTV-scaled.jpg
END:VEVENT
BEGIN:VEVENT
DTSTART;TZID=Asia/Tokyo:20260606T160000
DTEND;TZID=Asia/Tokyo:20260606T170000
DTSTAMP:20260425T000300
CREATED:20251208T072929Z
LAST-MODIFIED:20251208T072929Z
UID:10009884-1780761600-1780765200@yokota374fss.com
SUMMARY:SENSORY HOUR
DESCRIPTION:Saturdays • 4-5 P.M. \nLIBRARY – FREE • ALL AGES \nRoom 1\nSensory Playtime\nRoom 2\nSensory Room\n(available as needed) \nJoin us for a special hour with sensory friendly toys and activities. All ages and families are welcome in this space.
URL:https://yokota374fss.com/event/sensory-hour/2026-06-06/
CATEGORIES:Library
ATTACH;FMTTYPE=image/jpeg:https://yokota374fss.com/wp-content/uploads/2025/12/TN9617-Sensory-Hour_FSSTV-scaled.jpg
END:VEVENT
BEGIN:VEVENT
DTSTART;TZID=Asia/Tokyo:20260613T160000
DTEND;TZID=Asia/Tokyo:20260613T170000
DTSTAMP:20260425T000300
CREATED:20251208T072929Z
LAST-MODIFIED:20251208T072929Z
UID:10009885-1781366400-1781370000@yokota374fss.com
SUMMARY:SENSORY HOUR
DESCRIPTION:Saturdays • 4-5 P.M. \nLIBRARY – FREE • ALL AGES \nRoom 1\nSensory Playtime\nRoom 2\nSensory Room\n(available as needed) \nJoin us for a special hour with sensory friendly toys and activities. All ages and families are welcome in this space.
URL:https://yokota374fss.com/event/sensory-hour/2026-06-13/
CATEGORIES:Library
ATTACH;FMTTYPE=image/jpeg:https://yokota374fss.com/wp-content/uploads/2025/12/TN9617-Sensory-Hour_FSSTV-scaled.jpg
END:VEVENT
BEGIN:VEVENT
DTSTART;TZID=Asia/Tokyo:20260620T160000
DTEND;TZID=Asia/Tokyo:20260620T170000
DTSTAMP:20260425T000300
CREATED:20251208T072929Z
LAST-MODIFIED:20251208T072929Z
UID:10009886-1781971200-1781974800@yokota374fss.com
SUMMARY:SENSORY HOUR
DESCRIPTION:Saturdays • 4-5 P.M. \nLIBRARY – FREE • ALL AGES \nRoom 1\nSensory Playtime\nRoom 2\nSensory Room\n(available as needed) \nJoin us for a special hour with sensory friendly toys and activities. All ages and families are welcome in this space.
URL:https://yokota374fss.com/event/sensory-hour/2026-06-20/
CATEGORIES:Library
ATTACH;FMTTYPE=image/jpeg:https://yokota374fss.com/wp-content/uploads/2025/12/TN9617-Sensory-Hour_FSSTV-scaled.jpg
END:VEVENT
BEGIN:VEVENT
DTSTART;TZID=Asia/Tokyo:20260627T160000
DTEND;TZID=Asia/Tokyo:20260627T170000
DTSTAMP:20260425T000300
CREATED:20251208T072929Z
LAST-MODIFIED:20251208T072929Z
UID:10009887-1782576000-1782579600@yokota374fss.com
SUMMARY:SENSORY HOUR
DESCRIPTION:Saturdays • 4-5 P.M. \nLIBRARY – FREE • ALL AGES \nRoom 1\nSensory Playtime\nRoom 2\nSensory Room\n(available as needed) \nJoin us for a special hour with sensory friendly toys and activities. All ages and families are welcome in this space.
URL:https://yokota374fss.com/event/sensory-hour/2026-06-27/
CATEGORIES:Library
ATTACH;FMTTYPE=image/jpeg:https://yokota374fss.com/wp-content/uploads/2025/12/TN9617-Sensory-Hour_FSSTV-scaled.jpg
END:VEVENT
BEGIN:VEVENT
DTSTART;TZID=Asia/Tokyo:20260704T160000
DTEND;TZID=Asia/Tokyo:20260704T170000
DTSTAMP:20260425T000300
CREATED:20251208T072929Z
LAST-MODIFIED:20251208T072929Z
UID:10009888-1783180800-1783184400@yokota374fss.com
SUMMARY:SENSORY HOUR
DESCRIPTION:Saturdays • 4-5 P.M. \nLIBRARY – FREE • ALL AGES \nRoom 1\nSensory Playtime\nRoom 2\nSensory Room\n(available as needed) \nJoin us for a special hour with sensory friendly toys and activities. All ages and families are welcome in this space.
URL:https://yokota374fss.com/event/sensory-hour/2026-07-04/
CATEGORIES:Library
ATTACH;FMTTYPE=image/jpeg:https://yokota374fss.com/wp-content/uploads/2025/12/TN9617-Sensory-Hour_FSSTV-scaled.jpg
END:VEVENT
BEGIN:VEVENT
DTSTART;TZID=Asia/Tokyo:20260711T160000
DTEND;TZID=Asia/Tokyo:20260711T170000
DTSTAMP:20260425T000300
CREATED:20251208T072929Z
LAST-MODIFIED:20251208T072929Z
UID:10009889-1783785600-1783789200@yokota374fss.com
SUMMARY:SENSORY HOUR
DESCRIPTION:Saturdays • 4-5 P.M. \nLIBRARY – FREE • ALL AGES \nRoom 1\nSensory Playtime\nRoom 2\nSensory Room\n(available as needed) \nJoin us for a special hour with sensory friendly toys and activities. All ages and families are welcome in this space.
URL:https://yokota374fss.com/event/sensory-hour/2026-07-11/
CATEGORIES:Library
ATTACH;FMTTYPE=image/jpeg:https://yokota374fss.com/wp-content/uploads/2025/12/TN9617-Sensory-Hour_FSSTV-scaled.jpg
END:VEVENT
BEGIN:VEVENT
DTSTART;TZID=Asia/Tokyo:20260718T160000
DTEND;TZID=Asia/Tokyo:20260718T170000
DTSTAMP:20260425T000300
CREATED:20251208T072929Z
LAST-MODIFIED:20251208T072929Z
UID:10009890-1784390400-1784394000@yokota374fss.com
SUMMARY:SENSORY HOUR
DESCRIPTION:Saturdays • 4-5 P.M. \nLIBRARY – FREE • ALL AGES \nRoom 1\nSensory Playtime\nRoom 2\nSensory Room\n(available as needed) \nJoin us for a special hour with sensory friendly toys and activities. All ages and families are welcome in this space.
URL:https://yokota374fss.com/event/sensory-hour/2026-07-18/
CATEGORIES:Library
ATTACH;FMTTYPE=image/jpeg:https://yokota374fss.com/wp-content/uploads/2025/12/TN9617-Sensory-Hour_FSSTV-scaled.jpg
END:VEVENT
BEGIN:VEVENT
DTSTART;TZID=Asia/Tokyo:20260725T160000
DTEND;TZID=Asia/Tokyo:20260725T170000
DTSTAMP:20260425T000300
CREATED:20251208T072929Z
LAST-MODIFIED:20251208T072929Z
UID:10009891-1784995200-1784998800@yokota374fss.com
SUMMARY:SENSORY HOUR
DESCRIPTION:Saturdays • 4-5 P.M. \nLIBRARY – FREE • ALL AGES \nRoom 1\nSensory Playtime\nRoom 2\nSensory Room\n(available as needed) \nJoin us for a special hour with sensory friendly toys and activities. All ages and families are welcome in this space.
URL:https://yokota374fss.com/event/sensory-hour/2026-07-25/
CATEGORIES:Library
ATTACH;FMTTYPE=image/jpeg:https://yokota374fss.com/wp-content/uploads/2025/12/TN9617-Sensory-Hour_FSSTV-scaled.jpg
END:VEVENT
BEGIN:VEVENT
DTSTART;TZID=Asia/Tokyo:20260801T160000
DTEND;TZID=Asia/Tokyo:20260801T170000
DTSTAMP:20260425T000300
CREATED:20251208T072929Z
LAST-MODIFIED:20251208T072929Z
UID:10009892-1785600000-1785603600@yokota374fss.com
SUMMARY:SENSORY HOUR
DESCRIPTION:Saturdays • 4-5 P.M. \nLIBRARY – FREE • ALL AGES \nRoom 1\nSensory Playtime\nRoom 2\nSensory Room\n(available as needed) \nJoin us for a special hour with sensory friendly toys and activities. All ages and families are welcome in this space.
URL:https://yokota374fss.com/event/sensory-hour/2026-08-01/
CATEGORIES:Library
ATTACH;FMTTYPE=image/jpeg:https://yokota374fss.com/wp-content/uploads/2025/12/TN9617-Sensory-Hour_FSSTV-scaled.jpg
END:VEVENT
BEGIN:VEVENT
DTSTART;TZID=Asia/Tokyo:20260808T160000
DTEND;TZID=Asia/Tokyo:20260808T170000
DTSTAMP:20260425T000300
CREATED:20251208T072929Z
LAST-MODIFIED:20251208T072929Z
UID:10009893-1786204800-1786208400@yokota374fss.com
SUMMARY:SENSORY HOUR
DESCRIPTION:Saturdays • 4-5 P.M. \nLIBRARY – FREE • ALL AGES \nRoom 1\nSensory Playtime\nRoom 2\nSensory Room\n(available as needed) \nJoin us for a special hour with sensory friendly toys and activities. All ages and families are welcome in this space.
URL:https://yokota374fss.com/event/sensory-hour/2026-08-08/
CATEGORIES:Library
ATTACH;FMTTYPE=image/jpeg:https://yokota374fss.com/wp-content/uploads/2025/12/TN9617-Sensory-Hour_FSSTV-scaled.jpg
END:VEVENT
BEGIN:VEVENT
DTSTART;TZID=Asia/Tokyo:20260815T160000
DTEND;TZID=Asia/Tokyo:20260815T170000
DTSTAMP:20260425T000300
CREATED:20251208T072929Z
LAST-MODIFIED:20251208T072929Z
UID:10009894-1786809600-1786813200@yokota374fss.com
SUMMARY:SENSORY HOUR
DESCRIPTION:Saturdays • 4-5 P.M. \nLIBRARY – FREE • ALL AGES \nRoom 1\nSensory Playtime\nRoom 2\nSensory Room\n(available as needed) \nJoin us for a special hour with sensory friendly toys and activities. All ages and families are welcome in this space.
URL:https://yokota374fss.com/event/sensory-hour/2026-08-15/
CATEGORIES:Library
ATTACH;FMTTYPE=image/jpeg:https://yokota374fss.com/wp-content/uploads/2025/12/TN9617-Sensory-Hour_FSSTV-scaled.jpg
END:VEVENT
BEGIN:VEVENT
DTSTART;TZID=Asia/Tokyo:20260822T160000
DTEND;TZID=Asia/Tokyo:20260822T170000
DTSTAMP:20260425T000300
CREATED:20251208T072929Z
LAST-MODIFIED:20251208T072929Z
UID:10009895-1787414400-1787418000@yokota374fss.com
SUMMARY:SENSORY HOUR
DESCRIPTION:Saturdays • 4-5 P.M. \nLIBRARY – FREE • ALL AGES \nRoom 1\nSensory Playtime\nRoom 2\nSensory Room\n(available as needed) \nJoin us for a special hour with sensory friendly toys and activities. All ages and families are welcome in this space.
URL:https://yokota374fss.com/event/sensory-hour/2026-08-22/
CATEGORIES:Library
ATTACH;FMTTYPE=image/jpeg:https://yokota374fss.com/wp-content/uploads/2025/12/TN9617-Sensory-Hour_FSSTV-scaled.jpg
END:VEVENT
BEGIN:VEVENT
DTSTART;TZID=Asia/Tokyo:20260829T160000
DTEND;TZID=Asia/Tokyo:20260829T170000
DTSTAMP:20260425T000300
CREATED:20251208T072929Z
LAST-MODIFIED:20251208T072929Z
UID:10009896-1788019200-1788022800@yokota374fss.com
SUMMARY:SENSORY HOUR
DESCRIPTION:Saturdays • 4-5 P.M. \nLIBRARY – FREE • ALL AGES \nRoom 1\nSensory Playtime\nRoom 2\nSensory Room\n(available as needed) \nJoin us for a special hour with sensory friendly toys and activities. All ages and families are welcome in this space.
URL:https://yokota374fss.com/event/sensory-hour/2026-08-29/
CATEGORIES:Library
ATTACH;FMTTYPE=image/jpeg:https://yokota374fss.com/wp-content/uploads/2025/12/TN9617-Sensory-Hour_FSSTV-scaled.jpg
END:VEVENT
BEGIN:VEVENT
DTSTART;TZID=Asia/Tokyo:20260905T160000
DTEND;TZID=Asia/Tokyo:20260905T170000
DTSTAMP:20260425T000300
CREATED:20251208T072929Z
LAST-MODIFIED:20251208T072929Z
UID:10009897-1788624000-1788627600@yokota374fss.com
SUMMARY:SENSORY HOUR
DESCRIPTION:Saturdays • 4-5 P.M. \nLIBRARY – FREE • ALL AGES \nRoom 1\nSensory Playtime\nRoom 2\nSensory Room\n(available as needed) \nJoin us for a special hour with sensory friendly toys and activities. All ages and families are welcome in this space.
URL:https://yokota374fss.com/event/sensory-hour/2026-09-05/
CATEGORIES:Library
ATTACH;FMTTYPE=image/jpeg:https://yokota374fss.com/wp-content/uploads/2025/12/TN9617-Sensory-Hour_FSSTV-scaled.jpg
END:VEVENT
BEGIN:VEVENT
DTSTART;TZID=Asia/Tokyo:20260912T160000
DTEND;TZID=Asia/Tokyo:20260912T170000
DTSTAMP:20260425T000300
CREATED:20251208T072929Z
LAST-MODIFIED:20251208T072929Z
UID:10009898-1789228800-1789232400@yokota374fss.com
SUMMARY:SENSORY HOUR
DESCRIPTION:Saturdays • 4-5 P.M. \nLIBRARY – FREE • ALL AGES \nRoom 1\nSensory Playtime\nRoom 2\nSensory Room\n(available as needed) \nJoin us for a special hour with sensory friendly toys and activities. All ages and families are welcome in this space.
URL:https://yokota374fss.com/event/sensory-hour/2026-09-12/
CATEGORIES:Library
ATTACH;FMTTYPE=image/jpeg:https://yokota374fss.com/wp-content/uploads/2025/12/TN9617-Sensory-Hour_FSSTV-scaled.jpg
END:VEVENT
BEGIN:VEVENT
DTSTART;TZID=Asia/Tokyo:20260919T160000
DTEND;TZID=Asia/Tokyo:20260919T170000
DTSTAMP:20260425T000300
CREATED:20251208T072929Z
LAST-MODIFIED:20251208T072929Z
UID:10009899-1789833600-1789837200@yokota374fss.com
SUMMARY:SENSORY HOUR
DESCRIPTION:Saturdays • 4-5 P.M. \nLIBRARY – FREE • ALL AGES \nRoom 1\nSensory Playtime\nRoom 2\nSensory Room\n(available as needed) \nJoin us for a special hour with sensory friendly toys and activities. All ages and families are welcome in this space.
URL:https://yokota374fss.com/event/sensory-hour/2026-09-19/
CATEGORIES:Library
ATTACH;FMTTYPE=image/jpeg:https://yokota374fss.com/wp-content/uploads/2025/12/TN9617-Sensory-Hour_FSSTV-scaled.jpg
END:VEVENT
BEGIN:VEVENT
DTSTART;TZID=Asia/Tokyo:20260926T160000
DTEND;TZID=Asia/Tokyo:20260926T170000
DTSTAMP:20260425T000300
CREATED:20251208T072929Z
LAST-MODIFIED:20251208T072929Z
UID:10009900-1790438400-1790442000@yokota374fss.com
SUMMARY:SENSORY HOUR
DESCRIPTION:Saturdays • 4-5 P.M. \nLIBRARY – FREE • ALL AGES \nRoom 1\nSensory Playtime\nRoom 2\nSensory Room\n(available as needed) \nJoin us for a special hour with sensory friendly toys and activities. All ages and families are welcome in this space.
URL:https://yokota374fss.com/event/sensory-hour/2026-09-26/
CATEGORIES:Library
ATTACH;FMTTYPE=image/jpeg:https://yokota374fss.com/wp-content/uploads/2025/12/TN9617-Sensory-Hour_FSSTV-scaled.jpg
END:VEVENT
BEGIN:VEVENT
DTSTART;TZID=Asia/Tokyo:20261003T160000
DTEND;TZID=Asia/Tokyo:20261003T170000
DTSTAMP:20260425T000300
CREATED:20251208T072929Z
LAST-MODIFIED:20251208T072929Z
UID:10009901-1791043200-1791046800@yokota374fss.com
SUMMARY:SENSORY HOUR
DESCRIPTION:Saturdays • 4-5 P.M. \nLIBRARY – FREE • ALL AGES \nRoom 1\nSensory Playtime\nRoom 2\nSensory Room\n(available as needed) \nJoin us for a special hour with sensory friendly toys and activities. All ages and families are welcome in this space.
URL:https://yokota374fss.com/event/sensory-hour/2026-10-03/
CATEGORIES:Library
ATTACH;FMTTYPE=image/jpeg:https://yokota374fss.com/wp-content/uploads/2025/12/TN9617-Sensory-Hour_FSSTV-scaled.jpg
END:VEVENT
BEGIN:VEVENT
DTSTART;TZID=Asia/Tokyo:20261010T160000
DTEND;TZID=Asia/Tokyo:20261010T170000
DTSTAMP:20260425T000300
CREATED:20251208T072929Z
LAST-MODIFIED:20251208T072929Z
UID:10009902-1791648000-1791651600@yokota374fss.com
SUMMARY:SENSORY HOUR
DESCRIPTION:Saturdays • 4-5 P.M. \nLIBRARY – FREE • ALL AGES \nRoom 1\nSensory Playtime\nRoom 2\nSensory Room\n(available as needed) \nJoin us for a special hour with sensory friendly toys and activities. All ages and families are welcome in this space.
URL:https://yokota374fss.com/event/sensory-hour/2026-10-10/
CATEGORIES:Library
ATTACH;FMTTYPE=image/jpeg:https://yokota374fss.com/wp-content/uploads/2025/12/TN9617-Sensory-Hour_FSSTV-scaled.jpg
END:VEVENT
BEGIN:VEVENT
DTSTART;TZID=Asia/Tokyo:20261017T160000
DTEND;TZID=Asia/Tokyo:20261017T170000
DTSTAMP:20260425T000300
CREATED:20251208T072929Z
LAST-MODIFIED:20251208T072929Z
UID:10009903-1792252800-1792256400@yokota374fss.com
SUMMARY:SENSORY HOUR
DESCRIPTION:Saturdays • 4-5 P.M. \nLIBRARY – FREE • ALL AGES \nRoom 1\nSensory Playtime\nRoom 2\nSensory Room\n(available as needed) \nJoin us for a special hour with sensory friendly toys and activities. All ages and families are welcome in this space.
URL:https://yokota374fss.com/event/sensory-hour/2026-10-17/
CATEGORIES:Library
ATTACH;FMTTYPE=image/jpeg:https://yokota374fss.com/wp-content/uploads/2025/12/TN9617-Sensory-Hour_FSSTV-scaled.jpg
END:VEVENT
BEGIN:VEVENT
DTSTART;TZID=Asia/Tokyo:20261024T160000
DTEND;TZID=Asia/Tokyo:20261024T170000
DTSTAMP:20260425T000300
CREATED:20251208T072929Z
LAST-MODIFIED:20251208T072929Z
UID:10009904-1792857600-1792861200@yokota374fss.com
SUMMARY:SENSORY HOUR
DESCRIPTION:Saturdays • 4-5 P.M. \nLIBRARY – FREE • ALL AGES \nRoom 1\nSensory Playtime\nRoom 2\nSensory Room\n(available as needed) \nJoin us for a special hour with sensory friendly toys and activities. All ages and families are welcome in this space.
URL:https://yokota374fss.com/event/sensory-hour/2026-10-24/
CATEGORIES:Library
ATTACH;FMTTYPE=image/jpeg:https://yokota374fss.com/wp-content/uploads/2025/12/TN9617-Sensory-Hour_FSSTV-scaled.jpg
END:VEVENT
BEGIN:VEVENT
DTSTART;TZID=Asia/Tokyo:20261031T160000
DTEND;TZID=Asia/Tokyo:20261031T170000
DTSTAMP:20260425T000300
CREATED:20251208T072929Z
LAST-MODIFIED:20251208T072929Z
UID:10009905-1793462400-1793466000@yokota374fss.com
SUMMARY:SENSORY HOUR
DESCRIPTION:Saturdays • 4-5 P.M. \nLIBRARY – FREE • ALL AGES \nRoom 1\nSensory Playtime\nRoom 2\nSensory Room\n(available as needed) \nJoin us for a special hour with sensory friendly toys and activities. All ages and families are welcome in this space.
URL:https://yokota374fss.com/event/sensory-hour/2026-10-31/
CATEGORIES:Library
ATTACH;FMTTYPE=image/jpeg:https://yokota374fss.com/wp-content/uploads/2025/12/TN9617-Sensory-Hour_FSSTV-scaled.jpg
END:VEVENT
BEGIN:VEVENT
DTSTART;TZID=Asia/Tokyo:20261107T160000
DTEND;TZID=Asia/Tokyo:20261107T170000
DTSTAMP:20260425T000300
CREATED:20251208T072929Z
LAST-MODIFIED:20251208T072929Z
UID:10009906-1794067200-1794070800@yokota374fss.com
SUMMARY:SENSORY HOUR
DESCRIPTION:Saturdays • 4-5 P.M. \nLIBRARY – FREE • ALL AGES \nRoom 1\nSensory Playtime\nRoom 2\nSensory Room\n(available as needed) \nJoin us for a special hour with sensory friendly toys and activities. All ages and families are welcome in this space.
URL:https://yokota374fss.com/event/sensory-hour/2026-11-07/
CATEGORIES:Library
ATTACH;FMTTYPE=image/jpeg:https://yokota374fss.com/wp-content/uploads/2025/12/TN9617-Sensory-Hour_FSSTV-scaled.jpg
END:VEVENT
BEGIN:VEVENT
DTSTART;TZID=Asia/Tokyo:20261114T160000
DTEND;TZID=Asia/Tokyo:20261114T170000
DTSTAMP:20260425T000300
CREATED:20251208T072929Z
LAST-MODIFIED:20251208T072929Z
UID:10009907-1794672000-1794675600@yokota374fss.com
SUMMARY:SENSORY HOUR
DESCRIPTION:Saturdays • 4-5 P.M. \nLIBRARY – FREE • ALL AGES \nRoom 1\nSensory Playtime\nRoom 2\nSensory Room\n(available as needed) \nJoin us for a special hour with sensory friendly toys and activities. All ages and families are welcome in this space.
URL:https://yokota374fss.com/event/sensory-hour/2026-11-14/
CATEGORIES:Library
ATTACH;FMTTYPE=image/jpeg:https://yokota374fss.com/wp-content/uploads/2025/12/TN9617-Sensory-Hour_FSSTV-scaled.jpg
END:VEVENT
END:VCALENDAR