BEGIN:VCALENDAR
VERSION:2.0
PRODID:-//Yokota FSS - ECPv6.15.20//NONSGML v1.0//EN
CALSCALE:GREGORIAN
METHOD:PUBLISH
X-WR-CALNAME:Yokota FSS
X-ORIGINAL-URL:https://yokota374fss.com
X-WR-CALDESC:Events for Yokota FSS
REFRESH-INTERVAL;VALUE=DURATION:PT1H
X-Robots-Tag:noindex
X-PUBLISHED-TTL:PT1H
BEGIN:VTIMEZONE
TZID:Asia/Tokyo
BEGIN:STANDARD
TZOFFSETFROM:+0900
TZOFFSETTO:+0900
TZNAME:JST
DTSTART:20250101T000000
END:STANDARD
END:VTIMEZONE
BEGIN:VEVENT
DTSTART;TZID=Asia/Tokyo:20260528T080000
DTEND;TZID=Asia/Tokyo:20260528T100000
DTSTAMP:20260424T232508
CREATED:20251202T065632Z
LAST-MODIFIED:20260310T045252Z
UID:10011417-1779955200-1779962400@yokota374fss.com
SUMMARY:Bundles 4 Babies
DESCRIPTION:Military & Family Readiness Center \nCalling all expectant parents! Join our free class to explore all areas of child care and expenses related to having a newborn. After completing the class\, parents will achieve parenting skills\, receive a baby needs list as well as financial skills to help them budget for their new baby–from birth to adulthood.\n*Please contact the M&FRC for the next Bundles for Babies workshop\ncall 225-8725 or email 374fssfsfr@us.af.mil
URL:https://yokota374fss.com/event/bundles-4-babies/2026-05-28/
CATEGORIES:M&FRC
ATTACH;FMTTYPE=image/jpeg:https://yokota374fss.com/wp-content/uploads/2025/12/TN9982-Bundle-for-Babies-FSS-TV-scaled.jpg
END:VEVENT
END:VCALENDAR