BEGIN:VCALENDAR
VERSION:2.0
PRODID:-//Yokota FSS - ECPv6.15.20//NONSGML v1.0//EN
CALSCALE:GREGORIAN
METHOD:PUBLISH
X-WR-CALNAME:Yokota FSS
X-ORIGINAL-URL:https://yokota374fss.com
X-WR-CALDESC:Events for Yokota FSS
REFRESH-INTERVAL;VALUE=DURATION:PT1H
X-Robots-Tag:noindex
X-PUBLISHED-TTL:PT1H
BEGIN:VTIMEZONE
TZID:Asia/Tokyo
BEGIN:STANDARD
TZOFFSETFROM:+0900
TZOFFSETTO:+0900
TZNAME:JST
DTSTART:20250101T000000
END:STANDARD
END:VTIMEZONE
BEGIN:VEVENT
DTSTART;TZID=Asia/Tokyo:20260511T130000
DTEND;TZID=Asia/Tokyo:20260511T143000
DTSTAMP:20260425T233904
CREATED:20260223T034625Z
LAST-MODIFIED:20260309T013628Z
UID:10011358-1778504400-1778509800@yokota374fss.com
SUMMARY:Custom & Courtesies
DESCRIPTION:
URL:https://yokota374fss.com/event/custom-courtesies/2026-05-11/
CATEGORIES:M&FRC
END:VEVENT
BEGIN:VEVENT
DTSTART;TZID=Asia/Tokyo:20260518T130000
DTEND;TZID=Asia/Tokyo:20260518T143000
DTSTAMP:20260425T233904
CREATED:20260223T034625Z
LAST-MODIFIED:20260309T013628Z
UID:10011359-1779109200-1779114600@yokota374fss.com
SUMMARY:Custom & Courtesies
DESCRIPTION:
URL:https://yokota374fss.com/event/custom-courtesies/2026-05-18/
CATEGORIES:M&FRC
END:VEVENT
BEGIN:VEVENT
DTSTART;TZID=Asia/Tokyo:20260608T130000
DTEND;TZID=Asia/Tokyo:20260608T143000
DTSTAMP:20260425T233904
CREATED:20260223T034625Z
LAST-MODIFIED:20260309T013628Z
UID:10011360-1780923600-1780929000@yokota374fss.com
SUMMARY:Custom & Courtesies
DESCRIPTION:
URL:https://yokota374fss.com/event/custom-courtesies/2026-06-08/
CATEGORIES:M&FRC
END:VEVENT
BEGIN:VEVENT
DTSTART;TZID=Asia/Tokyo:20260622T130000
DTEND;TZID=Asia/Tokyo:20260622T143000
DTSTAMP:20260425T233904
CREATED:20260223T034625Z
LAST-MODIFIED:20260309T013628Z
UID:10011361-1782133200-1782138600@yokota374fss.com
SUMMARY:Custom & Courtesies
DESCRIPTION:
URL:https://yokota374fss.com/event/custom-courtesies/2026-06-22/
CATEGORIES:M&FRC
END:VEVENT
END:VCALENDAR