BEGIN:VCALENDAR
VERSION:2.0
PRODID:-//Yokota FSS - ECPv6.15.20//NONSGML v1.0//EN
CALSCALE:GREGORIAN
METHOD:PUBLISH
X-WR-CALNAME:Yokota FSS
X-ORIGINAL-URL:https://yokota374fss.com
X-WR-CALDESC:Events for Yokota FSS
REFRESH-INTERVAL;VALUE=DURATION:PT1H
X-Robots-Tag:noindex
X-PUBLISHED-TTL:PT1H
BEGIN:VTIMEZONE
TZID:Asia/Tokyo
BEGIN:STANDARD
TZOFFSETFROM:+0900
TZOFFSETTO:+0900
TZNAME:JST
DTSTART:20250101T000000
END:STANDARD
END:VTIMEZONE
BEGIN:VEVENT
DTSTART;TZID=Asia/Tokyo:20260428T174500
DTEND;TZID=Asia/Tokyo:20260428T184500
DTSTAMP:20260425T113900
CREATED:20260302T014505Z
LAST-MODIFIED:20260302T014505Z
UID:10010588-1777398300-1777401900@yokota374fss.com
SUMMARY:Pound
DESCRIPTION:Tuesdays • 5:45 p.m.–6:45 p.m.\nInstructor: Arisa Suda\n$50/8 Classes\n$30/4 Classes\n$8 Walk In
URL:https://yokota374fss.com/event/pound/2026-04-28/
CATEGORIES:Natatorium
END:VEVENT
BEGIN:VEVENT
DTSTART;TZID=Asia/Tokyo:20260505T174500
DTEND;TZID=Asia/Tokyo:20260505T184500
DTSTAMP:20260425T113900
CREATED:20260302T014505Z
LAST-MODIFIED:20260302T014505Z
UID:10010589-1778003100-1778006700@yokota374fss.com
SUMMARY:Pound
DESCRIPTION:Tuesdays • 5:45 p.m.–6:45 p.m.\nInstructor: Arisa Suda\n$50/8 Classes\n$30/4 Classes\n$8 Walk In
URL:https://yokota374fss.com/event/pound/2026-05-05/
CATEGORIES:Natatorium
END:VEVENT
BEGIN:VEVENT
DTSTART;TZID=Asia/Tokyo:20260512T174500
DTEND;TZID=Asia/Tokyo:20260512T184500
DTSTAMP:20260425T113900
CREATED:20260302T014505Z
LAST-MODIFIED:20260302T014505Z
UID:10010590-1778607900-1778611500@yokota374fss.com
SUMMARY:Pound
DESCRIPTION:Tuesdays • 5:45 p.m.–6:45 p.m.\nInstructor: Arisa Suda\n$50/8 Classes\n$30/4 Classes\n$8 Walk In
URL:https://yokota374fss.com/event/pound/2026-05-12/
CATEGORIES:Natatorium
END:VEVENT
BEGIN:VEVENT
DTSTART;TZID=Asia/Tokyo:20260519T174500
DTEND;TZID=Asia/Tokyo:20260519T184500
DTSTAMP:20260425T113900
CREATED:20260302T014505Z
LAST-MODIFIED:20260302T014505Z
UID:10010591-1779212700-1779216300@yokota374fss.com
SUMMARY:Pound
DESCRIPTION:Tuesdays • 5:45 p.m.–6:45 p.m.\nInstructor: Arisa Suda\n$50/8 Classes\n$30/4 Classes\n$8 Walk In
URL:https://yokota374fss.com/event/pound/2026-05-19/
CATEGORIES:Natatorium
END:VEVENT
BEGIN:VEVENT
DTSTART;TZID=Asia/Tokyo:20260526T174500
DTEND;TZID=Asia/Tokyo:20260526T184500
DTSTAMP:20260425T113900
CREATED:20260302T014505Z
LAST-MODIFIED:20260302T014505Z
UID:10010592-1779817500-1779821100@yokota374fss.com
SUMMARY:Pound
DESCRIPTION:Tuesdays • 5:45 p.m.–6:45 p.m.\nInstructor: Arisa Suda\n$50/8 Classes\n$30/4 Classes\n$8 Walk In
URL:https://yokota374fss.com/event/pound/2026-05-26/
CATEGORIES:Natatorium
END:VEVENT
BEGIN:VEVENT
DTSTART;TZID=Asia/Tokyo:20260602T174500
DTEND;TZID=Asia/Tokyo:20260602T184500
DTSTAMP:20260425T113900
CREATED:20260302T014505Z
LAST-MODIFIED:20260302T014505Z
UID:10010593-1780422300-1780425900@yokota374fss.com
SUMMARY:Pound
DESCRIPTION:Tuesdays • 5:45 p.m.–6:45 p.m.\nInstructor: Arisa Suda\n$50/8 Classes\n$30/4 Classes\n$8 Walk In
URL:https://yokota374fss.com/event/pound/2026-06-02/
CATEGORIES:Natatorium
END:VEVENT
BEGIN:VEVENT
DTSTART;TZID=Asia/Tokyo:20260609T174500
DTEND;TZID=Asia/Tokyo:20260609T184500
DTSTAMP:20260425T113900
CREATED:20260302T014505Z
LAST-MODIFIED:20260302T014505Z
UID:10010594-1781027100-1781030700@yokota374fss.com
SUMMARY:Pound
DESCRIPTION:Tuesdays • 5:45 p.m.–6:45 p.m.\nInstructor: Arisa Suda\n$50/8 Classes\n$30/4 Classes\n$8 Walk In
URL:https://yokota374fss.com/event/pound/2026-06-09/
CATEGORIES:Natatorium
END:VEVENT
BEGIN:VEVENT
DTSTART;TZID=Asia/Tokyo:20260616T174500
DTEND;TZID=Asia/Tokyo:20260616T184500
DTSTAMP:20260425T113900
CREATED:20260302T014505Z
LAST-MODIFIED:20260302T014505Z
UID:10010595-1781631900-1781635500@yokota374fss.com
SUMMARY:Pound
DESCRIPTION:Tuesdays • 5:45 p.m.–6:45 p.m.\nInstructor: Arisa Suda\n$50/8 Classes\n$30/4 Classes\n$8 Walk In
URL:https://yokota374fss.com/event/pound/2026-06-16/
CATEGORIES:Natatorium
END:VEVENT
BEGIN:VEVENT
DTSTART;TZID=Asia/Tokyo:20260623T174500
DTEND;TZID=Asia/Tokyo:20260623T184500
DTSTAMP:20260425T113900
CREATED:20260302T014505Z
LAST-MODIFIED:20260302T014505Z
UID:10010596-1782236700-1782240300@yokota374fss.com
SUMMARY:Pound
DESCRIPTION:Tuesdays • 5:45 p.m.–6:45 p.m.\nInstructor: Arisa Suda\n$50/8 Classes\n$30/4 Classes\n$8 Walk In
URL:https://yokota374fss.com/event/pound/2026-06-23/
CATEGORIES:Natatorium
END:VEVENT
BEGIN:VEVENT
DTSTART;TZID=Asia/Tokyo:20260630T174500
DTEND;TZID=Asia/Tokyo:20260630T184500
DTSTAMP:20260425T113900
CREATED:20260302T014505Z
LAST-MODIFIED:20260302T014505Z
UID:10010597-1782841500-1782845100@yokota374fss.com
SUMMARY:Pound
DESCRIPTION:Tuesdays • 5:45 p.m.–6:45 p.m.\nInstructor: Arisa Suda\n$50/8 Classes\n$30/4 Classes\n$8 Walk In
URL:https://yokota374fss.com/event/pound/2026-06-30/
CATEGORIES:Natatorium
END:VEVENT
BEGIN:VEVENT
DTSTART;TZID=Asia/Tokyo:20260707T174500
DTEND;TZID=Asia/Tokyo:20260707T184500
DTSTAMP:20260425T113900
CREATED:20260302T014505Z
LAST-MODIFIED:20260302T014505Z
UID:10010598-1783446300-1783449900@yokota374fss.com
SUMMARY:Pound
DESCRIPTION:Tuesdays • 5:45 p.m.–6:45 p.m.\nInstructor: Arisa Suda\n$50/8 Classes\n$30/4 Classes\n$8 Walk In
URL:https://yokota374fss.com/event/pound/2026-07-07/
CATEGORIES:Natatorium
END:VEVENT
BEGIN:VEVENT
DTSTART;TZID=Asia/Tokyo:20260714T174500
DTEND;TZID=Asia/Tokyo:20260714T184500
DTSTAMP:20260425T113900
CREATED:20260302T014505Z
LAST-MODIFIED:20260302T014505Z
UID:10010599-1784051100-1784054700@yokota374fss.com
SUMMARY:Pound
DESCRIPTION:Tuesdays • 5:45 p.m.–6:45 p.m.\nInstructor: Arisa Suda\n$50/8 Classes\n$30/4 Classes\n$8 Walk In
URL:https://yokota374fss.com/event/pound/2026-07-14/
CATEGORIES:Natatorium
END:VEVENT
BEGIN:VEVENT
DTSTART;TZID=Asia/Tokyo:20260721T174500
DTEND;TZID=Asia/Tokyo:20260721T184500
DTSTAMP:20260425T113900
CREATED:20260302T014505Z
LAST-MODIFIED:20260302T014505Z
UID:10010600-1784655900-1784659500@yokota374fss.com
SUMMARY:Pound
DESCRIPTION:Tuesdays • 5:45 p.m.–6:45 p.m.\nInstructor: Arisa Suda\n$50/8 Classes\n$30/4 Classes\n$8 Walk In
URL:https://yokota374fss.com/event/pound/2026-07-21/
CATEGORIES:Natatorium
END:VEVENT
BEGIN:VEVENT
DTSTART;TZID=Asia/Tokyo:20260728T174500
DTEND;TZID=Asia/Tokyo:20260728T184500
DTSTAMP:20260425T113900
CREATED:20260302T014505Z
LAST-MODIFIED:20260302T014505Z
UID:10010601-1785260700-1785264300@yokota374fss.com
SUMMARY:Pound
DESCRIPTION:Tuesdays • 5:45 p.m.–6:45 p.m.\nInstructor: Arisa Suda\n$50/8 Classes\n$30/4 Classes\n$8 Walk In
URL:https://yokota374fss.com/event/pound/2026-07-28/
CATEGORIES:Natatorium
END:VEVENT
BEGIN:VEVENT
DTSTART;TZID=Asia/Tokyo:20260804T174500
DTEND;TZID=Asia/Tokyo:20260804T184500
DTSTAMP:20260425T113900
CREATED:20260302T014505Z
LAST-MODIFIED:20260302T014505Z
UID:10010602-1785865500-1785869100@yokota374fss.com
SUMMARY:Pound
DESCRIPTION:Tuesdays • 5:45 p.m.–6:45 p.m.\nInstructor: Arisa Suda\n$50/8 Classes\n$30/4 Classes\n$8 Walk In
URL:https://yokota374fss.com/event/pound/2026-08-04/
CATEGORIES:Natatorium
END:VEVENT
BEGIN:VEVENT
DTSTART;TZID=Asia/Tokyo:20260811T174500
DTEND;TZID=Asia/Tokyo:20260811T184500
DTSTAMP:20260425T113900
CREATED:20260302T014505Z
LAST-MODIFIED:20260302T014505Z
UID:10010603-1786470300-1786473900@yokota374fss.com
SUMMARY:Pound
DESCRIPTION:Tuesdays • 5:45 p.m.–6:45 p.m.\nInstructor: Arisa Suda\n$50/8 Classes\n$30/4 Classes\n$8 Walk In
URL:https://yokota374fss.com/event/pound/2026-08-11/
CATEGORIES:Natatorium
END:VEVENT
BEGIN:VEVENT
DTSTART;TZID=Asia/Tokyo:20260818T174500
DTEND;TZID=Asia/Tokyo:20260818T184500
DTSTAMP:20260425T113900
CREATED:20260302T014505Z
LAST-MODIFIED:20260302T014505Z
UID:10010604-1787075100-1787078700@yokota374fss.com
SUMMARY:Pound
DESCRIPTION:Tuesdays • 5:45 p.m.–6:45 p.m.\nInstructor: Arisa Suda\n$50/8 Classes\n$30/4 Classes\n$8 Walk In
URL:https://yokota374fss.com/event/pound/2026-08-18/
CATEGORIES:Natatorium
END:VEVENT
BEGIN:VEVENT
DTSTART;TZID=Asia/Tokyo:20260825T174500
DTEND;TZID=Asia/Tokyo:20260825T184500
DTSTAMP:20260425T113900
CREATED:20260302T014505Z
LAST-MODIFIED:20260302T014505Z
UID:10010605-1787679900-1787683500@yokota374fss.com
SUMMARY:Pound
DESCRIPTION:Tuesdays • 5:45 p.m.–6:45 p.m.\nInstructor: Arisa Suda\n$50/8 Classes\n$30/4 Classes\n$8 Walk In
URL:https://yokota374fss.com/event/pound/2026-08-25/
CATEGORIES:Natatorium
END:VEVENT
BEGIN:VEVENT
DTSTART;TZID=Asia/Tokyo:20260901T174500
DTEND;TZID=Asia/Tokyo:20260901T184500
DTSTAMP:20260425T113900
CREATED:20260302T014505Z
LAST-MODIFIED:20260302T014505Z
UID:10010606-1788284700-1788288300@yokota374fss.com
SUMMARY:Pound
DESCRIPTION:Tuesdays • 5:45 p.m.–6:45 p.m.\nInstructor: Arisa Suda\n$50/8 Classes\n$30/4 Classes\n$8 Walk In
URL:https://yokota374fss.com/event/pound/2026-09-01/
CATEGORIES:Natatorium
END:VEVENT
BEGIN:VEVENT
DTSTART;TZID=Asia/Tokyo:20260908T174500
DTEND;TZID=Asia/Tokyo:20260908T184500
DTSTAMP:20260425T113900
CREATED:20260302T014505Z
LAST-MODIFIED:20260302T014505Z
UID:10010607-1788889500-1788893100@yokota374fss.com
SUMMARY:Pound
DESCRIPTION:Tuesdays • 5:45 p.m.–6:45 p.m.\nInstructor: Arisa Suda\n$50/8 Classes\n$30/4 Classes\n$8 Walk In
URL:https://yokota374fss.com/event/pound/2026-09-08/
CATEGORIES:Natatorium
END:VEVENT
BEGIN:VEVENT
DTSTART;TZID=Asia/Tokyo:20260915T174500
DTEND;TZID=Asia/Tokyo:20260915T184500
DTSTAMP:20260425T113900
CREATED:20260302T014505Z
LAST-MODIFIED:20260302T014505Z
UID:10010608-1789494300-1789497900@yokota374fss.com
SUMMARY:Pound
DESCRIPTION:Tuesdays • 5:45 p.m.–6:45 p.m.\nInstructor: Arisa Suda\n$50/8 Classes\n$30/4 Classes\n$8 Walk In
URL:https://yokota374fss.com/event/pound/2026-09-15/
CATEGORIES:Natatorium
END:VEVENT
BEGIN:VEVENT
DTSTART;TZID=Asia/Tokyo:20260922T174500
DTEND;TZID=Asia/Tokyo:20260922T184500
DTSTAMP:20260425T113900
CREATED:20260302T014505Z
LAST-MODIFIED:20260302T014505Z
UID:10010609-1790099100-1790102700@yokota374fss.com
SUMMARY:Pound
DESCRIPTION:Tuesdays • 5:45 p.m.–6:45 p.m.\nInstructor: Arisa Suda\n$50/8 Classes\n$30/4 Classes\n$8 Walk In
URL:https://yokota374fss.com/event/pound/2026-09-22/
CATEGORIES:Natatorium
END:VEVENT
BEGIN:VEVENT
DTSTART;TZID=Asia/Tokyo:20260929T174500
DTEND;TZID=Asia/Tokyo:20260929T184500
DTSTAMP:20260425T113900
CREATED:20260302T014505Z
LAST-MODIFIED:20260302T014505Z
UID:10010610-1790703900-1790707500@yokota374fss.com
SUMMARY:Pound
DESCRIPTION:Tuesdays • 5:45 p.m.–6:45 p.m.\nInstructor: Arisa Suda\n$50/8 Classes\n$30/4 Classes\n$8 Walk In
URL:https://yokota374fss.com/event/pound/2026-09-29/
CATEGORIES:Natatorium
END:VEVENT
BEGIN:VEVENT
DTSTART;TZID=Asia/Tokyo:20261006T174500
DTEND;TZID=Asia/Tokyo:20261006T184500
DTSTAMP:20260425T113900
CREATED:20260302T014505Z
LAST-MODIFIED:20260302T014505Z
UID:10010611-1791308700-1791312300@yokota374fss.com
SUMMARY:Pound
DESCRIPTION:Tuesdays • 5:45 p.m.–6:45 p.m.\nInstructor: Arisa Suda\n$50/8 Classes\n$30/4 Classes\n$8 Walk In
URL:https://yokota374fss.com/event/pound/2026-10-06/
CATEGORIES:Natatorium
END:VEVENT
BEGIN:VEVENT
DTSTART;TZID=Asia/Tokyo:20261013T174500
DTEND;TZID=Asia/Tokyo:20261013T184500
DTSTAMP:20260425T113900
CREATED:20260302T014505Z
LAST-MODIFIED:20260302T014505Z
UID:10010612-1791913500-1791917100@yokota374fss.com
SUMMARY:Pound
DESCRIPTION:Tuesdays • 5:45 p.m.–6:45 p.m.\nInstructor: Arisa Suda\n$50/8 Classes\n$30/4 Classes\n$8 Walk In
URL:https://yokota374fss.com/event/pound/2026-10-13/
CATEGORIES:Natatorium
END:VEVENT
BEGIN:VEVENT
DTSTART;TZID=Asia/Tokyo:20261020T174500
DTEND;TZID=Asia/Tokyo:20261020T184500
DTSTAMP:20260425T113900
CREATED:20260302T014505Z
LAST-MODIFIED:20260302T014505Z
UID:10010613-1792518300-1792521900@yokota374fss.com
SUMMARY:Pound
DESCRIPTION:Tuesdays • 5:45 p.m.–6:45 p.m.\nInstructor: Arisa Suda\n$50/8 Classes\n$30/4 Classes\n$8 Walk In
URL:https://yokota374fss.com/event/pound/2026-10-20/
CATEGORIES:Natatorium
END:VEVENT
BEGIN:VEVENT
DTSTART;TZID=Asia/Tokyo:20261027T174500
DTEND;TZID=Asia/Tokyo:20261027T184500
DTSTAMP:20260425T113900
CREATED:20260302T014505Z
LAST-MODIFIED:20260302T014505Z
UID:10010614-1793123100-1793126700@yokota374fss.com
SUMMARY:Pound
DESCRIPTION:Tuesdays • 5:45 p.m.–6:45 p.m.\nInstructor: Arisa Suda\n$50/8 Classes\n$30/4 Classes\n$8 Walk In
URL:https://yokota374fss.com/event/pound/2026-10-27/
CATEGORIES:Natatorium
END:VEVENT
BEGIN:VEVENT
DTSTART;TZID=Asia/Tokyo:20261103T174500
DTEND;TZID=Asia/Tokyo:20261103T184500
DTSTAMP:20260425T113900
CREATED:20260302T014505Z
LAST-MODIFIED:20260302T014505Z
UID:10010615-1793727900-1793731500@yokota374fss.com
SUMMARY:Pound
DESCRIPTION:Tuesdays • 5:45 p.m.–6:45 p.m.\nInstructor: Arisa Suda\n$50/8 Classes\n$30/4 Classes\n$8 Walk In
URL:https://yokota374fss.com/event/pound/2026-11-03/
CATEGORIES:Natatorium
END:VEVENT
BEGIN:VEVENT
DTSTART;TZID=Asia/Tokyo:20261110T174500
DTEND;TZID=Asia/Tokyo:20261110T184500
DTSTAMP:20260425T113900
CREATED:20260302T014505Z
LAST-MODIFIED:20260302T014505Z
UID:10010616-1794332700-1794336300@yokota374fss.com
SUMMARY:Pound
DESCRIPTION:Tuesdays • 5:45 p.m.–6:45 p.m.\nInstructor: Arisa Suda\n$50/8 Classes\n$30/4 Classes\n$8 Walk In
URL:https://yokota374fss.com/event/pound/2026-11-10/
CATEGORIES:Natatorium
END:VEVENT
BEGIN:VEVENT
DTSTART;TZID=Asia/Tokyo:20261117T174500
DTEND;TZID=Asia/Tokyo:20261117T184500
DTSTAMP:20260425T113900
CREATED:20260302T014505Z
LAST-MODIFIED:20260302T014505Z
UID:10010617-1794937500-1794941100@yokota374fss.com
SUMMARY:Pound
DESCRIPTION:Tuesdays • 5:45 p.m.–6:45 p.m.\nInstructor: Arisa Suda\n$50/8 Classes\n$30/4 Classes\n$8 Walk In
URL:https://yokota374fss.com/event/pound/2026-11-17/
CATEGORIES:Natatorium
END:VEVENT
END:VCALENDAR