BEGIN:VCALENDAR
VERSION:2.0
PRODID:-//Yokota FSS - ECPv6.15.20//NONSGML v1.0//EN
CALSCALE:GREGORIAN
METHOD:PUBLISH
X-WR-CALNAME:Yokota FSS
X-ORIGINAL-URL:https://yokota374fss.com
X-WR-CALDESC:Events for Yokota FSS
REFRESH-INTERVAL;VALUE=DURATION:PT1H
X-Robots-Tag:noindex
X-PUBLISHED-TTL:PT1H
BEGIN:VTIMEZONE
TZID:Asia/Tokyo
BEGIN:STANDARD
TZOFFSETFROM:+0900
TZOFFSETTO:+0900
TZNAME:JST
DTSTART:20250101T000000
END:STANDARD
END:VTIMEZONE
BEGIN:VEVENT
DTSTART;TZID=Asia/Tokyo:20260501T130000
DTEND;TZID=Asia/Tokyo:20260501T140000
DTSTAMP:20260425T115259
CREATED:20260302T015432Z
LAST-MODIFIED:20260302T015432Z
UID:10010641-1777640400-1777644000@yokota374fss.com
SUMMARY:Animal Flow
DESCRIPTION:Fridays • 1 p.m.–2 p.m.\nInstructor: Ladonna Spivey\n$50/8 Classes\n$30/4 Classes\n$8 Walk In
URL:https://yokota374fss.com/event/animal-flow/2026-05-01/
CATEGORIES:Natatorium
END:VEVENT
BEGIN:VEVENT
DTSTART;TZID=Asia/Tokyo:20260508T130000
DTEND;TZID=Asia/Tokyo:20260508T140000
DTSTAMP:20260425T115259
CREATED:20260302T015432Z
LAST-MODIFIED:20260302T015432Z
UID:10010642-1778245200-1778248800@yokota374fss.com
SUMMARY:Animal Flow
DESCRIPTION:Fridays • 1 p.m.–2 p.m.\nInstructor: Ladonna Spivey\n$50/8 Classes\n$30/4 Classes\n$8 Walk In
URL:https://yokota374fss.com/event/animal-flow/2026-05-08/
CATEGORIES:Natatorium
END:VEVENT
BEGIN:VEVENT
DTSTART;TZID=Asia/Tokyo:20260515T130000
DTEND;TZID=Asia/Tokyo:20260515T140000
DTSTAMP:20260425T115259
CREATED:20260302T015432Z
LAST-MODIFIED:20260302T015432Z
UID:10010643-1778850000-1778853600@yokota374fss.com
SUMMARY:Animal Flow
DESCRIPTION:Fridays • 1 p.m.–2 p.m.\nInstructor: Ladonna Spivey\n$50/8 Classes\n$30/4 Classes\n$8 Walk In
URL:https://yokota374fss.com/event/animal-flow/2026-05-15/
CATEGORIES:Natatorium
END:VEVENT
BEGIN:VEVENT
DTSTART;TZID=Asia/Tokyo:20260522T130000
DTEND;TZID=Asia/Tokyo:20260522T140000
DTSTAMP:20260425T115259
CREATED:20260302T015432Z
LAST-MODIFIED:20260302T015432Z
UID:10010644-1779454800-1779458400@yokota374fss.com
SUMMARY:Animal Flow
DESCRIPTION:Fridays • 1 p.m.–2 p.m.\nInstructor: Ladonna Spivey\n$50/8 Classes\n$30/4 Classes\n$8 Walk In
URL:https://yokota374fss.com/event/animal-flow/2026-05-22/
CATEGORIES:Natatorium
END:VEVENT
BEGIN:VEVENT
DTSTART;TZID=Asia/Tokyo:20260529T130000
DTEND;TZID=Asia/Tokyo:20260529T140000
DTSTAMP:20260425T115259
CREATED:20260302T015432Z
LAST-MODIFIED:20260302T015432Z
UID:10010645-1780059600-1780063200@yokota374fss.com
SUMMARY:Animal Flow
DESCRIPTION:Fridays • 1 p.m.–2 p.m.\nInstructor: Ladonna Spivey\n$50/8 Classes\n$30/4 Classes\n$8 Walk In
URL:https://yokota374fss.com/event/animal-flow/2026-05-29/
CATEGORIES:Natatorium
END:VEVENT
BEGIN:VEVENT
DTSTART;TZID=Asia/Tokyo:20260605T130000
DTEND;TZID=Asia/Tokyo:20260605T140000
DTSTAMP:20260425T115259
CREATED:20260302T015432Z
LAST-MODIFIED:20260302T015432Z
UID:10010646-1780664400-1780668000@yokota374fss.com
SUMMARY:Animal Flow
DESCRIPTION:Fridays • 1 p.m.–2 p.m.\nInstructor: Ladonna Spivey\n$50/8 Classes\n$30/4 Classes\n$8 Walk In
URL:https://yokota374fss.com/event/animal-flow/2026-06-05/
CATEGORIES:Natatorium
END:VEVENT
BEGIN:VEVENT
DTSTART;TZID=Asia/Tokyo:20260612T130000
DTEND;TZID=Asia/Tokyo:20260612T140000
DTSTAMP:20260425T115259
CREATED:20260302T015432Z
LAST-MODIFIED:20260302T015432Z
UID:10010647-1781269200-1781272800@yokota374fss.com
SUMMARY:Animal Flow
DESCRIPTION:Fridays • 1 p.m.–2 p.m.\nInstructor: Ladonna Spivey\n$50/8 Classes\n$30/4 Classes\n$8 Walk In
URL:https://yokota374fss.com/event/animal-flow/2026-06-12/
CATEGORIES:Natatorium
END:VEVENT
BEGIN:VEVENT
DTSTART;TZID=Asia/Tokyo:20260619T130000
DTEND;TZID=Asia/Tokyo:20260619T140000
DTSTAMP:20260425T115259
CREATED:20260302T015432Z
LAST-MODIFIED:20260302T015432Z
UID:10010648-1781874000-1781877600@yokota374fss.com
SUMMARY:Animal Flow
DESCRIPTION:Fridays • 1 p.m.–2 p.m.\nInstructor: Ladonna Spivey\n$50/8 Classes\n$30/4 Classes\n$8 Walk In
URL:https://yokota374fss.com/event/animal-flow/2026-06-19/
CATEGORIES:Natatorium
END:VEVENT
BEGIN:VEVENT
DTSTART;TZID=Asia/Tokyo:20260626T130000
DTEND;TZID=Asia/Tokyo:20260626T140000
DTSTAMP:20260425T115259
CREATED:20260302T015432Z
LAST-MODIFIED:20260302T015432Z
UID:10010649-1782478800-1782482400@yokota374fss.com
SUMMARY:Animal Flow
DESCRIPTION:Fridays • 1 p.m.–2 p.m.\nInstructor: Ladonna Spivey\n$50/8 Classes\n$30/4 Classes\n$8 Walk In
URL:https://yokota374fss.com/event/animal-flow/2026-06-26/
CATEGORIES:Natatorium
END:VEVENT
BEGIN:VEVENT
DTSTART;TZID=Asia/Tokyo:20260703T130000
DTEND;TZID=Asia/Tokyo:20260703T140000
DTSTAMP:20260425T115259
CREATED:20260302T015432Z
LAST-MODIFIED:20260302T015432Z
UID:10010650-1783083600-1783087200@yokota374fss.com
SUMMARY:Animal Flow
DESCRIPTION:Fridays • 1 p.m.–2 p.m.\nInstructor: Ladonna Spivey\n$50/8 Classes\n$30/4 Classes\n$8 Walk In
URL:https://yokota374fss.com/event/animal-flow/2026-07-03/
CATEGORIES:Natatorium
END:VEVENT
BEGIN:VEVENT
DTSTART;TZID=Asia/Tokyo:20260710T130000
DTEND;TZID=Asia/Tokyo:20260710T140000
DTSTAMP:20260425T115259
CREATED:20260302T015432Z
LAST-MODIFIED:20260302T015432Z
UID:10010651-1783688400-1783692000@yokota374fss.com
SUMMARY:Animal Flow
DESCRIPTION:Fridays • 1 p.m.–2 p.m.\nInstructor: Ladonna Spivey\n$50/8 Classes\n$30/4 Classes\n$8 Walk In
URL:https://yokota374fss.com/event/animal-flow/2026-07-10/
CATEGORIES:Natatorium
END:VEVENT
BEGIN:VEVENT
DTSTART;TZID=Asia/Tokyo:20260717T130000
DTEND;TZID=Asia/Tokyo:20260717T140000
DTSTAMP:20260425T115259
CREATED:20260302T015432Z
LAST-MODIFIED:20260302T015432Z
UID:10010652-1784293200-1784296800@yokota374fss.com
SUMMARY:Animal Flow
DESCRIPTION:Fridays • 1 p.m.–2 p.m.\nInstructor: Ladonna Spivey\n$50/8 Classes\n$30/4 Classes\n$8 Walk In
URL:https://yokota374fss.com/event/animal-flow/2026-07-17/
CATEGORIES:Natatorium
END:VEVENT
BEGIN:VEVENT
DTSTART;TZID=Asia/Tokyo:20260724T130000
DTEND;TZID=Asia/Tokyo:20260724T140000
DTSTAMP:20260425T115259
CREATED:20260302T015432Z
LAST-MODIFIED:20260302T015432Z
UID:10010653-1784898000-1784901600@yokota374fss.com
SUMMARY:Animal Flow
DESCRIPTION:Fridays • 1 p.m.–2 p.m.\nInstructor: Ladonna Spivey\n$50/8 Classes\n$30/4 Classes\n$8 Walk In
URL:https://yokota374fss.com/event/animal-flow/2026-07-24/
CATEGORIES:Natatorium
END:VEVENT
BEGIN:VEVENT
DTSTART;TZID=Asia/Tokyo:20260731T130000
DTEND;TZID=Asia/Tokyo:20260731T140000
DTSTAMP:20260425T115259
CREATED:20260302T015432Z
LAST-MODIFIED:20260302T015432Z
UID:10010654-1785502800-1785506400@yokota374fss.com
SUMMARY:Animal Flow
DESCRIPTION:Fridays • 1 p.m.–2 p.m.\nInstructor: Ladonna Spivey\n$50/8 Classes\n$30/4 Classes\n$8 Walk In
URL:https://yokota374fss.com/event/animal-flow/2026-07-31/
CATEGORIES:Natatorium
END:VEVENT
BEGIN:VEVENT
DTSTART;TZID=Asia/Tokyo:20260807T130000
DTEND;TZID=Asia/Tokyo:20260807T140000
DTSTAMP:20260425T115259
CREATED:20260302T015432Z
LAST-MODIFIED:20260302T015432Z
UID:10010655-1786107600-1786111200@yokota374fss.com
SUMMARY:Animal Flow
DESCRIPTION:Fridays • 1 p.m.–2 p.m.\nInstructor: Ladonna Spivey\n$50/8 Classes\n$30/4 Classes\n$8 Walk In
URL:https://yokota374fss.com/event/animal-flow/2026-08-07/
CATEGORIES:Natatorium
END:VEVENT
BEGIN:VEVENT
DTSTART;TZID=Asia/Tokyo:20260814T130000
DTEND;TZID=Asia/Tokyo:20260814T140000
DTSTAMP:20260425T115259
CREATED:20260302T015432Z
LAST-MODIFIED:20260302T015432Z
UID:10010656-1786712400-1786716000@yokota374fss.com
SUMMARY:Animal Flow
DESCRIPTION:Fridays • 1 p.m.–2 p.m.\nInstructor: Ladonna Spivey\n$50/8 Classes\n$30/4 Classes\n$8 Walk In
URL:https://yokota374fss.com/event/animal-flow/2026-08-14/
CATEGORIES:Natatorium
END:VEVENT
BEGIN:VEVENT
DTSTART;TZID=Asia/Tokyo:20260821T130000
DTEND;TZID=Asia/Tokyo:20260821T140000
DTSTAMP:20260425T115259
CREATED:20260302T015432Z
LAST-MODIFIED:20260302T015432Z
UID:10010657-1787317200-1787320800@yokota374fss.com
SUMMARY:Animal Flow
DESCRIPTION:Fridays • 1 p.m.–2 p.m.\nInstructor: Ladonna Spivey\n$50/8 Classes\n$30/4 Classes\n$8 Walk In
URL:https://yokota374fss.com/event/animal-flow/2026-08-21/
CATEGORIES:Natatorium
END:VEVENT
BEGIN:VEVENT
DTSTART;TZID=Asia/Tokyo:20260828T130000
DTEND;TZID=Asia/Tokyo:20260828T140000
DTSTAMP:20260425T115259
CREATED:20260302T015432Z
LAST-MODIFIED:20260302T015432Z
UID:10010658-1787922000-1787925600@yokota374fss.com
SUMMARY:Animal Flow
DESCRIPTION:Fridays • 1 p.m.–2 p.m.\nInstructor: Ladonna Spivey\n$50/8 Classes\n$30/4 Classes\n$8 Walk In
URL:https://yokota374fss.com/event/animal-flow/2026-08-28/
CATEGORIES:Natatorium
END:VEVENT
BEGIN:VEVENT
DTSTART;TZID=Asia/Tokyo:20260904T130000
DTEND;TZID=Asia/Tokyo:20260904T140000
DTSTAMP:20260425T115259
CREATED:20260302T015432Z
LAST-MODIFIED:20260302T015432Z
UID:10010659-1788526800-1788530400@yokota374fss.com
SUMMARY:Animal Flow
DESCRIPTION:Fridays • 1 p.m.–2 p.m.\nInstructor: Ladonna Spivey\n$50/8 Classes\n$30/4 Classes\n$8 Walk In
URL:https://yokota374fss.com/event/animal-flow/2026-09-04/
CATEGORIES:Natatorium
END:VEVENT
BEGIN:VEVENT
DTSTART;TZID=Asia/Tokyo:20260911T130000
DTEND;TZID=Asia/Tokyo:20260911T140000
DTSTAMP:20260425T115259
CREATED:20260302T015432Z
LAST-MODIFIED:20260302T015432Z
UID:10010660-1789131600-1789135200@yokota374fss.com
SUMMARY:Animal Flow
DESCRIPTION:Fridays • 1 p.m.–2 p.m.\nInstructor: Ladonna Spivey\n$50/8 Classes\n$30/4 Classes\n$8 Walk In
URL:https://yokota374fss.com/event/animal-flow/2026-09-11/
CATEGORIES:Natatorium
END:VEVENT
BEGIN:VEVENT
DTSTART;TZID=Asia/Tokyo:20260918T130000
DTEND;TZID=Asia/Tokyo:20260918T140000
DTSTAMP:20260425T115259
CREATED:20260302T015432Z
LAST-MODIFIED:20260302T015432Z
UID:10010661-1789736400-1789740000@yokota374fss.com
SUMMARY:Animal Flow
DESCRIPTION:Fridays • 1 p.m.–2 p.m.\nInstructor: Ladonna Spivey\n$50/8 Classes\n$30/4 Classes\n$8 Walk In
URL:https://yokota374fss.com/event/animal-flow/2026-09-18/
CATEGORIES:Natatorium
END:VEVENT
BEGIN:VEVENT
DTSTART;TZID=Asia/Tokyo:20260925T130000
DTEND;TZID=Asia/Tokyo:20260925T140000
DTSTAMP:20260425T115259
CREATED:20260302T015432Z
LAST-MODIFIED:20260302T015432Z
UID:10010662-1790341200-1790344800@yokota374fss.com
SUMMARY:Animal Flow
DESCRIPTION:Fridays • 1 p.m.–2 p.m.\nInstructor: Ladonna Spivey\n$50/8 Classes\n$30/4 Classes\n$8 Walk In
URL:https://yokota374fss.com/event/animal-flow/2026-09-25/
CATEGORIES:Natatorium
END:VEVENT
BEGIN:VEVENT
DTSTART;TZID=Asia/Tokyo:20261002T130000
DTEND;TZID=Asia/Tokyo:20261002T140000
DTSTAMP:20260425T115259
CREATED:20260302T015432Z
LAST-MODIFIED:20260302T015432Z
UID:10010663-1790946000-1790949600@yokota374fss.com
SUMMARY:Animal Flow
DESCRIPTION:Fridays • 1 p.m.–2 p.m.\nInstructor: Ladonna Spivey\n$50/8 Classes\n$30/4 Classes\n$8 Walk In
URL:https://yokota374fss.com/event/animal-flow/2026-10-02/
CATEGORIES:Natatorium
END:VEVENT
BEGIN:VEVENT
DTSTART;TZID=Asia/Tokyo:20261009T130000
DTEND;TZID=Asia/Tokyo:20261009T140000
DTSTAMP:20260425T115259
CREATED:20260302T015432Z
LAST-MODIFIED:20260302T015432Z
UID:10010664-1791550800-1791554400@yokota374fss.com
SUMMARY:Animal Flow
DESCRIPTION:Fridays • 1 p.m.–2 p.m.\nInstructor: Ladonna Spivey\n$50/8 Classes\n$30/4 Classes\n$8 Walk In
URL:https://yokota374fss.com/event/animal-flow/2026-10-09/
CATEGORIES:Natatorium
END:VEVENT
BEGIN:VEVENT
DTSTART;TZID=Asia/Tokyo:20261016T130000
DTEND;TZID=Asia/Tokyo:20261016T140000
DTSTAMP:20260425T115259
CREATED:20260302T015432Z
LAST-MODIFIED:20260302T015432Z
UID:10010665-1792155600-1792159200@yokota374fss.com
SUMMARY:Animal Flow
DESCRIPTION:Fridays • 1 p.m.–2 p.m.\nInstructor: Ladonna Spivey\n$50/8 Classes\n$30/4 Classes\n$8 Walk In
URL:https://yokota374fss.com/event/animal-flow/2026-10-16/
CATEGORIES:Natatorium
END:VEVENT
BEGIN:VEVENT
DTSTART;TZID=Asia/Tokyo:20261023T130000
DTEND;TZID=Asia/Tokyo:20261023T140000
DTSTAMP:20260425T115259
CREATED:20260302T015432Z
LAST-MODIFIED:20260302T015432Z
UID:10010666-1792760400-1792764000@yokota374fss.com
SUMMARY:Animal Flow
DESCRIPTION:Fridays • 1 p.m.–2 p.m.\nInstructor: Ladonna Spivey\n$50/8 Classes\n$30/4 Classes\n$8 Walk In
URL:https://yokota374fss.com/event/animal-flow/2026-10-23/
CATEGORIES:Natatorium
END:VEVENT
BEGIN:VEVENT
DTSTART;TZID=Asia/Tokyo:20261030T130000
DTEND;TZID=Asia/Tokyo:20261030T140000
DTSTAMP:20260425T115259
CREATED:20260302T015432Z
LAST-MODIFIED:20260302T015432Z
UID:10010667-1793365200-1793368800@yokota374fss.com
SUMMARY:Animal Flow
DESCRIPTION:Fridays • 1 p.m.–2 p.m.\nInstructor: Ladonna Spivey\n$50/8 Classes\n$30/4 Classes\n$8 Walk In
URL:https://yokota374fss.com/event/animal-flow/2026-10-30/
CATEGORIES:Natatorium
END:VEVENT
BEGIN:VEVENT
DTSTART;TZID=Asia/Tokyo:20261106T130000
DTEND;TZID=Asia/Tokyo:20261106T140000
DTSTAMP:20260425T115259
CREATED:20260302T015432Z
LAST-MODIFIED:20260302T015432Z
UID:10010668-1793970000-1793973600@yokota374fss.com
SUMMARY:Animal Flow
DESCRIPTION:Fridays • 1 p.m.–2 p.m.\nInstructor: Ladonna Spivey\n$50/8 Classes\n$30/4 Classes\n$8 Walk In
URL:https://yokota374fss.com/event/animal-flow/2026-11-06/
CATEGORIES:Natatorium
END:VEVENT
BEGIN:VEVENT
DTSTART;TZID=Asia/Tokyo:20261113T130000
DTEND;TZID=Asia/Tokyo:20261113T140000
DTSTAMP:20260425T115259
CREATED:20260302T015432Z
LAST-MODIFIED:20260302T015432Z
UID:10010669-1794574800-1794578400@yokota374fss.com
SUMMARY:Animal Flow
DESCRIPTION:Fridays • 1 p.m.–2 p.m.\nInstructor: Ladonna Spivey\n$50/8 Classes\n$30/4 Classes\n$8 Walk In
URL:https://yokota374fss.com/event/animal-flow/2026-11-13/
CATEGORIES:Natatorium
END:VEVENT
BEGIN:VEVENT
DTSTART;TZID=Asia/Tokyo:20261120T130000
DTEND;TZID=Asia/Tokyo:20261120T140000
DTSTAMP:20260425T115259
CREATED:20260302T015432Z
LAST-MODIFIED:20260302T015432Z
UID:10010670-1795179600-1795183200@yokota374fss.com
SUMMARY:Animal Flow
DESCRIPTION:Fridays • 1 p.m.–2 p.m.\nInstructor: Ladonna Spivey\n$50/8 Classes\n$30/4 Classes\n$8 Walk In
URL:https://yokota374fss.com/event/animal-flow/2026-11-20/
CATEGORIES:Natatorium
END:VEVENT
END:VCALENDAR