BEGIN:VCALENDAR
VERSION:2.0
PRODID:-//Yokota FSS - ECPv6.15.20//NONSGML v1.0//EN
CALSCALE:GREGORIAN
METHOD:PUBLISH
X-WR-CALNAME:Yokota FSS
X-ORIGINAL-URL:https://yokota374fss.com
X-WR-CALDESC:Events for Yokota FSS
REFRESH-INTERVAL;VALUE=DURATION:PT1H
X-Robots-Tag:noindex
X-PUBLISHED-TTL:PT1H
BEGIN:VTIMEZONE
TZID:Asia/Tokyo
BEGIN:STANDARD
TZOFFSETFROM:+0900
TZOFFSETTO:+0900
TZNAME:JST
DTSTART:20250101T000000
END:STANDARD
END:VTIMEZONE
BEGIN:VEVENT
DTSTART;TZID=Asia/Tokyo:20260428T153000
DTEND;TZID=Asia/Tokyo:20260428T161500
DTSTAMP:20260425T102605
CREATED:20260302T023016Z
LAST-MODIFIED:20260303T044729Z
UID:10010747-1777390200-1777392900@yokota374fss.com
SUMMARY:Hip Hop Tots
DESCRIPTION:Tuesdays • 3:30 p.m.–4:15 p.m.\nAges 3-6\nInstructor: Ami Ishida\n$45
URL:https://yokota374fss.com/event/hip-hop-tots/2026-04-28/
CATEGORIES:Natatorium
END:VEVENT
BEGIN:VEVENT
DTSTART;TZID=Asia/Tokyo:20260505T153000
DTEND;TZID=Asia/Tokyo:20260505T161500
DTSTAMP:20260425T102605
CREATED:20260302T023016Z
LAST-MODIFIED:20260303T044729Z
UID:10010748-1777995000-1777997700@yokota374fss.com
SUMMARY:Hip Hop Tots
DESCRIPTION:Tuesdays • 3:30 p.m.–4:15 p.m.\nAges 3-6\nInstructor: Ami Ishida\n$45
URL:https://yokota374fss.com/event/hip-hop-tots/2026-05-05/
CATEGORIES:Natatorium
END:VEVENT
BEGIN:VEVENT
DTSTART;TZID=Asia/Tokyo:20260512T153000
DTEND;TZID=Asia/Tokyo:20260512T161500
DTSTAMP:20260425T102605
CREATED:20260302T023016Z
LAST-MODIFIED:20260303T044729Z
UID:10010749-1778599800-1778602500@yokota374fss.com
SUMMARY:Hip Hop Tots
DESCRIPTION:Tuesdays • 3:30 p.m.–4:15 p.m.\nAges 3-6\nInstructor: Ami Ishida\n$45
URL:https://yokota374fss.com/event/hip-hop-tots/2026-05-12/
CATEGORIES:Natatorium
END:VEVENT
BEGIN:VEVENT
DTSTART;TZID=Asia/Tokyo:20260519T153000
DTEND;TZID=Asia/Tokyo:20260519T161500
DTSTAMP:20260425T102605
CREATED:20260302T023016Z
LAST-MODIFIED:20260303T044729Z
UID:10010750-1779204600-1779207300@yokota374fss.com
SUMMARY:Hip Hop Tots
DESCRIPTION:Tuesdays • 3:30 p.m.–4:15 p.m.\nAges 3-6\nInstructor: Ami Ishida\n$45
URL:https://yokota374fss.com/event/hip-hop-tots/2026-05-19/
CATEGORIES:Natatorium
END:VEVENT
BEGIN:VEVENT
DTSTART;TZID=Asia/Tokyo:20260526T153000
DTEND;TZID=Asia/Tokyo:20260526T161500
DTSTAMP:20260425T102605
CREATED:20260302T023016Z
LAST-MODIFIED:20260303T044729Z
UID:10010751-1779809400-1779812100@yokota374fss.com
SUMMARY:Hip Hop Tots
DESCRIPTION:Tuesdays • 3:30 p.m.–4:15 p.m.\nAges 3-6\nInstructor: Ami Ishida\n$45
URL:https://yokota374fss.com/event/hip-hop-tots/2026-05-26/
CATEGORIES:Natatorium
END:VEVENT
BEGIN:VEVENT
DTSTART;TZID=Asia/Tokyo:20260602T153000
DTEND;TZID=Asia/Tokyo:20260602T161500
DTSTAMP:20260425T102605
CREATED:20260302T023016Z
LAST-MODIFIED:20260303T044729Z
UID:10010752-1780414200-1780416900@yokota374fss.com
SUMMARY:Hip Hop Tots
DESCRIPTION:Tuesdays • 3:30 p.m.–4:15 p.m.\nAges 3-6\nInstructor: Ami Ishida\n$45
URL:https://yokota374fss.com/event/hip-hop-tots/2026-06-02/
CATEGORIES:Natatorium
END:VEVENT
BEGIN:VEVENT
DTSTART;TZID=Asia/Tokyo:20260609T153000
DTEND;TZID=Asia/Tokyo:20260609T161500
DTSTAMP:20260425T102605
CREATED:20260302T023016Z
LAST-MODIFIED:20260303T044729Z
UID:10010753-1781019000-1781021700@yokota374fss.com
SUMMARY:Hip Hop Tots
DESCRIPTION:Tuesdays • 3:30 p.m.–4:15 p.m.\nAges 3-6\nInstructor: Ami Ishida\n$45
URL:https://yokota374fss.com/event/hip-hop-tots/2026-06-09/
CATEGORIES:Natatorium
END:VEVENT
BEGIN:VEVENT
DTSTART;TZID=Asia/Tokyo:20260616T153000
DTEND;TZID=Asia/Tokyo:20260616T161500
DTSTAMP:20260425T102605
CREATED:20260302T023016Z
LAST-MODIFIED:20260303T044729Z
UID:10010754-1781623800-1781626500@yokota374fss.com
SUMMARY:Hip Hop Tots
DESCRIPTION:Tuesdays • 3:30 p.m.–4:15 p.m.\nAges 3-6\nInstructor: Ami Ishida\n$45
URL:https://yokota374fss.com/event/hip-hop-tots/2026-06-16/
CATEGORIES:Natatorium
END:VEVENT
BEGIN:VEVENT
DTSTART;TZID=Asia/Tokyo:20260623T153000
DTEND;TZID=Asia/Tokyo:20260623T161500
DTSTAMP:20260425T102605
CREATED:20260302T023016Z
LAST-MODIFIED:20260303T044729Z
UID:10010755-1782228600-1782231300@yokota374fss.com
SUMMARY:Hip Hop Tots
DESCRIPTION:Tuesdays • 3:30 p.m.–4:15 p.m.\nAges 3-6\nInstructor: Ami Ishida\n$45
URL:https://yokota374fss.com/event/hip-hop-tots/2026-06-23/
CATEGORIES:Natatorium
END:VEVENT
BEGIN:VEVENT
DTSTART;TZID=Asia/Tokyo:20260630T153000
DTEND;TZID=Asia/Tokyo:20260630T161500
DTSTAMP:20260425T102605
CREATED:20260302T023016Z
LAST-MODIFIED:20260303T044729Z
UID:10010756-1782833400-1782836100@yokota374fss.com
SUMMARY:Hip Hop Tots
DESCRIPTION:Tuesdays • 3:30 p.m.–4:15 p.m.\nAges 3-6\nInstructor: Ami Ishida\n$45
URL:https://yokota374fss.com/event/hip-hop-tots/2026-06-30/
CATEGORIES:Natatorium
END:VEVENT
BEGIN:VEVENT
DTSTART;TZID=Asia/Tokyo:20260707T153000
DTEND;TZID=Asia/Tokyo:20260707T161500
DTSTAMP:20260425T102605
CREATED:20260302T023016Z
LAST-MODIFIED:20260303T044729Z
UID:10010757-1783438200-1783440900@yokota374fss.com
SUMMARY:Hip Hop Tots
DESCRIPTION:Tuesdays • 3:30 p.m.–4:15 p.m.\nAges 3-6\nInstructor: Ami Ishida\n$45
URL:https://yokota374fss.com/event/hip-hop-tots/2026-07-07/
CATEGORIES:Natatorium
END:VEVENT
BEGIN:VEVENT
DTSTART;TZID=Asia/Tokyo:20260714T153000
DTEND;TZID=Asia/Tokyo:20260714T161500
DTSTAMP:20260425T102605
CREATED:20260302T023016Z
LAST-MODIFIED:20260303T044729Z
UID:10010758-1784043000-1784045700@yokota374fss.com
SUMMARY:Hip Hop Tots
DESCRIPTION:Tuesdays • 3:30 p.m.–4:15 p.m.\nAges 3-6\nInstructor: Ami Ishida\n$45
URL:https://yokota374fss.com/event/hip-hop-tots/2026-07-14/
CATEGORIES:Natatorium
END:VEVENT
BEGIN:VEVENT
DTSTART;TZID=Asia/Tokyo:20260721T153000
DTEND;TZID=Asia/Tokyo:20260721T161500
DTSTAMP:20260425T102605
CREATED:20260302T023016Z
LAST-MODIFIED:20260303T044729Z
UID:10010759-1784647800-1784650500@yokota374fss.com
SUMMARY:Hip Hop Tots
DESCRIPTION:Tuesdays • 3:30 p.m.–4:15 p.m.\nAges 3-6\nInstructor: Ami Ishida\n$45
URL:https://yokota374fss.com/event/hip-hop-tots/2026-07-21/
CATEGORIES:Natatorium
END:VEVENT
BEGIN:VEVENT
DTSTART;TZID=Asia/Tokyo:20260728T153000
DTEND;TZID=Asia/Tokyo:20260728T161500
DTSTAMP:20260425T102605
CREATED:20260302T023016Z
LAST-MODIFIED:20260303T044729Z
UID:10010760-1785252600-1785255300@yokota374fss.com
SUMMARY:Hip Hop Tots
DESCRIPTION:Tuesdays • 3:30 p.m.–4:15 p.m.\nAges 3-6\nInstructor: Ami Ishida\n$45
URL:https://yokota374fss.com/event/hip-hop-tots/2026-07-28/
CATEGORIES:Natatorium
END:VEVENT
BEGIN:VEVENT
DTSTART;TZID=Asia/Tokyo:20260804T153000
DTEND;TZID=Asia/Tokyo:20260804T161500
DTSTAMP:20260425T102605
CREATED:20260302T023016Z
LAST-MODIFIED:20260303T044729Z
UID:10010761-1785857400-1785860100@yokota374fss.com
SUMMARY:Hip Hop Tots
DESCRIPTION:Tuesdays • 3:30 p.m.–4:15 p.m.\nAges 3-6\nInstructor: Ami Ishida\n$45
URL:https://yokota374fss.com/event/hip-hop-tots/2026-08-04/
CATEGORIES:Natatorium
END:VEVENT
BEGIN:VEVENT
DTSTART;TZID=Asia/Tokyo:20260811T153000
DTEND;TZID=Asia/Tokyo:20260811T161500
DTSTAMP:20260425T102605
CREATED:20260302T023016Z
LAST-MODIFIED:20260303T044729Z
UID:10010762-1786462200-1786464900@yokota374fss.com
SUMMARY:Hip Hop Tots
DESCRIPTION:Tuesdays • 3:30 p.m.–4:15 p.m.\nAges 3-6\nInstructor: Ami Ishida\n$45
URL:https://yokota374fss.com/event/hip-hop-tots/2026-08-11/
CATEGORIES:Natatorium
END:VEVENT
BEGIN:VEVENT
DTSTART;TZID=Asia/Tokyo:20260818T153000
DTEND;TZID=Asia/Tokyo:20260818T161500
DTSTAMP:20260425T102605
CREATED:20260302T023016Z
LAST-MODIFIED:20260303T044729Z
UID:10010763-1787067000-1787069700@yokota374fss.com
SUMMARY:Hip Hop Tots
DESCRIPTION:Tuesdays • 3:30 p.m.–4:15 p.m.\nAges 3-6\nInstructor: Ami Ishida\n$45
URL:https://yokota374fss.com/event/hip-hop-tots/2026-08-18/
CATEGORIES:Natatorium
END:VEVENT
BEGIN:VEVENT
DTSTART;TZID=Asia/Tokyo:20260825T153000
DTEND;TZID=Asia/Tokyo:20260825T161500
DTSTAMP:20260425T102605
CREATED:20260302T023016Z
LAST-MODIFIED:20260303T044729Z
UID:10010764-1787671800-1787674500@yokota374fss.com
SUMMARY:Hip Hop Tots
DESCRIPTION:Tuesdays • 3:30 p.m.–4:15 p.m.\nAges 3-6\nInstructor: Ami Ishida\n$45
URL:https://yokota374fss.com/event/hip-hop-tots/2026-08-25/
CATEGORIES:Natatorium
END:VEVENT
BEGIN:VEVENT
DTSTART;TZID=Asia/Tokyo:20260901T153000
DTEND;TZID=Asia/Tokyo:20260901T161500
DTSTAMP:20260425T102605
CREATED:20260302T023016Z
LAST-MODIFIED:20260303T044729Z
UID:10010765-1788276600-1788279300@yokota374fss.com
SUMMARY:Hip Hop Tots
DESCRIPTION:Tuesdays • 3:30 p.m.–4:15 p.m.\nAges 3-6\nInstructor: Ami Ishida\n$45
URL:https://yokota374fss.com/event/hip-hop-tots/2026-09-01/
CATEGORIES:Natatorium
END:VEVENT
BEGIN:VEVENT
DTSTART;TZID=Asia/Tokyo:20260908T153000
DTEND;TZID=Asia/Tokyo:20260908T161500
DTSTAMP:20260425T102605
CREATED:20260302T023016Z
LAST-MODIFIED:20260303T044729Z
UID:10010766-1788881400-1788884100@yokota374fss.com
SUMMARY:Hip Hop Tots
DESCRIPTION:Tuesdays • 3:30 p.m.–4:15 p.m.\nAges 3-6\nInstructor: Ami Ishida\n$45
URL:https://yokota374fss.com/event/hip-hop-tots/2026-09-08/
CATEGORIES:Natatorium
END:VEVENT
BEGIN:VEVENT
DTSTART;TZID=Asia/Tokyo:20260915T153000
DTEND;TZID=Asia/Tokyo:20260915T161500
DTSTAMP:20260425T102605
CREATED:20260302T023016Z
LAST-MODIFIED:20260303T044729Z
UID:10010767-1789486200-1789488900@yokota374fss.com
SUMMARY:Hip Hop Tots
DESCRIPTION:Tuesdays • 3:30 p.m.–4:15 p.m.\nAges 3-6\nInstructor: Ami Ishida\n$45
URL:https://yokota374fss.com/event/hip-hop-tots/2026-09-15/
CATEGORIES:Natatorium
END:VEVENT
BEGIN:VEVENT
DTSTART;TZID=Asia/Tokyo:20260922T153000
DTEND;TZID=Asia/Tokyo:20260922T161500
DTSTAMP:20260425T102605
CREATED:20260302T023016Z
LAST-MODIFIED:20260303T044729Z
UID:10010768-1790091000-1790093700@yokota374fss.com
SUMMARY:Hip Hop Tots
DESCRIPTION:Tuesdays • 3:30 p.m.–4:15 p.m.\nAges 3-6\nInstructor: Ami Ishida\n$45
URL:https://yokota374fss.com/event/hip-hop-tots/2026-09-22/
CATEGORIES:Natatorium
END:VEVENT
BEGIN:VEVENT
DTSTART;TZID=Asia/Tokyo:20260929T153000
DTEND;TZID=Asia/Tokyo:20260929T161500
DTSTAMP:20260425T102605
CREATED:20260302T023016Z
LAST-MODIFIED:20260303T044729Z
UID:10010769-1790695800-1790698500@yokota374fss.com
SUMMARY:Hip Hop Tots
DESCRIPTION:Tuesdays • 3:30 p.m.–4:15 p.m.\nAges 3-6\nInstructor: Ami Ishida\n$45
URL:https://yokota374fss.com/event/hip-hop-tots/2026-09-29/
CATEGORIES:Natatorium
END:VEVENT
BEGIN:VEVENT
DTSTART;TZID=Asia/Tokyo:20261006T153000
DTEND;TZID=Asia/Tokyo:20261006T161500
DTSTAMP:20260425T102605
CREATED:20260302T023016Z
LAST-MODIFIED:20260303T044729Z
UID:10010770-1791300600-1791303300@yokota374fss.com
SUMMARY:Hip Hop Tots
DESCRIPTION:Tuesdays • 3:30 p.m.–4:15 p.m.\nAges 3-6\nInstructor: Ami Ishida\n$45
URL:https://yokota374fss.com/event/hip-hop-tots/2026-10-06/
CATEGORIES:Natatorium
END:VEVENT
BEGIN:VEVENT
DTSTART;TZID=Asia/Tokyo:20261013T153000
DTEND;TZID=Asia/Tokyo:20261013T161500
DTSTAMP:20260425T102605
CREATED:20260302T023016Z
LAST-MODIFIED:20260303T044729Z
UID:10010771-1791905400-1791908100@yokota374fss.com
SUMMARY:Hip Hop Tots
DESCRIPTION:Tuesdays • 3:30 p.m.–4:15 p.m.\nAges 3-6\nInstructor: Ami Ishida\n$45
URL:https://yokota374fss.com/event/hip-hop-tots/2026-10-13/
CATEGORIES:Natatorium
END:VEVENT
BEGIN:VEVENT
DTSTART;TZID=Asia/Tokyo:20261020T153000
DTEND;TZID=Asia/Tokyo:20261020T161500
DTSTAMP:20260425T102605
CREATED:20260302T023016Z
LAST-MODIFIED:20260303T044729Z
UID:10010772-1792510200-1792512900@yokota374fss.com
SUMMARY:Hip Hop Tots
DESCRIPTION:Tuesdays • 3:30 p.m.–4:15 p.m.\nAges 3-6\nInstructor: Ami Ishida\n$45
URL:https://yokota374fss.com/event/hip-hop-tots/2026-10-20/
CATEGORIES:Natatorium
END:VEVENT
BEGIN:VEVENT
DTSTART;TZID=Asia/Tokyo:20261027T153000
DTEND;TZID=Asia/Tokyo:20261027T161500
DTSTAMP:20260425T102605
CREATED:20260302T023016Z
LAST-MODIFIED:20260303T044729Z
UID:10010773-1793115000-1793117700@yokota374fss.com
SUMMARY:Hip Hop Tots
DESCRIPTION:Tuesdays • 3:30 p.m.–4:15 p.m.\nAges 3-6\nInstructor: Ami Ishida\n$45
URL:https://yokota374fss.com/event/hip-hop-tots/2026-10-27/
CATEGORIES:Natatorium
END:VEVENT
BEGIN:VEVENT
DTSTART;TZID=Asia/Tokyo:20261103T153000
DTEND;TZID=Asia/Tokyo:20261103T161500
DTSTAMP:20260425T102605
CREATED:20260302T023016Z
LAST-MODIFIED:20260303T044729Z
UID:10010774-1793719800-1793722500@yokota374fss.com
SUMMARY:Hip Hop Tots
DESCRIPTION:Tuesdays • 3:30 p.m.–4:15 p.m.\nAges 3-6\nInstructor: Ami Ishida\n$45
URL:https://yokota374fss.com/event/hip-hop-tots/2026-11-03/
CATEGORIES:Natatorium
END:VEVENT
BEGIN:VEVENT
DTSTART;TZID=Asia/Tokyo:20261110T153000
DTEND;TZID=Asia/Tokyo:20261110T161500
DTSTAMP:20260425T102605
CREATED:20260302T023016Z
LAST-MODIFIED:20260303T044729Z
UID:10010775-1794324600-1794327300@yokota374fss.com
SUMMARY:Hip Hop Tots
DESCRIPTION:Tuesdays • 3:30 p.m.–4:15 p.m.\nAges 3-6\nInstructor: Ami Ishida\n$45
URL:https://yokota374fss.com/event/hip-hop-tots/2026-11-10/
CATEGORIES:Natatorium
END:VEVENT
BEGIN:VEVENT
DTSTART;TZID=Asia/Tokyo:20261117T153000
DTEND;TZID=Asia/Tokyo:20261117T161500
DTSTAMP:20260425T102605
CREATED:20260302T023016Z
LAST-MODIFIED:20260303T044729Z
UID:10010776-1794929400-1794932100@yokota374fss.com
SUMMARY:Hip Hop Tots
DESCRIPTION:Tuesdays • 3:30 p.m.–4:15 p.m.\nAges 3-6\nInstructor: Ami Ishida\n$45
URL:https://yokota374fss.com/event/hip-hop-tots/2026-11-17/
CATEGORIES:Natatorium
END:VEVENT
END:VCALENDAR