BEGIN:VCALENDAR
VERSION:2.0
PRODID:-//Yokota FSS - ECPv6.15.20//NONSGML v1.0//EN
CALSCALE:GREGORIAN
METHOD:PUBLISH
X-WR-CALNAME:Yokota FSS
X-ORIGINAL-URL:https://yokota374fss.com
X-WR-CALDESC:Events for Yokota FSS
REFRESH-INTERVAL;VALUE=DURATION:PT1H
X-Robots-Tag:noindex
X-PUBLISHED-TTL:PT1H
BEGIN:VTIMEZONE
TZID:Asia/Tokyo
BEGIN:STANDARD
TZOFFSETFROM:+0900
TZOFFSETTO:+0900
TZNAME:JST
DTSTART:20250101T000000
END:STANDARD
END:VTIMEZONE
BEGIN:VEVENT
DTSTART;TZID=Asia/Tokyo:20260429T093000
DTEND;TZID=Asia/Tokyo:20260429T223000
DTSTAMP:20260425T102726
CREATED:20260303T051025Z
LAST-MODIFIED:20260303T071800Z
UID:10010807-1777455000-1777501800@yokota374fss.com
SUMMARY:Yoga Rise N Shine
DESCRIPTION:Wednesdays • 9:30 a.m.–10:30 p.m.\nInstructor: Jaqueline Goodwin\n$40/8 Classes\n$24/4 Classes\n$7 Walk In
URL:https://yokota374fss.com/event/hatha-rise-n-shine/2026-04-29/
CATEGORIES:Natatorium
END:VEVENT
BEGIN:VEVENT
DTSTART;TZID=Asia/Tokyo:20260506T093000
DTEND;TZID=Asia/Tokyo:20260506T223000
DTSTAMP:20260425T102726
CREATED:20260303T051025Z
LAST-MODIFIED:20260303T071800Z
UID:10010808-1778059800-1778106600@yokota374fss.com
SUMMARY:Yoga Rise N Shine
DESCRIPTION:Wednesdays • 9:30 a.m.–10:30 p.m.\nInstructor: Jaqueline Goodwin\n$40/8 Classes\n$24/4 Classes\n$7 Walk In
URL:https://yokota374fss.com/event/hatha-rise-n-shine/2026-05-06/
CATEGORIES:Natatorium
END:VEVENT
BEGIN:VEVENT
DTSTART;TZID=Asia/Tokyo:20260513T093000
DTEND;TZID=Asia/Tokyo:20260513T223000
DTSTAMP:20260425T102726
CREATED:20260303T051025Z
LAST-MODIFIED:20260303T071800Z
UID:10010809-1778664600-1778711400@yokota374fss.com
SUMMARY:Yoga Rise N Shine
DESCRIPTION:Wednesdays • 9:30 a.m.–10:30 p.m.\nInstructor: Jaqueline Goodwin\n$40/8 Classes\n$24/4 Classes\n$7 Walk In
URL:https://yokota374fss.com/event/hatha-rise-n-shine/2026-05-13/
CATEGORIES:Natatorium
END:VEVENT
BEGIN:VEVENT
DTSTART;TZID=Asia/Tokyo:20260520T093000
DTEND;TZID=Asia/Tokyo:20260520T223000
DTSTAMP:20260425T102726
CREATED:20260303T051025Z
LAST-MODIFIED:20260303T071800Z
UID:10010810-1779269400-1779316200@yokota374fss.com
SUMMARY:Yoga Rise N Shine
DESCRIPTION:Wednesdays • 9:30 a.m.–10:30 p.m.\nInstructor: Jaqueline Goodwin\n$40/8 Classes\n$24/4 Classes\n$7 Walk In
URL:https://yokota374fss.com/event/hatha-rise-n-shine/2026-05-20/
CATEGORIES:Natatorium
END:VEVENT
BEGIN:VEVENT
DTSTART;TZID=Asia/Tokyo:20260527T093000
DTEND;TZID=Asia/Tokyo:20260527T223000
DTSTAMP:20260425T102726
CREATED:20260303T051025Z
LAST-MODIFIED:20260303T071800Z
UID:10010811-1779874200-1779921000@yokota374fss.com
SUMMARY:Yoga Rise N Shine
DESCRIPTION:Wednesdays • 9:30 a.m.–10:30 p.m.\nInstructor: Jaqueline Goodwin\n$40/8 Classes\n$24/4 Classes\n$7 Walk In
URL:https://yokota374fss.com/event/hatha-rise-n-shine/2026-05-27/
CATEGORIES:Natatorium
END:VEVENT
BEGIN:VEVENT
DTSTART;TZID=Asia/Tokyo:20260603T093000
DTEND;TZID=Asia/Tokyo:20260603T223000
DTSTAMP:20260425T102726
CREATED:20260303T051025Z
LAST-MODIFIED:20260303T071800Z
UID:10010812-1780479000-1780525800@yokota374fss.com
SUMMARY:Yoga Rise N Shine
DESCRIPTION:Wednesdays • 9:30 a.m.–10:30 p.m.\nInstructor: Jaqueline Goodwin\n$40/8 Classes\n$24/4 Classes\n$7 Walk In
URL:https://yokota374fss.com/event/hatha-rise-n-shine/2026-06-03/
CATEGORIES:Natatorium
END:VEVENT
BEGIN:VEVENT
DTSTART;TZID=Asia/Tokyo:20260610T093000
DTEND;TZID=Asia/Tokyo:20260610T223000
DTSTAMP:20260425T102726
CREATED:20260303T051025Z
LAST-MODIFIED:20260303T071800Z
UID:10010813-1781083800-1781130600@yokota374fss.com
SUMMARY:Yoga Rise N Shine
DESCRIPTION:Wednesdays • 9:30 a.m.–10:30 p.m.\nInstructor: Jaqueline Goodwin\n$40/8 Classes\n$24/4 Classes\n$7 Walk In
URL:https://yokota374fss.com/event/hatha-rise-n-shine/2026-06-10/
CATEGORIES:Natatorium
END:VEVENT
BEGIN:VEVENT
DTSTART;TZID=Asia/Tokyo:20260617T093000
DTEND;TZID=Asia/Tokyo:20260617T223000
DTSTAMP:20260425T102726
CREATED:20260303T051025Z
LAST-MODIFIED:20260303T071800Z
UID:10010814-1781688600-1781735400@yokota374fss.com
SUMMARY:Yoga Rise N Shine
DESCRIPTION:Wednesdays • 9:30 a.m.–10:30 p.m.\nInstructor: Jaqueline Goodwin\n$40/8 Classes\n$24/4 Classes\n$7 Walk In
URL:https://yokota374fss.com/event/hatha-rise-n-shine/2026-06-17/
CATEGORIES:Natatorium
END:VEVENT
BEGIN:VEVENT
DTSTART;TZID=Asia/Tokyo:20260624T093000
DTEND;TZID=Asia/Tokyo:20260624T223000
DTSTAMP:20260425T102726
CREATED:20260303T051025Z
LAST-MODIFIED:20260303T071800Z
UID:10010815-1782293400-1782340200@yokota374fss.com
SUMMARY:Yoga Rise N Shine
DESCRIPTION:Wednesdays • 9:30 a.m.–10:30 p.m.\nInstructor: Jaqueline Goodwin\n$40/8 Classes\n$24/4 Classes\n$7 Walk In
URL:https://yokota374fss.com/event/hatha-rise-n-shine/2026-06-24/
CATEGORIES:Natatorium
END:VEVENT
BEGIN:VEVENT
DTSTART;TZID=Asia/Tokyo:20260701T093000
DTEND;TZID=Asia/Tokyo:20260701T223000
DTSTAMP:20260425T102726
CREATED:20260303T051025Z
LAST-MODIFIED:20260303T071800Z
UID:10010816-1782898200-1782945000@yokota374fss.com
SUMMARY:Yoga Rise N Shine
DESCRIPTION:Wednesdays • 9:30 a.m.–10:30 p.m.\nInstructor: Jaqueline Goodwin\n$40/8 Classes\n$24/4 Classes\n$7 Walk In
URL:https://yokota374fss.com/event/hatha-rise-n-shine/2026-07-01/
CATEGORIES:Natatorium
END:VEVENT
BEGIN:VEVENT
DTSTART;TZID=Asia/Tokyo:20260708T093000
DTEND;TZID=Asia/Tokyo:20260708T223000
DTSTAMP:20260425T102726
CREATED:20260303T051025Z
LAST-MODIFIED:20260303T071800Z
UID:10010817-1783503000-1783549800@yokota374fss.com
SUMMARY:Yoga Rise N Shine
DESCRIPTION:Wednesdays • 9:30 a.m.–10:30 p.m.\nInstructor: Jaqueline Goodwin\n$40/8 Classes\n$24/4 Classes\n$7 Walk In
URL:https://yokota374fss.com/event/hatha-rise-n-shine/2026-07-08/
CATEGORIES:Natatorium
END:VEVENT
BEGIN:VEVENT
DTSTART;TZID=Asia/Tokyo:20260715T093000
DTEND;TZID=Asia/Tokyo:20260715T223000
DTSTAMP:20260425T102726
CREATED:20260303T051025Z
LAST-MODIFIED:20260303T071800Z
UID:10010818-1784107800-1784154600@yokota374fss.com
SUMMARY:Yoga Rise N Shine
DESCRIPTION:Wednesdays • 9:30 a.m.–10:30 p.m.\nInstructor: Jaqueline Goodwin\n$40/8 Classes\n$24/4 Classes\n$7 Walk In
URL:https://yokota374fss.com/event/hatha-rise-n-shine/2026-07-15/
CATEGORIES:Natatorium
END:VEVENT
BEGIN:VEVENT
DTSTART;TZID=Asia/Tokyo:20260722T093000
DTEND;TZID=Asia/Tokyo:20260722T223000
DTSTAMP:20260425T102726
CREATED:20260303T051025Z
LAST-MODIFIED:20260303T071800Z
UID:10010819-1784712600-1784759400@yokota374fss.com
SUMMARY:Yoga Rise N Shine
DESCRIPTION:Wednesdays • 9:30 a.m.–10:30 p.m.\nInstructor: Jaqueline Goodwin\n$40/8 Classes\n$24/4 Classes\n$7 Walk In
URL:https://yokota374fss.com/event/hatha-rise-n-shine/2026-07-22/
CATEGORIES:Natatorium
END:VEVENT
BEGIN:VEVENT
DTSTART;TZID=Asia/Tokyo:20260729T093000
DTEND;TZID=Asia/Tokyo:20260729T223000
DTSTAMP:20260425T102726
CREATED:20260303T051025Z
LAST-MODIFIED:20260303T071800Z
UID:10010820-1785317400-1785364200@yokota374fss.com
SUMMARY:Yoga Rise N Shine
DESCRIPTION:Wednesdays • 9:30 a.m.–10:30 p.m.\nInstructor: Jaqueline Goodwin\n$40/8 Classes\n$24/4 Classes\n$7 Walk In
URL:https://yokota374fss.com/event/hatha-rise-n-shine/2026-07-29/
CATEGORIES:Natatorium
END:VEVENT
BEGIN:VEVENT
DTSTART;TZID=Asia/Tokyo:20260805T093000
DTEND;TZID=Asia/Tokyo:20260805T223000
DTSTAMP:20260425T102726
CREATED:20260303T051025Z
LAST-MODIFIED:20260303T071800Z
UID:10010821-1785922200-1785969000@yokota374fss.com
SUMMARY:Yoga Rise N Shine
DESCRIPTION:Wednesdays • 9:30 a.m.–10:30 p.m.\nInstructor: Jaqueline Goodwin\n$40/8 Classes\n$24/4 Classes\n$7 Walk In
URL:https://yokota374fss.com/event/hatha-rise-n-shine/2026-08-05/
CATEGORIES:Natatorium
END:VEVENT
BEGIN:VEVENT
DTSTART;TZID=Asia/Tokyo:20260812T093000
DTEND;TZID=Asia/Tokyo:20260812T223000
DTSTAMP:20260425T102726
CREATED:20260303T051025Z
LAST-MODIFIED:20260303T071800Z
UID:10010822-1786527000-1786573800@yokota374fss.com
SUMMARY:Yoga Rise N Shine
DESCRIPTION:Wednesdays • 9:30 a.m.–10:30 p.m.\nInstructor: Jaqueline Goodwin\n$40/8 Classes\n$24/4 Classes\n$7 Walk In
URL:https://yokota374fss.com/event/hatha-rise-n-shine/2026-08-12/
CATEGORIES:Natatorium
END:VEVENT
BEGIN:VEVENT
DTSTART;TZID=Asia/Tokyo:20260819T093000
DTEND;TZID=Asia/Tokyo:20260819T223000
DTSTAMP:20260425T102726
CREATED:20260303T051025Z
LAST-MODIFIED:20260303T071800Z
UID:10010823-1787131800-1787178600@yokota374fss.com
SUMMARY:Yoga Rise N Shine
DESCRIPTION:Wednesdays • 9:30 a.m.–10:30 p.m.\nInstructor: Jaqueline Goodwin\n$40/8 Classes\n$24/4 Classes\n$7 Walk In
URL:https://yokota374fss.com/event/hatha-rise-n-shine/2026-08-19/
CATEGORIES:Natatorium
END:VEVENT
BEGIN:VEVENT
DTSTART;TZID=Asia/Tokyo:20260826T093000
DTEND;TZID=Asia/Tokyo:20260826T223000
DTSTAMP:20260425T102726
CREATED:20260303T051025Z
LAST-MODIFIED:20260303T071800Z
UID:10010824-1787736600-1787783400@yokota374fss.com
SUMMARY:Yoga Rise N Shine
DESCRIPTION:Wednesdays • 9:30 a.m.–10:30 p.m.\nInstructor: Jaqueline Goodwin\n$40/8 Classes\n$24/4 Classes\n$7 Walk In
URL:https://yokota374fss.com/event/hatha-rise-n-shine/2026-08-26/
CATEGORIES:Natatorium
END:VEVENT
BEGIN:VEVENT
DTSTART;TZID=Asia/Tokyo:20260902T093000
DTEND;TZID=Asia/Tokyo:20260902T223000
DTSTAMP:20260425T102726
CREATED:20260303T051025Z
LAST-MODIFIED:20260303T071800Z
UID:10010825-1788341400-1788388200@yokota374fss.com
SUMMARY:Yoga Rise N Shine
DESCRIPTION:Wednesdays • 9:30 a.m.–10:30 p.m.\nInstructor: Jaqueline Goodwin\n$40/8 Classes\n$24/4 Classes\n$7 Walk In
URL:https://yokota374fss.com/event/hatha-rise-n-shine/2026-09-02/
CATEGORIES:Natatorium
END:VEVENT
BEGIN:VEVENT
DTSTART;TZID=Asia/Tokyo:20260909T093000
DTEND;TZID=Asia/Tokyo:20260909T223000
DTSTAMP:20260425T102726
CREATED:20260303T051025Z
LAST-MODIFIED:20260303T071800Z
UID:10010826-1788946200-1788993000@yokota374fss.com
SUMMARY:Yoga Rise N Shine
DESCRIPTION:Wednesdays • 9:30 a.m.–10:30 p.m.\nInstructor: Jaqueline Goodwin\n$40/8 Classes\n$24/4 Classes\n$7 Walk In
URL:https://yokota374fss.com/event/hatha-rise-n-shine/2026-09-09/
CATEGORIES:Natatorium
END:VEVENT
BEGIN:VEVENT
DTSTART;TZID=Asia/Tokyo:20260916T093000
DTEND;TZID=Asia/Tokyo:20260916T223000
DTSTAMP:20260425T102726
CREATED:20260303T051025Z
LAST-MODIFIED:20260303T071800Z
UID:10010827-1789551000-1789597800@yokota374fss.com
SUMMARY:Yoga Rise N Shine
DESCRIPTION:Wednesdays • 9:30 a.m.–10:30 p.m.\nInstructor: Jaqueline Goodwin\n$40/8 Classes\n$24/4 Classes\n$7 Walk In
URL:https://yokota374fss.com/event/hatha-rise-n-shine/2026-09-16/
CATEGORIES:Natatorium
END:VEVENT
BEGIN:VEVENT
DTSTART;TZID=Asia/Tokyo:20260923T093000
DTEND;TZID=Asia/Tokyo:20260923T223000
DTSTAMP:20260425T102726
CREATED:20260303T051025Z
LAST-MODIFIED:20260303T071800Z
UID:10010828-1790155800-1790202600@yokota374fss.com
SUMMARY:Yoga Rise N Shine
DESCRIPTION:Wednesdays • 9:30 a.m.–10:30 p.m.\nInstructor: Jaqueline Goodwin\n$40/8 Classes\n$24/4 Classes\n$7 Walk In
URL:https://yokota374fss.com/event/hatha-rise-n-shine/2026-09-23/
CATEGORIES:Natatorium
END:VEVENT
BEGIN:VEVENT
DTSTART;TZID=Asia/Tokyo:20260930T093000
DTEND;TZID=Asia/Tokyo:20260930T223000
DTSTAMP:20260425T102726
CREATED:20260303T051025Z
LAST-MODIFIED:20260303T071800Z
UID:10010829-1790760600-1790807400@yokota374fss.com
SUMMARY:Yoga Rise N Shine
DESCRIPTION:Wednesdays • 9:30 a.m.–10:30 p.m.\nInstructor: Jaqueline Goodwin\n$40/8 Classes\n$24/4 Classes\n$7 Walk In
URL:https://yokota374fss.com/event/hatha-rise-n-shine/2026-09-30/
CATEGORIES:Natatorium
END:VEVENT
BEGIN:VEVENT
DTSTART;TZID=Asia/Tokyo:20261007T093000
DTEND;TZID=Asia/Tokyo:20261007T223000
DTSTAMP:20260425T102726
CREATED:20260303T051025Z
LAST-MODIFIED:20260303T071800Z
UID:10010830-1791365400-1791412200@yokota374fss.com
SUMMARY:Yoga Rise N Shine
DESCRIPTION:Wednesdays • 9:30 a.m.–10:30 p.m.\nInstructor: Jaqueline Goodwin\n$40/8 Classes\n$24/4 Classes\n$7 Walk In
URL:https://yokota374fss.com/event/hatha-rise-n-shine/2026-10-07/
CATEGORIES:Natatorium
END:VEVENT
BEGIN:VEVENT
DTSTART;TZID=Asia/Tokyo:20261014T093000
DTEND;TZID=Asia/Tokyo:20261014T223000
DTSTAMP:20260425T102726
CREATED:20260303T051025Z
LAST-MODIFIED:20260303T071800Z
UID:10010831-1791970200-1792017000@yokota374fss.com
SUMMARY:Yoga Rise N Shine
DESCRIPTION:Wednesdays • 9:30 a.m.–10:30 p.m.\nInstructor: Jaqueline Goodwin\n$40/8 Classes\n$24/4 Classes\n$7 Walk In
URL:https://yokota374fss.com/event/hatha-rise-n-shine/2026-10-14/
CATEGORIES:Natatorium
END:VEVENT
BEGIN:VEVENT
DTSTART;TZID=Asia/Tokyo:20261021T093000
DTEND;TZID=Asia/Tokyo:20261021T223000
DTSTAMP:20260425T102726
CREATED:20260303T051025Z
LAST-MODIFIED:20260303T071800Z
UID:10010832-1792575000-1792621800@yokota374fss.com
SUMMARY:Yoga Rise N Shine
DESCRIPTION:Wednesdays • 9:30 a.m.–10:30 p.m.\nInstructor: Jaqueline Goodwin\n$40/8 Classes\n$24/4 Classes\n$7 Walk In
URL:https://yokota374fss.com/event/hatha-rise-n-shine/2026-10-21/
CATEGORIES:Natatorium
END:VEVENT
BEGIN:VEVENT
DTSTART;TZID=Asia/Tokyo:20261028T093000
DTEND;TZID=Asia/Tokyo:20261028T223000
DTSTAMP:20260425T102726
CREATED:20260303T051025Z
LAST-MODIFIED:20260303T071800Z
UID:10010833-1793179800-1793226600@yokota374fss.com
SUMMARY:Yoga Rise N Shine
DESCRIPTION:Wednesdays • 9:30 a.m.–10:30 p.m.\nInstructor: Jaqueline Goodwin\n$40/8 Classes\n$24/4 Classes\n$7 Walk In
URL:https://yokota374fss.com/event/hatha-rise-n-shine/2026-10-28/
CATEGORIES:Natatorium
END:VEVENT
BEGIN:VEVENT
DTSTART;TZID=Asia/Tokyo:20261104T093000
DTEND;TZID=Asia/Tokyo:20261104T223000
DTSTAMP:20260425T102726
CREATED:20260303T051025Z
LAST-MODIFIED:20260303T071800Z
UID:10010834-1793784600-1793831400@yokota374fss.com
SUMMARY:Yoga Rise N Shine
DESCRIPTION:Wednesdays • 9:30 a.m.–10:30 p.m.\nInstructor: Jaqueline Goodwin\n$40/8 Classes\n$24/4 Classes\n$7 Walk In
URL:https://yokota374fss.com/event/hatha-rise-n-shine/2026-11-04/
CATEGORIES:Natatorium
END:VEVENT
BEGIN:VEVENT
DTSTART;TZID=Asia/Tokyo:20261111T093000
DTEND;TZID=Asia/Tokyo:20261111T223000
DTSTAMP:20260425T102726
CREATED:20260303T051025Z
LAST-MODIFIED:20260303T071800Z
UID:10010835-1794389400-1794436200@yokota374fss.com
SUMMARY:Yoga Rise N Shine
DESCRIPTION:Wednesdays • 9:30 a.m.–10:30 p.m.\nInstructor: Jaqueline Goodwin\n$40/8 Classes\n$24/4 Classes\n$7 Walk In
URL:https://yokota374fss.com/event/hatha-rise-n-shine/2026-11-11/
CATEGORIES:Natatorium
END:VEVENT
BEGIN:VEVENT
DTSTART;TZID=Asia/Tokyo:20261118T093000
DTEND;TZID=Asia/Tokyo:20261118T223000
DTSTAMP:20260425T102726
CREATED:20260303T051025Z
LAST-MODIFIED:20260303T071800Z
UID:10010836-1794994200-1795041000@yokota374fss.com
SUMMARY:Yoga Rise N Shine
DESCRIPTION:Wednesdays • 9:30 a.m.–10:30 p.m.\nInstructor: Jaqueline Goodwin\n$40/8 Classes\n$24/4 Classes\n$7 Walk In
URL:https://yokota374fss.com/event/hatha-rise-n-shine/2026-11-18/
CATEGORIES:Natatorium
END:VEVENT
END:VCALENDAR