BEGIN:VCALENDAR
VERSION:2.0
PRODID:-//Yokota FSS - ECPv6.15.20//NONSGML v1.0//EN
CALSCALE:GREGORIAN
METHOD:PUBLISH
X-WR-CALNAME:Yokota FSS
X-ORIGINAL-URL:https://yokota374fss.com
X-WR-CALDESC:Events for Yokota FSS
REFRESH-INTERVAL;VALUE=DURATION:PT1H
X-Robots-Tag:noindex
X-PUBLISHED-TTL:PT1H
BEGIN:VTIMEZONE
TZID:Asia/Tokyo
BEGIN:STANDARD
TZOFFSETFROM:+0900
TZOFFSETTO:+0900
TZNAME:JST
DTSTART:20250101T000000
END:STANDARD
END:VTIMEZONE
BEGIN:VEVENT
DTSTART;TZID=Asia/Tokyo:20260429T154500
DTEND;TZID=Asia/Tokyo:20260429T163500
DTSTAMP:20260425T102643
CREATED:20260303T054628Z
LAST-MODIFIED:20260303T060520Z
UID:10011072-1777477500-1777480500@yokota374fss.com
SUMMARY:Karate (Ages 7+) Wednesdays
DESCRIPTION:Wednesdays • 3:45 p.m.–4:35 p.m.\nInstructor: Kazumasa &amp; Gyoko Itaki\n$65/8 Classes\n$40/4 Classes
URL:https://yokota374fss.com/event/karate-ages-7-wednesdays/2026-04-29/
CATEGORIES:Natatorium
END:VEVENT
BEGIN:VEVENT
DTSTART;TZID=Asia/Tokyo:20260506T154500
DTEND;TZID=Asia/Tokyo:20260506T163500
DTSTAMP:20260425T102643
CREATED:20260303T054628Z
LAST-MODIFIED:20260303T060520Z
UID:10011073-1778082300-1778085300@yokota374fss.com
SUMMARY:Karate (Ages 7+) Wednesdays
DESCRIPTION:Wednesdays • 3:45 p.m.–4:35 p.m.\nInstructor: Kazumasa &amp; Gyoko Itaki\n$65/8 Classes\n$40/4 Classes
URL:https://yokota374fss.com/event/karate-ages-7-wednesdays/2026-05-06/
CATEGORIES:Natatorium
END:VEVENT
BEGIN:VEVENT
DTSTART;TZID=Asia/Tokyo:20260513T154500
DTEND;TZID=Asia/Tokyo:20260513T163500
DTSTAMP:20260425T102643
CREATED:20260303T054628Z
LAST-MODIFIED:20260303T060520Z
UID:10011074-1778687100-1778690100@yokota374fss.com
SUMMARY:Karate (Ages 7+) Wednesdays
DESCRIPTION:Wednesdays • 3:45 p.m.–4:35 p.m.\nInstructor: Kazumasa &amp; Gyoko Itaki\n$65/8 Classes\n$40/4 Classes
URL:https://yokota374fss.com/event/karate-ages-7-wednesdays/2026-05-13/
CATEGORIES:Natatorium
END:VEVENT
BEGIN:VEVENT
DTSTART;TZID=Asia/Tokyo:20260520T154500
DTEND;TZID=Asia/Tokyo:20260520T163500
DTSTAMP:20260425T102643
CREATED:20260303T054628Z
LAST-MODIFIED:20260303T060520Z
UID:10011075-1779291900-1779294900@yokota374fss.com
SUMMARY:Karate (Ages 7+) Wednesdays
DESCRIPTION:Wednesdays • 3:45 p.m.–4:35 p.m.\nInstructor: Kazumasa &amp; Gyoko Itaki\n$65/8 Classes\n$40/4 Classes
URL:https://yokota374fss.com/event/karate-ages-7-wednesdays/2026-05-20/
CATEGORIES:Natatorium
END:VEVENT
BEGIN:VEVENT
DTSTART;TZID=Asia/Tokyo:20260527T154500
DTEND;TZID=Asia/Tokyo:20260527T163500
DTSTAMP:20260425T102643
CREATED:20260303T054628Z
LAST-MODIFIED:20260303T060520Z
UID:10011076-1779896700-1779899700@yokota374fss.com
SUMMARY:Karate (Ages 7+) Wednesdays
DESCRIPTION:Wednesdays • 3:45 p.m.–4:35 p.m.\nInstructor: Kazumasa &amp; Gyoko Itaki\n$65/8 Classes\n$40/4 Classes
URL:https://yokota374fss.com/event/karate-ages-7-wednesdays/2026-05-27/
CATEGORIES:Natatorium
END:VEVENT
BEGIN:VEVENT
DTSTART;TZID=Asia/Tokyo:20260603T154500
DTEND;TZID=Asia/Tokyo:20260603T163500
DTSTAMP:20260425T102643
CREATED:20260303T054628Z
LAST-MODIFIED:20260303T060520Z
UID:10011077-1780501500-1780504500@yokota374fss.com
SUMMARY:Karate (Ages 7+) Wednesdays
DESCRIPTION:Wednesdays • 3:45 p.m.–4:35 p.m.\nInstructor: Kazumasa &amp; Gyoko Itaki\n$65/8 Classes\n$40/4 Classes
URL:https://yokota374fss.com/event/karate-ages-7-wednesdays/2026-06-03/
CATEGORIES:Natatorium
END:VEVENT
BEGIN:VEVENT
DTSTART;TZID=Asia/Tokyo:20260610T154500
DTEND;TZID=Asia/Tokyo:20260610T163500
DTSTAMP:20260425T102643
CREATED:20260303T054628Z
LAST-MODIFIED:20260303T060520Z
UID:10011078-1781106300-1781109300@yokota374fss.com
SUMMARY:Karate (Ages 7+) Wednesdays
DESCRIPTION:Wednesdays • 3:45 p.m.–4:35 p.m.\nInstructor: Kazumasa &amp; Gyoko Itaki\n$65/8 Classes\n$40/4 Classes
URL:https://yokota374fss.com/event/karate-ages-7-wednesdays/2026-06-10/
CATEGORIES:Natatorium
END:VEVENT
BEGIN:VEVENT
DTSTART;TZID=Asia/Tokyo:20260617T154500
DTEND;TZID=Asia/Tokyo:20260617T163500
DTSTAMP:20260425T102643
CREATED:20260303T054628Z
LAST-MODIFIED:20260303T060520Z
UID:10011079-1781711100-1781714100@yokota374fss.com
SUMMARY:Karate (Ages 7+) Wednesdays
DESCRIPTION:Wednesdays • 3:45 p.m.–4:35 p.m.\nInstructor: Kazumasa &amp; Gyoko Itaki\n$65/8 Classes\n$40/4 Classes
URL:https://yokota374fss.com/event/karate-ages-7-wednesdays/2026-06-17/
CATEGORIES:Natatorium
END:VEVENT
BEGIN:VEVENT
DTSTART;TZID=Asia/Tokyo:20260624T154500
DTEND;TZID=Asia/Tokyo:20260624T163500
DTSTAMP:20260425T102643
CREATED:20260303T054628Z
LAST-MODIFIED:20260303T060520Z
UID:10011080-1782315900-1782318900@yokota374fss.com
SUMMARY:Karate (Ages 7+) Wednesdays
DESCRIPTION:Wednesdays • 3:45 p.m.–4:35 p.m.\nInstructor: Kazumasa &amp; Gyoko Itaki\n$65/8 Classes\n$40/4 Classes
URL:https://yokota374fss.com/event/karate-ages-7-wednesdays/2026-06-24/
CATEGORIES:Natatorium
END:VEVENT
BEGIN:VEVENT
DTSTART;TZID=Asia/Tokyo:20260701T154500
DTEND;TZID=Asia/Tokyo:20260701T163500
DTSTAMP:20260425T102643
CREATED:20260303T054628Z
LAST-MODIFIED:20260303T060520Z
UID:10011081-1782920700-1782923700@yokota374fss.com
SUMMARY:Karate (Ages 7+) Wednesdays
DESCRIPTION:Wednesdays • 3:45 p.m.–4:35 p.m.\nInstructor: Kazumasa &amp; Gyoko Itaki\n$65/8 Classes\n$40/4 Classes
URL:https://yokota374fss.com/event/karate-ages-7-wednesdays/2026-07-01/
CATEGORIES:Natatorium
END:VEVENT
BEGIN:VEVENT
DTSTART;TZID=Asia/Tokyo:20260708T154500
DTEND;TZID=Asia/Tokyo:20260708T163500
DTSTAMP:20260425T102643
CREATED:20260303T054628Z
LAST-MODIFIED:20260303T060520Z
UID:10011082-1783525500-1783528500@yokota374fss.com
SUMMARY:Karate (Ages 7+) Wednesdays
DESCRIPTION:Wednesdays • 3:45 p.m.–4:35 p.m.\nInstructor: Kazumasa &amp; Gyoko Itaki\n$65/8 Classes\n$40/4 Classes
URL:https://yokota374fss.com/event/karate-ages-7-wednesdays/2026-07-08/
CATEGORIES:Natatorium
END:VEVENT
BEGIN:VEVENT
DTSTART;TZID=Asia/Tokyo:20260715T154500
DTEND;TZID=Asia/Tokyo:20260715T163500
DTSTAMP:20260425T102643
CREATED:20260303T054628Z
LAST-MODIFIED:20260303T060520Z
UID:10011083-1784130300-1784133300@yokota374fss.com
SUMMARY:Karate (Ages 7+) Wednesdays
DESCRIPTION:Wednesdays • 3:45 p.m.–4:35 p.m.\nInstructor: Kazumasa &amp; Gyoko Itaki\n$65/8 Classes\n$40/4 Classes
URL:https://yokota374fss.com/event/karate-ages-7-wednesdays/2026-07-15/
CATEGORIES:Natatorium
END:VEVENT
BEGIN:VEVENT
DTSTART;TZID=Asia/Tokyo:20260722T154500
DTEND;TZID=Asia/Tokyo:20260722T163500
DTSTAMP:20260425T102643
CREATED:20260303T054628Z
LAST-MODIFIED:20260303T060520Z
UID:10011084-1784735100-1784738100@yokota374fss.com
SUMMARY:Karate (Ages 7+) Wednesdays
DESCRIPTION:Wednesdays • 3:45 p.m.–4:35 p.m.\nInstructor: Kazumasa &amp; Gyoko Itaki\n$65/8 Classes\n$40/4 Classes
URL:https://yokota374fss.com/event/karate-ages-7-wednesdays/2026-07-22/
CATEGORIES:Natatorium
END:VEVENT
BEGIN:VEVENT
DTSTART;TZID=Asia/Tokyo:20260729T154500
DTEND;TZID=Asia/Tokyo:20260729T163500
DTSTAMP:20260425T102643
CREATED:20260303T054628Z
LAST-MODIFIED:20260303T060520Z
UID:10011085-1785339900-1785342900@yokota374fss.com
SUMMARY:Karate (Ages 7+) Wednesdays
DESCRIPTION:Wednesdays • 3:45 p.m.–4:35 p.m.\nInstructor: Kazumasa &amp; Gyoko Itaki\n$65/8 Classes\n$40/4 Classes
URL:https://yokota374fss.com/event/karate-ages-7-wednesdays/2026-07-29/
CATEGORIES:Natatorium
END:VEVENT
BEGIN:VEVENT
DTSTART;TZID=Asia/Tokyo:20260805T154500
DTEND;TZID=Asia/Tokyo:20260805T163500
DTSTAMP:20260425T102643
CREATED:20260303T054628Z
LAST-MODIFIED:20260303T060520Z
UID:10011086-1785944700-1785947700@yokota374fss.com
SUMMARY:Karate (Ages 7+) Wednesdays
DESCRIPTION:Wednesdays • 3:45 p.m.–4:35 p.m.\nInstructor: Kazumasa &amp; Gyoko Itaki\n$65/8 Classes\n$40/4 Classes
URL:https://yokota374fss.com/event/karate-ages-7-wednesdays/2026-08-05/
CATEGORIES:Natatorium
END:VEVENT
BEGIN:VEVENT
DTSTART;TZID=Asia/Tokyo:20260812T154500
DTEND;TZID=Asia/Tokyo:20260812T163500
DTSTAMP:20260425T102643
CREATED:20260303T054628Z
LAST-MODIFIED:20260303T060520Z
UID:10011087-1786549500-1786552500@yokota374fss.com
SUMMARY:Karate (Ages 7+) Wednesdays
DESCRIPTION:Wednesdays • 3:45 p.m.–4:35 p.m.\nInstructor: Kazumasa &amp; Gyoko Itaki\n$65/8 Classes\n$40/4 Classes
URL:https://yokota374fss.com/event/karate-ages-7-wednesdays/2026-08-12/
CATEGORIES:Natatorium
END:VEVENT
BEGIN:VEVENT
DTSTART;TZID=Asia/Tokyo:20260819T154500
DTEND;TZID=Asia/Tokyo:20260819T163500
DTSTAMP:20260425T102643
CREATED:20260303T054628Z
LAST-MODIFIED:20260303T060520Z
UID:10011088-1787154300-1787157300@yokota374fss.com
SUMMARY:Karate (Ages 7+) Wednesdays
DESCRIPTION:Wednesdays • 3:45 p.m.–4:35 p.m.\nInstructor: Kazumasa &amp; Gyoko Itaki\n$65/8 Classes\n$40/4 Classes
URL:https://yokota374fss.com/event/karate-ages-7-wednesdays/2026-08-19/
CATEGORIES:Natatorium
END:VEVENT
BEGIN:VEVENT
DTSTART;TZID=Asia/Tokyo:20260826T154500
DTEND;TZID=Asia/Tokyo:20260826T163500
DTSTAMP:20260425T102643
CREATED:20260303T054628Z
LAST-MODIFIED:20260303T060520Z
UID:10011089-1787759100-1787762100@yokota374fss.com
SUMMARY:Karate (Ages 7+) Wednesdays
DESCRIPTION:Wednesdays • 3:45 p.m.–4:35 p.m.\nInstructor: Kazumasa &amp; Gyoko Itaki\n$65/8 Classes\n$40/4 Classes
URL:https://yokota374fss.com/event/karate-ages-7-wednesdays/2026-08-26/
CATEGORIES:Natatorium
END:VEVENT
BEGIN:VEVENT
DTSTART;TZID=Asia/Tokyo:20260902T154500
DTEND;TZID=Asia/Tokyo:20260902T163500
DTSTAMP:20260425T102643
CREATED:20260303T054628Z
LAST-MODIFIED:20260303T060520Z
UID:10011090-1788363900-1788366900@yokota374fss.com
SUMMARY:Karate (Ages 7+) Wednesdays
DESCRIPTION:Wednesdays • 3:45 p.m.–4:35 p.m.\nInstructor: Kazumasa &amp; Gyoko Itaki\n$65/8 Classes\n$40/4 Classes
URL:https://yokota374fss.com/event/karate-ages-7-wednesdays/2026-09-02/
CATEGORIES:Natatorium
END:VEVENT
BEGIN:VEVENT
DTSTART;TZID=Asia/Tokyo:20260909T154500
DTEND;TZID=Asia/Tokyo:20260909T163500
DTSTAMP:20260425T102643
CREATED:20260303T054628Z
LAST-MODIFIED:20260303T060520Z
UID:10011091-1788968700-1788971700@yokota374fss.com
SUMMARY:Karate (Ages 7+) Wednesdays
DESCRIPTION:Wednesdays • 3:45 p.m.–4:35 p.m.\nInstructor: Kazumasa &amp; Gyoko Itaki\n$65/8 Classes\n$40/4 Classes
URL:https://yokota374fss.com/event/karate-ages-7-wednesdays/2026-09-09/
CATEGORIES:Natatorium
END:VEVENT
BEGIN:VEVENT
DTSTART;TZID=Asia/Tokyo:20260916T154500
DTEND;TZID=Asia/Tokyo:20260916T163500
DTSTAMP:20260425T102643
CREATED:20260303T054628Z
LAST-MODIFIED:20260303T060520Z
UID:10011092-1789573500-1789576500@yokota374fss.com
SUMMARY:Karate (Ages 7+) Wednesdays
DESCRIPTION:Wednesdays • 3:45 p.m.–4:35 p.m.\nInstructor: Kazumasa &amp; Gyoko Itaki\n$65/8 Classes\n$40/4 Classes
URL:https://yokota374fss.com/event/karate-ages-7-wednesdays/2026-09-16/
CATEGORIES:Natatorium
END:VEVENT
BEGIN:VEVENT
DTSTART;TZID=Asia/Tokyo:20260923T154500
DTEND;TZID=Asia/Tokyo:20260923T163500
DTSTAMP:20260425T102643
CREATED:20260303T054628Z
LAST-MODIFIED:20260303T060520Z
UID:10011093-1790178300-1790181300@yokota374fss.com
SUMMARY:Karate (Ages 7+) Wednesdays
DESCRIPTION:Wednesdays • 3:45 p.m.–4:35 p.m.\nInstructor: Kazumasa &amp; Gyoko Itaki\n$65/8 Classes\n$40/4 Classes
URL:https://yokota374fss.com/event/karate-ages-7-wednesdays/2026-09-23/
CATEGORIES:Natatorium
END:VEVENT
BEGIN:VEVENT
DTSTART;TZID=Asia/Tokyo:20260930T154500
DTEND;TZID=Asia/Tokyo:20260930T163500
DTSTAMP:20260425T102643
CREATED:20260303T054628Z
LAST-MODIFIED:20260303T060520Z
UID:10011094-1790783100-1790786100@yokota374fss.com
SUMMARY:Karate (Ages 7+) Wednesdays
DESCRIPTION:Wednesdays • 3:45 p.m.–4:35 p.m.\nInstructor: Kazumasa &amp; Gyoko Itaki\n$65/8 Classes\n$40/4 Classes
URL:https://yokota374fss.com/event/karate-ages-7-wednesdays/2026-09-30/
CATEGORIES:Natatorium
END:VEVENT
BEGIN:VEVENT
DTSTART;TZID=Asia/Tokyo:20261007T154500
DTEND;TZID=Asia/Tokyo:20261007T163500
DTSTAMP:20260425T102643
CREATED:20260303T054628Z
LAST-MODIFIED:20260303T060520Z
UID:10011095-1791387900-1791390900@yokota374fss.com
SUMMARY:Karate (Ages 7+) Wednesdays
DESCRIPTION:Wednesdays • 3:45 p.m.–4:35 p.m.\nInstructor: Kazumasa &amp; Gyoko Itaki\n$65/8 Classes\n$40/4 Classes
URL:https://yokota374fss.com/event/karate-ages-7-wednesdays/2026-10-07/
CATEGORIES:Natatorium
END:VEVENT
BEGIN:VEVENT
DTSTART;TZID=Asia/Tokyo:20261014T154500
DTEND;TZID=Asia/Tokyo:20261014T163500
DTSTAMP:20260425T102643
CREATED:20260303T054628Z
LAST-MODIFIED:20260303T060520Z
UID:10011096-1791992700-1791995700@yokota374fss.com
SUMMARY:Karate (Ages 7+) Wednesdays
DESCRIPTION:Wednesdays • 3:45 p.m.–4:35 p.m.\nInstructor: Kazumasa &amp; Gyoko Itaki\n$65/8 Classes\n$40/4 Classes
URL:https://yokota374fss.com/event/karate-ages-7-wednesdays/2026-10-14/
CATEGORIES:Natatorium
END:VEVENT
BEGIN:VEVENT
DTSTART;TZID=Asia/Tokyo:20261021T154500
DTEND;TZID=Asia/Tokyo:20261021T163500
DTSTAMP:20260425T102643
CREATED:20260303T054628Z
LAST-MODIFIED:20260303T060520Z
UID:10011097-1792597500-1792600500@yokota374fss.com
SUMMARY:Karate (Ages 7+) Wednesdays
DESCRIPTION:Wednesdays • 3:45 p.m.–4:35 p.m.\nInstructor: Kazumasa &amp; Gyoko Itaki\n$65/8 Classes\n$40/4 Classes
URL:https://yokota374fss.com/event/karate-ages-7-wednesdays/2026-10-21/
CATEGORIES:Natatorium
END:VEVENT
BEGIN:VEVENT
DTSTART;TZID=Asia/Tokyo:20261028T154500
DTEND;TZID=Asia/Tokyo:20261028T163500
DTSTAMP:20260425T102643
CREATED:20260303T054628Z
LAST-MODIFIED:20260303T060520Z
UID:10011098-1793202300-1793205300@yokota374fss.com
SUMMARY:Karate (Ages 7+) Wednesdays
DESCRIPTION:Wednesdays • 3:45 p.m.–4:35 p.m.\nInstructor: Kazumasa &amp; Gyoko Itaki\n$65/8 Classes\n$40/4 Classes
URL:https://yokota374fss.com/event/karate-ages-7-wednesdays/2026-10-28/
CATEGORIES:Natatorium
END:VEVENT
BEGIN:VEVENT
DTSTART;TZID=Asia/Tokyo:20261104T154500
DTEND;TZID=Asia/Tokyo:20261104T163500
DTSTAMP:20260425T102643
CREATED:20260303T054628Z
LAST-MODIFIED:20260303T060520Z
UID:10011099-1793807100-1793810100@yokota374fss.com
SUMMARY:Karate (Ages 7+) Wednesdays
DESCRIPTION:Wednesdays • 3:45 p.m.–4:35 p.m.\nInstructor: Kazumasa &amp; Gyoko Itaki\n$65/8 Classes\n$40/4 Classes
URL:https://yokota374fss.com/event/karate-ages-7-wednesdays/2026-11-04/
CATEGORIES:Natatorium
END:VEVENT
BEGIN:VEVENT
DTSTART;TZID=Asia/Tokyo:20261111T154500
DTEND;TZID=Asia/Tokyo:20261111T163500
DTSTAMP:20260425T102643
CREATED:20260303T054628Z
LAST-MODIFIED:20260303T060520Z
UID:10011100-1794411900-1794414900@yokota374fss.com
SUMMARY:Karate (Ages 7+) Wednesdays
DESCRIPTION:Wednesdays • 3:45 p.m.–4:35 p.m.\nInstructor: Kazumasa &amp; Gyoko Itaki\n$65/8 Classes\n$40/4 Classes
URL:https://yokota374fss.com/event/karate-ages-7-wednesdays/2026-11-11/
CATEGORIES:Natatorium
END:VEVENT
BEGIN:VEVENT
DTSTART;TZID=Asia/Tokyo:20261118T154500
DTEND;TZID=Asia/Tokyo:20261118T163500
DTSTAMP:20260425T102643
CREATED:20260303T054628Z
LAST-MODIFIED:20260303T060520Z
UID:10011101-1795016700-1795019700@yokota374fss.com
SUMMARY:Karate (Ages 7+) Wednesdays
DESCRIPTION:Wednesdays • 3:45 p.m.–4:35 p.m.\nInstructor: Kazumasa &amp; Gyoko Itaki\n$65/8 Classes\n$40/4 Classes
URL:https://yokota374fss.com/event/karate-ages-7-wednesdays/2026-11-18/
CATEGORIES:Natatorium
END:VEVENT
END:VCALENDAR