BEGIN:VCALENDAR
VERSION:2.0
PRODID:-//Yokota FSS - ECPv6.15.20//NONSGML v1.0//EN
CALSCALE:GREGORIAN
METHOD:PUBLISH
X-WR-CALNAME:Yokota FSS
X-ORIGINAL-URL:https://yokota374fss.com
X-WR-CALDESC:Events for Yokota FSS
REFRESH-INTERVAL;VALUE=DURATION:PT1H
X-Robots-Tag:noindex
X-PUBLISHED-TTL:PT1H
BEGIN:VTIMEZONE
TZID:Asia/Tokyo
BEGIN:STANDARD
TZOFFSETFROM:+0900
TZOFFSETTO:+0900
TZNAME:JST
DTSTART:20250101T000000
END:STANDARD
END:VTIMEZONE
BEGIN:VEVENT
DTSTART;TZID=Asia/Tokyo:20260501T150000
DTEND;TZID=Asia/Tokyo:20260501T154000
DTSTAMP:20260425T120403
CREATED:20260303T054801Z
LAST-MODIFIED:20260303T061205Z
UID:10011230-1777647600-1777650000@yokota374fss.com
SUMMARY:Karate (Ages 5-6) Fridays
DESCRIPTION:Fridays • 3:00 p.m.–3:40 p.m.\nInstructor: Kazumasa &amp; Gyoko Itaki\n$65/8 Classes\n$40/4 Classes
URL:https://yokota374fss.com/event/karate-ages-5-6-fridays/2026-05-01/
CATEGORIES:Natatorium
END:VEVENT
BEGIN:VEVENT
DTSTART;TZID=Asia/Tokyo:20260508T150000
DTEND;TZID=Asia/Tokyo:20260508T154000
DTSTAMP:20260425T120403
CREATED:20260303T054801Z
LAST-MODIFIED:20260303T061205Z
UID:10011231-1778252400-1778254800@yokota374fss.com
SUMMARY:Karate (Ages 5-6) Fridays
DESCRIPTION:Fridays • 3:00 p.m.–3:40 p.m.\nInstructor: Kazumasa &amp; Gyoko Itaki\n$65/8 Classes\n$40/4 Classes
URL:https://yokota374fss.com/event/karate-ages-5-6-fridays/2026-05-08/
CATEGORIES:Natatorium
END:VEVENT
BEGIN:VEVENT
DTSTART;TZID=Asia/Tokyo:20260515T150000
DTEND;TZID=Asia/Tokyo:20260515T154000
DTSTAMP:20260425T120403
CREATED:20260303T054801Z
LAST-MODIFIED:20260303T061205Z
UID:10011232-1778857200-1778859600@yokota374fss.com
SUMMARY:Karate (Ages 5-6) Fridays
DESCRIPTION:Fridays • 3:00 p.m.–3:40 p.m.\nInstructor: Kazumasa &amp; Gyoko Itaki\n$65/8 Classes\n$40/4 Classes
URL:https://yokota374fss.com/event/karate-ages-5-6-fridays/2026-05-15/
CATEGORIES:Natatorium
END:VEVENT
BEGIN:VEVENT
DTSTART;TZID=Asia/Tokyo:20260522T150000
DTEND;TZID=Asia/Tokyo:20260522T154000
DTSTAMP:20260425T120403
CREATED:20260303T054801Z
LAST-MODIFIED:20260303T061205Z
UID:10011233-1779462000-1779464400@yokota374fss.com
SUMMARY:Karate (Ages 5-6) Fridays
DESCRIPTION:Fridays • 3:00 p.m.–3:40 p.m.\nInstructor: Kazumasa &amp; Gyoko Itaki\n$65/8 Classes\n$40/4 Classes
URL:https://yokota374fss.com/event/karate-ages-5-6-fridays/2026-05-22/
CATEGORIES:Natatorium
END:VEVENT
BEGIN:VEVENT
DTSTART;TZID=Asia/Tokyo:20260529T150000
DTEND;TZID=Asia/Tokyo:20260529T154000
DTSTAMP:20260425T120403
CREATED:20260303T054801Z
LAST-MODIFIED:20260303T061205Z
UID:10011234-1780066800-1780069200@yokota374fss.com
SUMMARY:Karate (Ages 5-6) Fridays
DESCRIPTION:Fridays • 3:00 p.m.–3:40 p.m.\nInstructor: Kazumasa &amp; Gyoko Itaki\n$65/8 Classes\n$40/4 Classes
URL:https://yokota374fss.com/event/karate-ages-5-6-fridays/2026-05-29/
CATEGORIES:Natatorium
END:VEVENT
BEGIN:VEVENT
DTSTART;TZID=Asia/Tokyo:20260605T150000
DTEND;TZID=Asia/Tokyo:20260605T154000
DTSTAMP:20260425T120403
CREATED:20260303T054801Z
LAST-MODIFIED:20260303T061205Z
UID:10011235-1780671600-1780674000@yokota374fss.com
SUMMARY:Karate (Ages 5-6) Fridays
DESCRIPTION:Fridays • 3:00 p.m.–3:40 p.m.\nInstructor: Kazumasa &amp; Gyoko Itaki\n$65/8 Classes\n$40/4 Classes
URL:https://yokota374fss.com/event/karate-ages-5-6-fridays/2026-06-05/
CATEGORIES:Natatorium
END:VEVENT
BEGIN:VEVENT
DTSTART;TZID=Asia/Tokyo:20260612T150000
DTEND;TZID=Asia/Tokyo:20260612T154000
DTSTAMP:20260425T120403
CREATED:20260303T054801Z
LAST-MODIFIED:20260303T061205Z
UID:10011236-1781276400-1781278800@yokota374fss.com
SUMMARY:Karate (Ages 5-6) Fridays
DESCRIPTION:Fridays • 3:00 p.m.–3:40 p.m.\nInstructor: Kazumasa &amp; Gyoko Itaki\n$65/8 Classes\n$40/4 Classes
URL:https://yokota374fss.com/event/karate-ages-5-6-fridays/2026-06-12/
CATEGORIES:Natatorium
END:VEVENT
BEGIN:VEVENT
DTSTART;TZID=Asia/Tokyo:20260619T150000
DTEND;TZID=Asia/Tokyo:20260619T154000
DTSTAMP:20260425T120403
CREATED:20260303T054801Z
LAST-MODIFIED:20260303T061205Z
UID:10011237-1781881200-1781883600@yokota374fss.com
SUMMARY:Karate (Ages 5-6) Fridays
DESCRIPTION:Fridays • 3:00 p.m.–3:40 p.m.\nInstructor: Kazumasa &amp; Gyoko Itaki\n$65/8 Classes\n$40/4 Classes
URL:https://yokota374fss.com/event/karate-ages-5-6-fridays/2026-06-19/
CATEGORIES:Natatorium
END:VEVENT
BEGIN:VEVENT
DTSTART;TZID=Asia/Tokyo:20260626T150000
DTEND;TZID=Asia/Tokyo:20260626T154000
DTSTAMP:20260425T120403
CREATED:20260303T054801Z
LAST-MODIFIED:20260303T061205Z
UID:10011238-1782486000-1782488400@yokota374fss.com
SUMMARY:Karate (Ages 5-6) Fridays
DESCRIPTION:Fridays • 3:00 p.m.–3:40 p.m.\nInstructor: Kazumasa &amp; Gyoko Itaki\n$65/8 Classes\n$40/4 Classes
URL:https://yokota374fss.com/event/karate-ages-5-6-fridays/2026-06-26/
CATEGORIES:Natatorium
END:VEVENT
BEGIN:VEVENT
DTSTART;TZID=Asia/Tokyo:20260703T150000
DTEND;TZID=Asia/Tokyo:20260703T154000
DTSTAMP:20260425T120403
CREATED:20260303T054801Z
LAST-MODIFIED:20260303T061205Z
UID:10011239-1783090800-1783093200@yokota374fss.com
SUMMARY:Karate (Ages 5-6) Fridays
DESCRIPTION:Fridays • 3:00 p.m.–3:40 p.m.\nInstructor: Kazumasa &amp; Gyoko Itaki\n$65/8 Classes\n$40/4 Classes
URL:https://yokota374fss.com/event/karate-ages-5-6-fridays/2026-07-03/
CATEGORIES:Natatorium
END:VEVENT
BEGIN:VEVENT
DTSTART;TZID=Asia/Tokyo:20260710T150000
DTEND;TZID=Asia/Tokyo:20260710T154000
DTSTAMP:20260425T120403
CREATED:20260303T054801Z
LAST-MODIFIED:20260303T061205Z
UID:10011240-1783695600-1783698000@yokota374fss.com
SUMMARY:Karate (Ages 5-6) Fridays
DESCRIPTION:Fridays • 3:00 p.m.–3:40 p.m.\nInstructor: Kazumasa &amp; Gyoko Itaki\n$65/8 Classes\n$40/4 Classes
URL:https://yokota374fss.com/event/karate-ages-5-6-fridays/2026-07-10/
CATEGORIES:Natatorium
END:VEVENT
BEGIN:VEVENT
DTSTART;TZID=Asia/Tokyo:20260717T150000
DTEND;TZID=Asia/Tokyo:20260717T154000
DTSTAMP:20260425T120403
CREATED:20260303T054801Z
LAST-MODIFIED:20260303T061205Z
UID:10011241-1784300400-1784302800@yokota374fss.com
SUMMARY:Karate (Ages 5-6) Fridays
DESCRIPTION:Fridays • 3:00 p.m.–3:40 p.m.\nInstructor: Kazumasa &amp; Gyoko Itaki\n$65/8 Classes\n$40/4 Classes
URL:https://yokota374fss.com/event/karate-ages-5-6-fridays/2026-07-17/
CATEGORIES:Natatorium
END:VEVENT
BEGIN:VEVENT
DTSTART;TZID=Asia/Tokyo:20260724T150000
DTEND;TZID=Asia/Tokyo:20260724T154000
DTSTAMP:20260425T120403
CREATED:20260303T054801Z
LAST-MODIFIED:20260303T061205Z
UID:10011242-1784905200-1784907600@yokota374fss.com
SUMMARY:Karate (Ages 5-6) Fridays
DESCRIPTION:Fridays • 3:00 p.m.–3:40 p.m.\nInstructor: Kazumasa &amp; Gyoko Itaki\n$65/8 Classes\n$40/4 Classes
URL:https://yokota374fss.com/event/karate-ages-5-6-fridays/2026-07-24/
CATEGORIES:Natatorium
END:VEVENT
BEGIN:VEVENT
DTSTART;TZID=Asia/Tokyo:20260731T150000
DTEND;TZID=Asia/Tokyo:20260731T154000
DTSTAMP:20260425T120403
CREATED:20260303T054801Z
LAST-MODIFIED:20260303T061205Z
UID:10011243-1785510000-1785512400@yokota374fss.com
SUMMARY:Karate (Ages 5-6) Fridays
DESCRIPTION:Fridays • 3:00 p.m.–3:40 p.m.\nInstructor: Kazumasa &amp; Gyoko Itaki\n$65/8 Classes\n$40/4 Classes
URL:https://yokota374fss.com/event/karate-ages-5-6-fridays/2026-07-31/
CATEGORIES:Natatorium
END:VEVENT
BEGIN:VEVENT
DTSTART;TZID=Asia/Tokyo:20260807T150000
DTEND;TZID=Asia/Tokyo:20260807T154000
DTSTAMP:20260425T120403
CREATED:20260303T054801Z
LAST-MODIFIED:20260303T061205Z
UID:10011244-1786114800-1786117200@yokota374fss.com
SUMMARY:Karate (Ages 5-6) Fridays
DESCRIPTION:Fridays • 3:00 p.m.–3:40 p.m.\nInstructor: Kazumasa &amp; Gyoko Itaki\n$65/8 Classes\n$40/4 Classes
URL:https://yokota374fss.com/event/karate-ages-5-6-fridays/2026-08-07/
CATEGORIES:Natatorium
END:VEVENT
BEGIN:VEVENT
DTSTART;TZID=Asia/Tokyo:20260814T150000
DTEND;TZID=Asia/Tokyo:20260814T154000
DTSTAMP:20260425T120403
CREATED:20260303T054801Z
LAST-MODIFIED:20260303T061205Z
UID:10011245-1786719600-1786722000@yokota374fss.com
SUMMARY:Karate (Ages 5-6) Fridays
DESCRIPTION:Fridays • 3:00 p.m.–3:40 p.m.\nInstructor: Kazumasa &amp; Gyoko Itaki\n$65/8 Classes\n$40/4 Classes
URL:https://yokota374fss.com/event/karate-ages-5-6-fridays/2026-08-14/
CATEGORIES:Natatorium
END:VEVENT
BEGIN:VEVENT
DTSTART;TZID=Asia/Tokyo:20260821T150000
DTEND;TZID=Asia/Tokyo:20260821T154000
DTSTAMP:20260425T120403
CREATED:20260303T054801Z
LAST-MODIFIED:20260303T061205Z
UID:10011246-1787324400-1787326800@yokota374fss.com
SUMMARY:Karate (Ages 5-6) Fridays
DESCRIPTION:Fridays • 3:00 p.m.–3:40 p.m.\nInstructor: Kazumasa &amp; Gyoko Itaki\n$65/8 Classes\n$40/4 Classes
URL:https://yokota374fss.com/event/karate-ages-5-6-fridays/2026-08-21/
CATEGORIES:Natatorium
END:VEVENT
BEGIN:VEVENT
DTSTART;TZID=Asia/Tokyo:20260828T150000
DTEND;TZID=Asia/Tokyo:20260828T154000
DTSTAMP:20260425T120403
CREATED:20260303T054801Z
LAST-MODIFIED:20260303T061205Z
UID:10011247-1787929200-1787931600@yokota374fss.com
SUMMARY:Karate (Ages 5-6) Fridays
DESCRIPTION:Fridays • 3:00 p.m.–3:40 p.m.\nInstructor: Kazumasa &amp; Gyoko Itaki\n$65/8 Classes\n$40/4 Classes
URL:https://yokota374fss.com/event/karate-ages-5-6-fridays/2026-08-28/
CATEGORIES:Natatorium
END:VEVENT
BEGIN:VEVENT
DTSTART;TZID=Asia/Tokyo:20260904T150000
DTEND;TZID=Asia/Tokyo:20260904T154000
DTSTAMP:20260425T120403
CREATED:20260303T054801Z
LAST-MODIFIED:20260303T061205Z
UID:10011248-1788534000-1788536400@yokota374fss.com
SUMMARY:Karate (Ages 5-6) Fridays
DESCRIPTION:Fridays • 3:00 p.m.–3:40 p.m.\nInstructor: Kazumasa &amp; Gyoko Itaki\n$65/8 Classes\n$40/4 Classes
URL:https://yokota374fss.com/event/karate-ages-5-6-fridays/2026-09-04/
CATEGORIES:Natatorium
END:VEVENT
BEGIN:VEVENT
DTSTART;TZID=Asia/Tokyo:20260911T150000
DTEND;TZID=Asia/Tokyo:20260911T154000
DTSTAMP:20260425T120403
CREATED:20260303T054801Z
LAST-MODIFIED:20260303T061205Z
UID:10011249-1789138800-1789141200@yokota374fss.com
SUMMARY:Karate (Ages 5-6) Fridays
DESCRIPTION:Fridays • 3:00 p.m.–3:40 p.m.\nInstructor: Kazumasa &amp; Gyoko Itaki\n$65/8 Classes\n$40/4 Classes
URL:https://yokota374fss.com/event/karate-ages-5-6-fridays/2026-09-11/
CATEGORIES:Natatorium
END:VEVENT
BEGIN:VEVENT
DTSTART;TZID=Asia/Tokyo:20260918T150000
DTEND;TZID=Asia/Tokyo:20260918T154000
DTSTAMP:20260425T120403
CREATED:20260303T054801Z
LAST-MODIFIED:20260303T061205Z
UID:10011250-1789743600-1789746000@yokota374fss.com
SUMMARY:Karate (Ages 5-6) Fridays
DESCRIPTION:Fridays • 3:00 p.m.–3:40 p.m.\nInstructor: Kazumasa &amp; Gyoko Itaki\n$65/8 Classes\n$40/4 Classes
URL:https://yokota374fss.com/event/karate-ages-5-6-fridays/2026-09-18/
CATEGORIES:Natatorium
END:VEVENT
BEGIN:VEVENT
DTSTART;TZID=Asia/Tokyo:20260925T150000
DTEND;TZID=Asia/Tokyo:20260925T154000
DTSTAMP:20260425T120403
CREATED:20260303T054801Z
LAST-MODIFIED:20260303T061205Z
UID:10011251-1790348400-1790350800@yokota374fss.com
SUMMARY:Karate (Ages 5-6) Fridays
DESCRIPTION:Fridays • 3:00 p.m.–3:40 p.m.\nInstructor: Kazumasa &amp; Gyoko Itaki\n$65/8 Classes\n$40/4 Classes
URL:https://yokota374fss.com/event/karate-ages-5-6-fridays/2026-09-25/
CATEGORIES:Natatorium
END:VEVENT
BEGIN:VEVENT
DTSTART;TZID=Asia/Tokyo:20261002T150000
DTEND;TZID=Asia/Tokyo:20261002T154000
DTSTAMP:20260425T120403
CREATED:20260303T054801Z
LAST-MODIFIED:20260303T061205Z
UID:10011252-1790953200-1790955600@yokota374fss.com
SUMMARY:Karate (Ages 5-6) Fridays
DESCRIPTION:Fridays • 3:00 p.m.–3:40 p.m.\nInstructor: Kazumasa &amp; Gyoko Itaki\n$65/8 Classes\n$40/4 Classes
URL:https://yokota374fss.com/event/karate-ages-5-6-fridays/2026-10-02/
CATEGORIES:Natatorium
END:VEVENT
BEGIN:VEVENT
DTSTART;TZID=Asia/Tokyo:20261009T150000
DTEND;TZID=Asia/Tokyo:20261009T154000
DTSTAMP:20260425T120403
CREATED:20260303T054801Z
LAST-MODIFIED:20260303T061205Z
UID:10011253-1791558000-1791560400@yokota374fss.com
SUMMARY:Karate (Ages 5-6) Fridays
DESCRIPTION:Fridays • 3:00 p.m.–3:40 p.m.\nInstructor: Kazumasa &amp; Gyoko Itaki\n$65/8 Classes\n$40/4 Classes
URL:https://yokota374fss.com/event/karate-ages-5-6-fridays/2026-10-09/
CATEGORIES:Natatorium
END:VEVENT
BEGIN:VEVENT
DTSTART;TZID=Asia/Tokyo:20261016T150000
DTEND;TZID=Asia/Tokyo:20261016T154000
DTSTAMP:20260425T120403
CREATED:20260303T054801Z
LAST-MODIFIED:20260303T061205Z
UID:10011254-1792162800-1792165200@yokota374fss.com
SUMMARY:Karate (Ages 5-6) Fridays
DESCRIPTION:Fridays • 3:00 p.m.–3:40 p.m.\nInstructor: Kazumasa &amp; Gyoko Itaki\n$65/8 Classes\n$40/4 Classes
URL:https://yokota374fss.com/event/karate-ages-5-6-fridays/2026-10-16/
CATEGORIES:Natatorium
END:VEVENT
BEGIN:VEVENT
DTSTART;TZID=Asia/Tokyo:20261023T150000
DTEND;TZID=Asia/Tokyo:20261023T154000
DTSTAMP:20260425T120403
CREATED:20260303T054801Z
LAST-MODIFIED:20260303T061205Z
UID:10011255-1792767600-1792770000@yokota374fss.com
SUMMARY:Karate (Ages 5-6) Fridays
DESCRIPTION:Fridays • 3:00 p.m.–3:40 p.m.\nInstructor: Kazumasa &amp; Gyoko Itaki\n$65/8 Classes\n$40/4 Classes
URL:https://yokota374fss.com/event/karate-ages-5-6-fridays/2026-10-23/
CATEGORIES:Natatorium
END:VEVENT
BEGIN:VEVENT
DTSTART;TZID=Asia/Tokyo:20261030T150000
DTEND;TZID=Asia/Tokyo:20261030T154000
DTSTAMP:20260425T120403
CREATED:20260303T054801Z
LAST-MODIFIED:20260303T061205Z
UID:10011256-1793372400-1793374800@yokota374fss.com
SUMMARY:Karate (Ages 5-6) Fridays
DESCRIPTION:Fridays • 3:00 p.m.–3:40 p.m.\nInstructor: Kazumasa &amp; Gyoko Itaki\n$65/8 Classes\n$40/4 Classes
URL:https://yokota374fss.com/event/karate-ages-5-6-fridays/2026-10-30/
CATEGORIES:Natatorium
END:VEVENT
BEGIN:VEVENT
DTSTART;TZID=Asia/Tokyo:20261106T150000
DTEND;TZID=Asia/Tokyo:20261106T154000
DTSTAMP:20260425T120403
CREATED:20260303T054801Z
LAST-MODIFIED:20260303T061205Z
UID:10011257-1793977200-1793979600@yokota374fss.com
SUMMARY:Karate (Ages 5-6) Fridays
DESCRIPTION:Fridays • 3:00 p.m.–3:40 p.m.\nInstructor: Kazumasa &amp; Gyoko Itaki\n$65/8 Classes\n$40/4 Classes
URL:https://yokota374fss.com/event/karate-ages-5-6-fridays/2026-11-06/
CATEGORIES:Natatorium
END:VEVENT
BEGIN:VEVENT
DTSTART;TZID=Asia/Tokyo:20261113T150000
DTEND;TZID=Asia/Tokyo:20261113T154000
DTSTAMP:20260425T120403
CREATED:20260303T054801Z
LAST-MODIFIED:20260303T061205Z
UID:10011258-1794582000-1794584400@yokota374fss.com
SUMMARY:Karate (Ages 5-6) Fridays
DESCRIPTION:Fridays • 3:00 p.m.–3:40 p.m.\nInstructor: Kazumasa &amp; Gyoko Itaki\n$65/8 Classes\n$40/4 Classes
URL:https://yokota374fss.com/event/karate-ages-5-6-fridays/2026-11-13/
CATEGORIES:Natatorium
END:VEVENT
BEGIN:VEVENT
DTSTART;TZID=Asia/Tokyo:20261120T150000
DTEND;TZID=Asia/Tokyo:20261120T154000
DTSTAMP:20260425T120403
CREATED:20260303T054801Z
LAST-MODIFIED:20260303T061205Z
UID:10011259-1795186800-1795189200@yokota374fss.com
SUMMARY:Karate (Ages 5-6) Fridays
DESCRIPTION:Fridays • 3:00 p.m.–3:40 p.m.\nInstructor: Kazumasa &amp; Gyoko Itaki\n$65/8 Classes\n$40/4 Classes
URL:https://yokota374fss.com/event/karate-ages-5-6-fridays/2026-11-20/
CATEGORIES:Natatorium
END:VEVENT
END:VCALENDAR