BEGIN:VCALENDAR
VERSION:2.0
PRODID:-//Yokota FSS - ECPv6.15.20//NONSGML v1.0//EN
CALSCALE:GREGORIAN
METHOD:PUBLISH
X-WR-CALNAME:Yokota FSS
X-ORIGINAL-URL:https://yokota374fss.com
X-WR-CALDESC:Events for Yokota FSS
REFRESH-INTERVAL;VALUE=DURATION:PT1H
X-Robots-Tag:noindex
X-PUBLISHED-TTL:PT1H
BEGIN:VTIMEZONE
TZID:Asia/Tokyo
BEGIN:STANDARD
TZOFFSETFROM:+0900
TZOFFSETTO:+0900
TZNAME:JST
DTSTART:20250101T000000
END:STANDARD
END:VTIMEZONE
BEGIN:VEVENT
DTSTART;TZID=Asia/Tokyo:20260429T150000
DTEND;TZID=Asia/Tokyo:20260429T154000
DTSTAMP:20260425T102655
CREATED:20260303T060826Z
LAST-MODIFIED:20260303T060955Z
UID:10011177-1777474800-1777477200@yokota374fss.com
SUMMARY:Karate (Ages 5-6) Wednesdays
DESCRIPTION:Wednesdays • 3:00 p.m.–3:40 p.m.\nInstructor: Kazumasa &amp; Gyoko Itaki\n$65/8 Classes\n$40/4 Classes
URL:https://yokota374fss.com/event/karate-ages-5-6-wednesdays/2026-04-29/
CATEGORIES:Natatorium
END:VEVENT
BEGIN:VEVENT
DTSTART;TZID=Asia/Tokyo:20260506T150000
DTEND;TZID=Asia/Tokyo:20260506T154000
DTSTAMP:20260425T102655
CREATED:20260303T060826Z
LAST-MODIFIED:20260303T060955Z
UID:10011178-1778079600-1778082000@yokota374fss.com
SUMMARY:Karate (Ages 5-6) Wednesdays
DESCRIPTION:Wednesdays • 3:00 p.m.–3:40 p.m.\nInstructor: Kazumasa &amp; Gyoko Itaki\n$65/8 Classes\n$40/4 Classes
URL:https://yokota374fss.com/event/karate-ages-5-6-wednesdays/2026-05-06/
CATEGORIES:Natatorium
END:VEVENT
BEGIN:VEVENT
DTSTART;TZID=Asia/Tokyo:20260513T150000
DTEND;TZID=Asia/Tokyo:20260513T154000
DTSTAMP:20260425T102655
CREATED:20260303T060826Z
LAST-MODIFIED:20260303T060955Z
UID:10011179-1778684400-1778686800@yokota374fss.com
SUMMARY:Karate (Ages 5-6) Wednesdays
DESCRIPTION:Wednesdays • 3:00 p.m.–3:40 p.m.\nInstructor: Kazumasa &amp; Gyoko Itaki\n$65/8 Classes\n$40/4 Classes
URL:https://yokota374fss.com/event/karate-ages-5-6-wednesdays/2026-05-13/
CATEGORIES:Natatorium
END:VEVENT
BEGIN:VEVENT
DTSTART;TZID=Asia/Tokyo:20260520T150000
DTEND;TZID=Asia/Tokyo:20260520T154000
DTSTAMP:20260425T102655
CREATED:20260303T060826Z
LAST-MODIFIED:20260303T060955Z
UID:10011180-1779289200-1779291600@yokota374fss.com
SUMMARY:Karate (Ages 5-6) Wednesdays
DESCRIPTION:Wednesdays • 3:00 p.m.–3:40 p.m.\nInstructor: Kazumasa &amp; Gyoko Itaki\n$65/8 Classes\n$40/4 Classes
URL:https://yokota374fss.com/event/karate-ages-5-6-wednesdays/2026-05-20/
CATEGORIES:Natatorium
END:VEVENT
BEGIN:VEVENT
DTSTART;TZID=Asia/Tokyo:20260527T150000
DTEND;TZID=Asia/Tokyo:20260527T154000
DTSTAMP:20260425T102655
CREATED:20260303T060826Z
LAST-MODIFIED:20260303T060955Z
UID:10011181-1779894000-1779896400@yokota374fss.com
SUMMARY:Karate (Ages 5-6) Wednesdays
DESCRIPTION:Wednesdays • 3:00 p.m.–3:40 p.m.\nInstructor: Kazumasa &amp; Gyoko Itaki\n$65/8 Classes\n$40/4 Classes
URL:https://yokota374fss.com/event/karate-ages-5-6-wednesdays/2026-05-27/
CATEGORIES:Natatorium
END:VEVENT
BEGIN:VEVENT
DTSTART;TZID=Asia/Tokyo:20260603T150000
DTEND;TZID=Asia/Tokyo:20260603T154000
DTSTAMP:20260425T102655
CREATED:20260303T060826Z
LAST-MODIFIED:20260303T060955Z
UID:10011182-1780498800-1780501200@yokota374fss.com
SUMMARY:Karate (Ages 5-6) Wednesdays
DESCRIPTION:Wednesdays • 3:00 p.m.–3:40 p.m.\nInstructor: Kazumasa &amp; Gyoko Itaki\n$65/8 Classes\n$40/4 Classes
URL:https://yokota374fss.com/event/karate-ages-5-6-wednesdays/2026-06-03/
CATEGORIES:Natatorium
END:VEVENT
BEGIN:VEVENT
DTSTART;TZID=Asia/Tokyo:20260610T150000
DTEND;TZID=Asia/Tokyo:20260610T154000
DTSTAMP:20260425T102655
CREATED:20260303T060826Z
LAST-MODIFIED:20260303T060955Z
UID:10011183-1781103600-1781106000@yokota374fss.com
SUMMARY:Karate (Ages 5-6) Wednesdays
DESCRIPTION:Wednesdays • 3:00 p.m.–3:40 p.m.\nInstructor: Kazumasa &amp; Gyoko Itaki\n$65/8 Classes\n$40/4 Classes
URL:https://yokota374fss.com/event/karate-ages-5-6-wednesdays/2026-06-10/
CATEGORIES:Natatorium
END:VEVENT
BEGIN:VEVENT
DTSTART;TZID=Asia/Tokyo:20260617T150000
DTEND;TZID=Asia/Tokyo:20260617T154000
DTSTAMP:20260425T102655
CREATED:20260303T060826Z
LAST-MODIFIED:20260303T060955Z
UID:10011184-1781708400-1781710800@yokota374fss.com
SUMMARY:Karate (Ages 5-6) Wednesdays
DESCRIPTION:Wednesdays • 3:00 p.m.–3:40 p.m.\nInstructor: Kazumasa &amp; Gyoko Itaki\n$65/8 Classes\n$40/4 Classes
URL:https://yokota374fss.com/event/karate-ages-5-6-wednesdays/2026-06-17/
CATEGORIES:Natatorium
END:VEVENT
BEGIN:VEVENT
DTSTART;TZID=Asia/Tokyo:20260624T150000
DTEND;TZID=Asia/Tokyo:20260624T154000
DTSTAMP:20260425T102655
CREATED:20260303T060826Z
LAST-MODIFIED:20260303T060955Z
UID:10011185-1782313200-1782315600@yokota374fss.com
SUMMARY:Karate (Ages 5-6) Wednesdays
DESCRIPTION:Wednesdays • 3:00 p.m.–3:40 p.m.\nInstructor: Kazumasa &amp; Gyoko Itaki\n$65/8 Classes\n$40/4 Classes
URL:https://yokota374fss.com/event/karate-ages-5-6-wednesdays/2026-06-24/
CATEGORIES:Natatorium
END:VEVENT
BEGIN:VEVENT
DTSTART;TZID=Asia/Tokyo:20260701T150000
DTEND;TZID=Asia/Tokyo:20260701T154000
DTSTAMP:20260425T102655
CREATED:20260303T060826Z
LAST-MODIFIED:20260303T060955Z
UID:10011186-1782918000-1782920400@yokota374fss.com
SUMMARY:Karate (Ages 5-6) Wednesdays
DESCRIPTION:Wednesdays • 3:00 p.m.–3:40 p.m.\nInstructor: Kazumasa &amp; Gyoko Itaki\n$65/8 Classes\n$40/4 Classes
URL:https://yokota374fss.com/event/karate-ages-5-6-wednesdays/2026-07-01/
CATEGORIES:Natatorium
END:VEVENT
BEGIN:VEVENT
DTSTART;TZID=Asia/Tokyo:20260708T150000
DTEND;TZID=Asia/Tokyo:20260708T154000
DTSTAMP:20260425T102655
CREATED:20260303T060826Z
LAST-MODIFIED:20260303T060955Z
UID:10011187-1783522800-1783525200@yokota374fss.com
SUMMARY:Karate (Ages 5-6) Wednesdays
DESCRIPTION:Wednesdays • 3:00 p.m.–3:40 p.m.\nInstructor: Kazumasa &amp; Gyoko Itaki\n$65/8 Classes\n$40/4 Classes
URL:https://yokota374fss.com/event/karate-ages-5-6-wednesdays/2026-07-08/
CATEGORIES:Natatorium
END:VEVENT
BEGIN:VEVENT
DTSTART;TZID=Asia/Tokyo:20260715T150000
DTEND;TZID=Asia/Tokyo:20260715T154000
DTSTAMP:20260425T102655
CREATED:20260303T060826Z
LAST-MODIFIED:20260303T060955Z
UID:10011188-1784127600-1784130000@yokota374fss.com
SUMMARY:Karate (Ages 5-6) Wednesdays
DESCRIPTION:Wednesdays • 3:00 p.m.–3:40 p.m.\nInstructor: Kazumasa &amp; Gyoko Itaki\n$65/8 Classes\n$40/4 Classes
URL:https://yokota374fss.com/event/karate-ages-5-6-wednesdays/2026-07-15/
CATEGORIES:Natatorium
END:VEVENT
BEGIN:VEVENT
DTSTART;TZID=Asia/Tokyo:20260722T150000
DTEND;TZID=Asia/Tokyo:20260722T154000
DTSTAMP:20260425T102655
CREATED:20260303T060826Z
LAST-MODIFIED:20260303T060955Z
UID:10011189-1784732400-1784734800@yokota374fss.com
SUMMARY:Karate (Ages 5-6) Wednesdays
DESCRIPTION:Wednesdays • 3:00 p.m.–3:40 p.m.\nInstructor: Kazumasa &amp; Gyoko Itaki\n$65/8 Classes\n$40/4 Classes
URL:https://yokota374fss.com/event/karate-ages-5-6-wednesdays/2026-07-22/
CATEGORIES:Natatorium
END:VEVENT
BEGIN:VEVENT
DTSTART;TZID=Asia/Tokyo:20260729T150000
DTEND;TZID=Asia/Tokyo:20260729T154000
DTSTAMP:20260425T102655
CREATED:20260303T060826Z
LAST-MODIFIED:20260303T060955Z
UID:10011190-1785337200-1785339600@yokota374fss.com
SUMMARY:Karate (Ages 5-6) Wednesdays
DESCRIPTION:Wednesdays • 3:00 p.m.–3:40 p.m.\nInstructor: Kazumasa &amp; Gyoko Itaki\n$65/8 Classes\n$40/4 Classes
URL:https://yokota374fss.com/event/karate-ages-5-6-wednesdays/2026-07-29/
CATEGORIES:Natatorium
END:VEVENT
BEGIN:VEVENT
DTSTART;TZID=Asia/Tokyo:20260805T150000
DTEND;TZID=Asia/Tokyo:20260805T154000
DTSTAMP:20260425T102655
CREATED:20260303T060826Z
LAST-MODIFIED:20260303T060955Z
UID:10011191-1785942000-1785944400@yokota374fss.com
SUMMARY:Karate (Ages 5-6) Wednesdays
DESCRIPTION:Wednesdays • 3:00 p.m.–3:40 p.m.\nInstructor: Kazumasa &amp; Gyoko Itaki\n$65/8 Classes\n$40/4 Classes
URL:https://yokota374fss.com/event/karate-ages-5-6-wednesdays/2026-08-05/
CATEGORIES:Natatorium
END:VEVENT
BEGIN:VEVENT
DTSTART;TZID=Asia/Tokyo:20260812T150000
DTEND;TZID=Asia/Tokyo:20260812T154000
DTSTAMP:20260425T102655
CREATED:20260303T060826Z
LAST-MODIFIED:20260303T060955Z
UID:10011192-1786546800-1786549200@yokota374fss.com
SUMMARY:Karate (Ages 5-6) Wednesdays
DESCRIPTION:Wednesdays • 3:00 p.m.–3:40 p.m.\nInstructor: Kazumasa &amp; Gyoko Itaki\n$65/8 Classes\n$40/4 Classes
URL:https://yokota374fss.com/event/karate-ages-5-6-wednesdays/2026-08-12/
CATEGORIES:Natatorium
END:VEVENT
BEGIN:VEVENT
DTSTART;TZID=Asia/Tokyo:20260819T150000
DTEND;TZID=Asia/Tokyo:20260819T154000
DTSTAMP:20260425T102655
CREATED:20260303T060826Z
LAST-MODIFIED:20260303T060955Z
UID:10011193-1787151600-1787154000@yokota374fss.com
SUMMARY:Karate (Ages 5-6) Wednesdays
DESCRIPTION:Wednesdays • 3:00 p.m.–3:40 p.m.\nInstructor: Kazumasa &amp; Gyoko Itaki\n$65/8 Classes\n$40/4 Classes
URL:https://yokota374fss.com/event/karate-ages-5-6-wednesdays/2026-08-19/
CATEGORIES:Natatorium
END:VEVENT
BEGIN:VEVENT
DTSTART;TZID=Asia/Tokyo:20260826T150000
DTEND;TZID=Asia/Tokyo:20260826T154000
DTSTAMP:20260425T102655
CREATED:20260303T060826Z
LAST-MODIFIED:20260303T060955Z
UID:10011194-1787756400-1787758800@yokota374fss.com
SUMMARY:Karate (Ages 5-6) Wednesdays
DESCRIPTION:Wednesdays • 3:00 p.m.–3:40 p.m.\nInstructor: Kazumasa &amp; Gyoko Itaki\n$65/8 Classes\n$40/4 Classes
URL:https://yokota374fss.com/event/karate-ages-5-6-wednesdays/2026-08-26/
CATEGORIES:Natatorium
END:VEVENT
BEGIN:VEVENT
DTSTART;TZID=Asia/Tokyo:20260902T150000
DTEND;TZID=Asia/Tokyo:20260902T154000
DTSTAMP:20260425T102655
CREATED:20260303T060826Z
LAST-MODIFIED:20260303T060955Z
UID:10011195-1788361200-1788363600@yokota374fss.com
SUMMARY:Karate (Ages 5-6) Wednesdays
DESCRIPTION:Wednesdays • 3:00 p.m.–3:40 p.m.\nInstructor: Kazumasa &amp; Gyoko Itaki\n$65/8 Classes\n$40/4 Classes
URL:https://yokota374fss.com/event/karate-ages-5-6-wednesdays/2026-09-02/
CATEGORIES:Natatorium
END:VEVENT
BEGIN:VEVENT
DTSTART;TZID=Asia/Tokyo:20260909T150000
DTEND;TZID=Asia/Tokyo:20260909T154000
DTSTAMP:20260425T102655
CREATED:20260303T060826Z
LAST-MODIFIED:20260303T060955Z
UID:10011196-1788966000-1788968400@yokota374fss.com
SUMMARY:Karate (Ages 5-6) Wednesdays
DESCRIPTION:Wednesdays • 3:00 p.m.–3:40 p.m.\nInstructor: Kazumasa &amp; Gyoko Itaki\n$65/8 Classes\n$40/4 Classes
URL:https://yokota374fss.com/event/karate-ages-5-6-wednesdays/2026-09-09/
CATEGORIES:Natatorium
END:VEVENT
BEGIN:VEVENT
DTSTART;TZID=Asia/Tokyo:20260916T150000
DTEND;TZID=Asia/Tokyo:20260916T154000
DTSTAMP:20260425T102655
CREATED:20260303T060826Z
LAST-MODIFIED:20260303T060955Z
UID:10011197-1789570800-1789573200@yokota374fss.com
SUMMARY:Karate (Ages 5-6) Wednesdays
DESCRIPTION:Wednesdays • 3:00 p.m.–3:40 p.m.\nInstructor: Kazumasa &amp; Gyoko Itaki\n$65/8 Classes\n$40/4 Classes
URL:https://yokota374fss.com/event/karate-ages-5-6-wednesdays/2026-09-16/
CATEGORIES:Natatorium
END:VEVENT
BEGIN:VEVENT
DTSTART;TZID=Asia/Tokyo:20260923T150000
DTEND;TZID=Asia/Tokyo:20260923T154000
DTSTAMP:20260425T102655
CREATED:20260303T060826Z
LAST-MODIFIED:20260303T060955Z
UID:10011198-1790175600-1790178000@yokota374fss.com
SUMMARY:Karate (Ages 5-6) Wednesdays
DESCRIPTION:Wednesdays • 3:00 p.m.–3:40 p.m.\nInstructor: Kazumasa &amp; Gyoko Itaki\n$65/8 Classes\n$40/4 Classes
URL:https://yokota374fss.com/event/karate-ages-5-6-wednesdays/2026-09-23/
CATEGORIES:Natatorium
END:VEVENT
BEGIN:VEVENT
DTSTART;TZID=Asia/Tokyo:20260930T150000
DTEND;TZID=Asia/Tokyo:20260930T154000
DTSTAMP:20260425T102655
CREATED:20260303T060826Z
LAST-MODIFIED:20260303T060955Z
UID:10011199-1790780400-1790782800@yokota374fss.com
SUMMARY:Karate (Ages 5-6) Wednesdays
DESCRIPTION:Wednesdays • 3:00 p.m.–3:40 p.m.\nInstructor: Kazumasa &amp; Gyoko Itaki\n$65/8 Classes\n$40/4 Classes
URL:https://yokota374fss.com/event/karate-ages-5-6-wednesdays/2026-09-30/
CATEGORIES:Natatorium
END:VEVENT
BEGIN:VEVENT
DTSTART;TZID=Asia/Tokyo:20261007T150000
DTEND;TZID=Asia/Tokyo:20261007T154000
DTSTAMP:20260425T102655
CREATED:20260303T060826Z
LAST-MODIFIED:20260303T060955Z
UID:10011200-1791385200-1791387600@yokota374fss.com
SUMMARY:Karate (Ages 5-6) Wednesdays
DESCRIPTION:Wednesdays • 3:00 p.m.–3:40 p.m.\nInstructor: Kazumasa &amp; Gyoko Itaki\n$65/8 Classes\n$40/4 Classes
URL:https://yokota374fss.com/event/karate-ages-5-6-wednesdays/2026-10-07/
CATEGORIES:Natatorium
END:VEVENT
BEGIN:VEVENT
DTSTART;TZID=Asia/Tokyo:20261014T150000
DTEND;TZID=Asia/Tokyo:20261014T154000
DTSTAMP:20260425T102655
CREATED:20260303T060826Z
LAST-MODIFIED:20260303T060955Z
UID:10011201-1791990000-1791992400@yokota374fss.com
SUMMARY:Karate (Ages 5-6) Wednesdays
DESCRIPTION:Wednesdays • 3:00 p.m.–3:40 p.m.\nInstructor: Kazumasa &amp; Gyoko Itaki\n$65/8 Classes\n$40/4 Classes
URL:https://yokota374fss.com/event/karate-ages-5-6-wednesdays/2026-10-14/
CATEGORIES:Natatorium
END:VEVENT
BEGIN:VEVENT
DTSTART;TZID=Asia/Tokyo:20261021T150000
DTEND;TZID=Asia/Tokyo:20261021T154000
DTSTAMP:20260425T102655
CREATED:20260303T060826Z
LAST-MODIFIED:20260303T060955Z
UID:10011202-1792594800-1792597200@yokota374fss.com
SUMMARY:Karate (Ages 5-6) Wednesdays
DESCRIPTION:Wednesdays • 3:00 p.m.–3:40 p.m.\nInstructor: Kazumasa &amp; Gyoko Itaki\n$65/8 Classes\n$40/4 Classes
URL:https://yokota374fss.com/event/karate-ages-5-6-wednesdays/2026-10-21/
CATEGORIES:Natatorium
END:VEVENT
BEGIN:VEVENT
DTSTART;TZID=Asia/Tokyo:20261028T150000
DTEND;TZID=Asia/Tokyo:20261028T154000
DTSTAMP:20260425T102655
CREATED:20260303T060826Z
LAST-MODIFIED:20260303T060955Z
UID:10011203-1793199600-1793202000@yokota374fss.com
SUMMARY:Karate (Ages 5-6) Wednesdays
DESCRIPTION:Wednesdays • 3:00 p.m.–3:40 p.m.\nInstructor: Kazumasa &amp; Gyoko Itaki\n$65/8 Classes\n$40/4 Classes
URL:https://yokota374fss.com/event/karate-ages-5-6-wednesdays/2026-10-28/
CATEGORIES:Natatorium
END:VEVENT
BEGIN:VEVENT
DTSTART;TZID=Asia/Tokyo:20261104T150000
DTEND;TZID=Asia/Tokyo:20261104T154000
DTSTAMP:20260425T102655
CREATED:20260303T060826Z
LAST-MODIFIED:20260303T060955Z
UID:10011204-1793804400-1793806800@yokota374fss.com
SUMMARY:Karate (Ages 5-6) Wednesdays
DESCRIPTION:Wednesdays • 3:00 p.m.–3:40 p.m.\nInstructor: Kazumasa &amp; Gyoko Itaki\n$65/8 Classes\n$40/4 Classes
URL:https://yokota374fss.com/event/karate-ages-5-6-wednesdays/2026-11-04/
CATEGORIES:Natatorium
END:VEVENT
BEGIN:VEVENT
DTSTART;TZID=Asia/Tokyo:20261111T150000
DTEND;TZID=Asia/Tokyo:20261111T154000
DTSTAMP:20260425T102655
CREATED:20260303T060826Z
LAST-MODIFIED:20260303T060955Z
UID:10011205-1794409200-1794411600@yokota374fss.com
SUMMARY:Karate (Ages 5-6) Wednesdays
DESCRIPTION:Wednesdays • 3:00 p.m.–3:40 p.m.\nInstructor: Kazumasa &amp; Gyoko Itaki\n$65/8 Classes\n$40/4 Classes
URL:https://yokota374fss.com/event/karate-ages-5-6-wednesdays/2026-11-11/
CATEGORIES:Natatorium
END:VEVENT
BEGIN:VEVENT
DTSTART;TZID=Asia/Tokyo:20261118T150000
DTEND;TZID=Asia/Tokyo:20261118T154000
DTSTAMP:20260425T102655
CREATED:20260303T060826Z
LAST-MODIFIED:20260303T060955Z
UID:10011206-1795014000-1795016400@yokota374fss.com
SUMMARY:Karate (Ages 5-6) Wednesdays
DESCRIPTION:Wednesdays • 3:00 p.m.–3:40 p.m.\nInstructor: Kazumasa &amp; Gyoko Itaki\n$65/8 Classes\n$40/4 Classes
URL:https://yokota374fss.com/event/karate-ages-5-6-wednesdays/2026-11-18/
CATEGORIES:Natatorium
END:VEVENT
END:VCALENDAR