BEGIN:VCALENDAR
VERSION:2.0
PRODID:-//Yokota FSS - ECPv6.15.20//NONSGML v1.0//EN
CALSCALE:GREGORIAN
METHOD:PUBLISH
X-WR-CALNAME:Yokota FSS
X-ORIGINAL-URL:https://yokota374fss.com
X-WR-CALDESC:Events for Yokota FSS
REFRESH-INTERVAL;VALUE=DURATION:PT1H
X-Robots-Tag:noindex
X-PUBLISHED-TTL:PT1H
BEGIN:VTIMEZONE
TZID:Asia/Tokyo
BEGIN:STANDARD
TZOFFSETFROM:+0900
TZOFFSETTO:+0900
TZNAME:JST
DTSTART:20250101T000000
END:STANDARD
END:VTIMEZONE
BEGIN:VEVENT
DTSTART;TZID=Asia/Tokyo:20260611T100000
DTEND;TZID=Asia/Tokyo:20260611T110000
DTSTAMP:20260425T234638
CREATED:20260309T010009Z
LAST-MODIFIED:20260310T052640Z
UID:10011421-1781172000-1781175600@yokota374fss.com
SUMMARY:EFMP + Friends Sensory Play
DESCRIPTION:
URL:https://yokota374fss.com/event/efmp-friends-sensory-play/2026-06-11/
CATEGORIES:M&FRC
END:VEVENT
END:VCALENDAR