BEGIN:VCALENDAR
VERSION:2.0
PRODID:-//Yokota FSS - ECPv6.15.20//NONSGML v1.0//EN
CALSCALE:GREGORIAN
METHOD:PUBLISH
X-WR-CALNAME:Yokota FSS
X-ORIGINAL-URL:https://yokota374fss.com
X-WR-CALDESC:Events for Yokota FSS
REFRESH-INTERVAL;VALUE=DURATION:PT1H
X-Robots-Tag:noindex
X-PUBLISHED-TTL:PT1H
BEGIN:VTIMEZONE
TZID:Asia/Tokyo
BEGIN:STANDARD
TZOFFSETFROM:+0900
TZOFFSETTO:+0900
TZNAME:JST
DTSTART:20250101T000000
END:STANDARD
END:VTIMEZONE
BEGIN:VEVENT
DTSTART;TZID=Asia/Tokyo:20260430T173000
DTEND;TZID=Asia/Tokyo:20260430T182000
DTSTAMP:20260425T102649
CREATED:20260313T061246Z
LAST-MODIFIED:20260313T061246Z
UID:10011440-1777570200-1777573200@yokota374fss.com
SUMMARY:ADULT'S HIP HOP DANCE CLASS
DESCRIPTION:Thu • 5:30-6:20 p.m.\nTaiyo Community Center • Ages 18 & Up \n$50/student • 4 lessons/month
URL:https://yokota374fss.com/event/adults-hip-hop-dance-class/2026-04-30/
CATEGORIES:Community Center Class
ATTACH;FMTTYPE=image/jpeg:https://yokota374fss.com/wp-content/uploads/2026/03/TN10072-Hip-Hop-for-Adults-start-FSSTV.jpg
END:VEVENT
BEGIN:VEVENT
DTSTART;TZID=Asia/Tokyo:20260507T173000
DTEND;TZID=Asia/Tokyo:20260507T182000
DTSTAMP:20260425T102649
CREATED:20260313T061246Z
LAST-MODIFIED:20260313T061246Z
UID:10011441-1778175000-1778178000@yokota374fss.com
SUMMARY:ADULT'S HIP HOP DANCE CLASS
DESCRIPTION:Thu • 5:30-6:20 p.m.\nTaiyo Community Center • Ages 18 & Up \n$50/student • 4 lessons/month
URL:https://yokota374fss.com/event/adults-hip-hop-dance-class/2026-05-07/
CATEGORIES:Community Center Class
ATTACH;FMTTYPE=image/jpeg:https://yokota374fss.com/wp-content/uploads/2026/03/TN10072-Hip-Hop-for-Adults-start-FSSTV.jpg
END:VEVENT
BEGIN:VEVENT
DTSTART;TZID=Asia/Tokyo:20260514T173000
DTEND;TZID=Asia/Tokyo:20260514T182000
DTSTAMP:20260425T102649
CREATED:20260313T061246Z
LAST-MODIFIED:20260313T061246Z
UID:10011442-1778779800-1778782800@yokota374fss.com
SUMMARY:ADULT'S HIP HOP DANCE CLASS
DESCRIPTION:Thu • 5:30-6:20 p.m.\nTaiyo Community Center • Ages 18 & Up \n$50/student • 4 lessons/month
URL:https://yokota374fss.com/event/adults-hip-hop-dance-class/2026-05-14/
CATEGORIES:Community Center Class
ATTACH;FMTTYPE=image/jpeg:https://yokota374fss.com/wp-content/uploads/2026/03/TN10072-Hip-Hop-for-Adults-start-FSSTV.jpg
END:VEVENT
BEGIN:VEVENT
DTSTART;TZID=Asia/Tokyo:20260521T173000
DTEND;TZID=Asia/Tokyo:20260521T182000
DTSTAMP:20260425T102649
CREATED:20260313T061246Z
LAST-MODIFIED:20260313T061246Z
UID:10011443-1779384600-1779387600@yokota374fss.com
SUMMARY:ADULT'S HIP HOP DANCE CLASS
DESCRIPTION:Thu • 5:30-6:20 p.m.\nTaiyo Community Center • Ages 18 & Up \n$50/student • 4 lessons/month
URL:https://yokota374fss.com/event/adults-hip-hop-dance-class/2026-05-21/
CATEGORIES:Community Center Class
ATTACH;FMTTYPE=image/jpeg:https://yokota374fss.com/wp-content/uploads/2026/03/TN10072-Hip-Hop-for-Adults-start-FSSTV.jpg
END:VEVENT
BEGIN:VEVENT
DTSTART;TZID=Asia/Tokyo:20260528T173000
DTEND;TZID=Asia/Tokyo:20260528T182000
DTSTAMP:20260425T102649
CREATED:20260313T061246Z
LAST-MODIFIED:20260313T061246Z
UID:10011444-1779989400-1779992400@yokota374fss.com
SUMMARY:ADULT'S HIP HOP DANCE CLASS
DESCRIPTION:Thu • 5:30-6:20 p.m.\nTaiyo Community Center • Ages 18 & Up \n$50/student • 4 lessons/month
URL:https://yokota374fss.com/event/adults-hip-hop-dance-class/2026-05-28/
CATEGORIES:Community Center Class
ATTACH;FMTTYPE=image/jpeg:https://yokota374fss.com/wp-content/uploads/2026/03/TN10072-Hip-Hop-for-Adults-start-FSSTV.jpg
END:VEVENT
BEGIN:VEVENT
DTSTART;TZID=Asia/Tokyo:20260604T173000
DTEND;TZID=Asia/Tokyo:20260604T182000
DTSTAMP:20260425T102649
CREATED:20260313T061246Z
LAST-MODIFIED:20260313T061246Z
UID:10011445-1780594200-1780597200@yokota374fss.com
SUMMARY:ADULT'S HIP HOP DANCE CLASS
DESCRIPTION:Thu • 5:30-6:20 p.m.\nTaiyo Community Center • Ages 18 & Up \n$50/student • 4 lessons/month
URL:https://yokota374fss.com/event/adults-hip-hop-dance-class/2026-06-04/
CATEGORIES:Community Center Class
ATTACH;FMTTYPE=image/jpeg:https://yokota374fss.com/wp-content/uploads/2026/03/TN10072-Hip-Hop-for-Adults-start-FSSTV.jpg
END:VEVENT
BEGIN:VEVENT
DTSTART;TZID=Asia/Tokyo:20260611T173000
DTEND;TZID=Asia/Tokyo:20260611T182000
DTSTAMP:20260425T102649
CREATED:20260313T061246Z
LAST-MODIFIED:20260313T061246Z
UID:10011446-1781199000-1781202000@yokota374fss.com
SUMMARY:ADULT'S HIP HOP DANCE CLASS
DESCRIPTION:Thu • 5:30-6:20 p.m.\nTaiyo Community Center • Ages 18 & Up \n$50/student • 4 lessons/month
URL:https://yokota374fss.com/event/adults-hip-hop-dance-class/2026-06-11/
CATEGORIES:Community Center Class
ATTACH;FMTTYPE=image/jpeg:https://yokota374fss.com/wp-content/uploads/2026/03/TN10072-Hip-Hop-for-Adults-start-FSSTV.jpg
END:VEVENT
BEGIN:VEVENT
DTSTART;TZID=Asia/Tokyo:20260618T173000
DTEND;TZID=Asia/Tokyo:20260618T182000
DTSTAMP:20260425T102649
CREATED:20260313T061246Z
LAST-MODIFIED:20260313T061246Z
UID:10011447-1781803800-1781806800@yokota374fss.com
SUMMARY:ADULT'S HIP HOP DANCE CLASS
DESCRIPTION:Thu • 5:30-6:20 p.m.\nTaiyo Community Center • Ages 18 & Up \n$50/student • 4 lessons/month
URL:https://yokota374fss.com/event/adults-hip-hop-dance-class/2026-06-18/
CATEGORIES:Community Center Class
ATTACH;FMTTYPE=image/jpeg:https://yokota374fss.com/wp-content/uploads/2026/03/TN10072-Hip-Hop-for-Adults-start-FSSTV.jpg
END:VEVENT
BEGIN:VEVENT
DTSTART;TZID=Asia/Tokyo:20260625T173000
DTEND;TZID=Asia/Tokyo:20260625T182000
DTSTAMP:20260425T102649
CREATED:20260313T061246Z
LAST-MODIFIED:20260313T061246Z
UID:10011448-1782408600-1782411600@yokota374fss.com
SUMMARY:ADULT'S HIP HOP DANCE CLASS
DESCRIPTION:Thu • 5:30-6:20 p.m.\nTaiyo Community Center • Ages 18 & Up \n$50/student • 4 lessons/month
URL:https://yokota374fss.com/event/adults-hip-hop-dance-class/2026-06-25/
CATEGORIES:Community Center Class
ATTACH;FMTTYPE=image/jpeg:https://yokota374fss.com/wp-content/uploads/2026/03/TN10072-Hip-Hop-for-Adults-start-FSSTV.jpg
END:VEVENT
BEGIN:VEVENT
DTSTART;TZID=Asia/Tokyo:20260702T173000
DTEND;TZID=Asia/Tokyo:20260702T182000
DTSTAMP:20260425T102649
CREATED:20260313T061246Z
LAST-MODIFIED:20260313T061246Z
UID:10011449-1783013400-1783016400@yokota374fss.com
SUMMARY:ADULT'S HIP HOP DANCE CLASS
DESCRIPTION:Thu • 5:30-6:20 p.m.\nTaiyo Community Center • Ages 18 & Up \n$50/student • 4 lessons/month
URL:https://yokota374fss.com/event/adults-hip-hop-dance-class/2026-07-02/
CATEGORIES:Community Center Class
ATTACH;FMTTYPE=image/jpeg:https://yokota374fss.com/wp-content/uploads/2026/03/TN10072-Hip-Hop-for-Adults-start-FSSTV.jpg
END:VEVENT
BEGIN:VEVENT
DTSTART;TZID=Asia/Tokyo:20260709T173000
DTEND;TZID=Asia/Tokyo:20260709T182000
DTSTAMP:20260425T102649
CREATED:20260313T061246Z
LAST-MODIFIED:20260313T061246Z
UID:10011450-1783618200-1783621200@yokota374fss.com
SUMMARY:ADULT'S HIP HOP DANCE CLASS
DESCRIPTION:Thu • 5:30-6:20 p.m.\nTaiyo Community Center • Ages 18 & Up \n$50/student • 4 lessons/month
URL:https://yokota374fss.com/event/adults-hip-hop-dance-class/2026-07-09/
CATEGORIES:Community Center Class
ATTACH;FMTTYPE=image/jpeg:https://yokota374fss.com/wp-content/uploads/2026/03/TN10072-Hip-Hop-for-Adults-start-FSSTV.jpg
END:VEVENT
BEGIN:VEVENT
DTSTART;TZID=Asia/Tokyo:20260716T173000
DTEND;TZID=Asia/Tokyo:20260716T182000
DTSTAMP:20260425T102649
CREATED:20260313T061246Z
LAST-MODIFIED:20260313T061246Z
UID:10011451-1784223000-1784226000@yokota374fss.com
SUMMARY:ADULT'S HIP HOP DANCE CLASS
DESCRIPTION:Thu • 5:30-6:20 p.m.\nTaiyo Community Center • Ages 18 & Up \n$50/student • 4 lessons/month
URL:https://yokota374fss.com/event/adults-hip-hop-dance-class/2026-07-16/
CATEGORIES:Community Center Class
ATTACH;FMTTYPE=image/jpeg:https://yokota374fss.com/wp-content/uploads/2026/03/TN10072-Hip-Hop-for-Adults-start-FSSTV.jpg
END:VEVENT
BEGIN:VEVENT
DTSTART;TZID=Asia/Tokyo:20260723T173000
DTEND;TZID=Asia/Tokyo:20260723T182000
DTSTAMP:20260425T102649
CREATED:20260313T061246Z
LAST-MODIFIED:20260313T061246Z
UID:10011452-1784827800-1784830800@yokota374fss.com
SUMMARY:ADULT'S HIP HOP DANCE CLASS
DESCRIPTION:Thu • 5:30-6:20 p.m.\nTaiyo Community Center • Ages 18 & Up \n$50/student • 4 lessons/month
URL:https://yokota374fss.com/event/adults-hip-hop-dance-class/2026-07-23/
CATEGORIES:Community Center Class
ATTACH;FMTTYPE=image/jpeg:https://yokota374fss.com/wp-content/uploads/2026/03/TN10072-Hip-Hop-for-Adults-start-FSSTV.jpg
END:VEVENT
BEGIN:VEVENT
DTSTART;TZID=Asia/Tokyo:20260730T173000
DTEND;TZID=Asia/Tokyo:20260730T182000
DTSTAMP:20260425T102649
CREATED:20260313T061246Z
LAST-MODIFIED:20260313T061246Z
UID:10011453-1785432600-1785435600@yokota374fss.com
SUMMARY:ADULT'S HIP HOP DANCE CLASS
DESCRIPTION:Thu • 5:30-6:20 p.m.\nTaiyo Community Center • Ages 18 & Up \n$50/student • 4 lessons/month
URL:https://yokota374fss.com/event/adults-hip-hop-dance-class/2026-07-30/
CATEGORIES:Community Center Class
ATTACH;FMTTYPE=image/jpeg:https://yokota374fss.com/wp-content/uploads/2026/03/TN10072-Hip-Hop-for-Adults-start-FSSTV.jpg
END:VEVENT
BEGIN:VEVENT
DTSTART;TZID=Asia/Tokyo:20260806T173000
DTEND;TZID=Asia/Tokyo:20260806T182000
DTSTAMP:20260425T102649
CREATED:20260313T061246Z
LAST-MODIFIED:20260313T061246Z
UID:10011454-1786037400-1786040400@yokota374fss.com
SUMMARY:ADULT'S HIP HOP DANCE CLASS
DESCRIPTION:Thu • 5:30-6:20 p.m.\nTaiyo Community Center • Ages 18 & Up \n$50/student • 4 lessons/month
URL:https://yokota374fss.com/event/adults-hip-hop-dance-class/2026-08-06/
CATEGORIES:Community Center Class
ATTACH;FMTTYPE=image/jpeg:https://yokota374fss.com/wp-content/uploads/2026/03/TN10072-Hip-Hop-for-Adults-start-FSSTV.jpg
END:VEVENT
BEGIN:VEVENT
DTSTART;TZID=Asia/Tokyo:20260813T173000
DTEND;TZID=Asia/Tokyo:20260813T182000
DTSTAMP:20260425T102649
CREATED:20260313T061246Z
LAST-MODIFIED:20260313T061246Z
UID:10011455-1786642200-1786645200@yokota374fss.com
SUMMARY:ADULT'S HIP HOP DANCE CLASS
DESCRIPTION:Thu • 5:30-6:20 p.m.\nTaiyo Community Center • Ages 18 & Up \n$50/student • 4 lessons/month
URL:https://yokota374fss.com/event/adults-hip-hop-dance-class/2026-08-13/
CATEGORIES:Community Center Class
ATTACH;FMTTYPE=image/jpeg:https://yokota374fss.com/wp-content/uploads/2026/03/TN10072-Hip-Hop-for-Adults-start-FSSTV.jpg
END:VEVENT
BEGIN:VEVENT
DTSTART;TZID=Asia/Tokyo:20260820T173000
DTEND;TZID=Asia/Tokyo:20260820T182000
DTSTAMP:20260425T102649
CREATED:20260313T061246Z
LAST-MODIFIED:20260313T061246Z
UID:10011456-1787247000-1787250000@yokota374fss.com
SUMMARY:ADULT'S HIP HOP DANCE CLASS
DESCRIPTION:Thu • 5:30-6:20 p.m.\nTaiyo Community Center • Ages 18 & Up \n$50/student • 4 lessons/month
URL:https://yokota374fss.com/event/adults-hip-hop-dance-class/2026-08-20/
CATEGORIES:Community Center Class
ATTACH;FMTTYPE=image/jpeg:https://yokota374fss.com/wp-content/uploads/2026/03/TN10072-Hip-Hop-for-Adults-start-FSSTV.jpg
END:VEVENT
BEGIN:VEVENT
DTSTART;TZID=Asia/Tokyo:20260827T173000
DTEND;TZID=Asia/Tokyo:20260827T182000
DTSTAMP:20260425T102649
CREATED:20260313T061246Z
LAST-MODIFIED:20260313T061246Z
UID:10011457-1787851800-1787854800@yokota374fss.com
SUMMARY:ADULT'S HIP HOP DANCE CLASS
DESCRIPTION:Thu • 5:30-6:20 p.m.\nTaiyo Community Center • Ages 18 & Up \n$50/student • 4 lessons/month
URL:https://yokota374fss.com/event/adults-hip-hop-dance-class/2026-08-27/
CATEGORIES:Community Center Class
ATTACH;FMTTYPE=image/jpeg:https://yokota374fss.com/wp-content/uploads/2026/03/TN10072-Hip-Hop-for-Adults-start-FSSTV.jpg
END:VEVENT
BEGIN:VEVENT
DTSTART;TZID=Asia/Tokyo:20260903T173000
DTEND;TZID=Asia/Tokyo:20260903T182000
DTSTAMP:20260425T102649
CREATED:20260313T061246Z
LAST-MODIFIED:20260313T061246Z
UID:10011458-1788456600-1788459600@yokota374fss.com
SUMMARY:ADULT'S HIP HOP DANCE CLASS
DESCRIPTION:Thu • 5:30-6:20 p.m.\nTaiyo Community Center • Ages 18 & Up \n$50/student • 4 lessons/month
URL:https://yokota374fss.com/event/adults-hip-hop-dance-class/2026-09-03/
CATEGORIES:Community Center Class
ATTACH;FMTTYPE=image/jpeg:https://yokota374fss.com/wp-content/uploads/2026/03/TN10072-Hip-Hop-for-Adults-start-FSSTV.jpg
END:VEVENT
BEGIN:VEVENT
DTSTART;TZID=Asia/Tokyo:20260910T173000
DTEND;TZID=Asia/Tokyo:20260910T182000
DTSTAMP:20260425T102649
CREATED:20260313T061246Z
LAST-MODIFIED:20260313T061246Z
UID:10011459-1789061400-1789064400@yokota374fss.com
SUMMARY:ADULT'S HIP HOP DANCE CLASS
DESCRIPTION:Thu • 5:30-6:20 p.m.\nTaiyo Community Center • Ages 18 & Up \n$50/student • 4 lessons/month
URL:https://yokota374fss.com/event/adults-hip-hop-dance-class/2026-09-10/
CATEGORIES:Community Center Class
ATTACH;FMTTYPE=image/jpeg:https://yokota374fss.com/wp-content/uploads/2026/03/TN10072-Hip-Hop-for-Adults-start-FSSTV.jpg
END:VEVENT
BEGIN:VEVENT
DTSTART;TZID=Asia/Tokyo:20260917T173000
DTEND;TZID=Asia/Tokyo:20260917T182000
DTSTAMP:20260425T102649
CREATED:20260313T061246Z
LAST-MODIFIED:20260313T061246Z
UID:10011460-1789666200-1789669200@yokota374fss.com
SUMMARY:ADULT'S HIP HOP DANCE CLASS
DESCRIPTION:Thu • 5:30-6:20 p.m.\nTaiyo Community Center • Ages 18 & Up \n$50/student • 4 lessons/month
URL:https://yokota374fss.com/event/adults-hip-hop-dance-class/2026-09-17/
CATEGORIES:Community Center Class
ATTACH;FMTTYPE=image/jpeg:https://yokota374fss.com/wp-content/uploads/2026/03/TN10072-Hip-Hop-for-Adults-start-FSSTV.jpg
END:VEVENT
BEGIN:VEVENT
DTSTART;TZID=Asia/Tokyo:20260924T173000
DTEND;TZID=Asia/Tokyo:20260924T182000
DTSTAMP:20260425T102649
CREATED:20260313T061246Z
LAST-MODIFIED:20260313T061246Z
UID:10011461-1790271000-1790274000@yokota374fss.com
SUMMARY:ADULT'S HIP HOP DANCE CLASS
DESCRIPTION:Thu • 5:30-6:20 p.m.\nTaiyo Community Center • Ages 18 & Up \n$50/student • 4 lessons/month
URL:https://yokota374fss.com/event/adults-hip-hop-dance-class/2026-09-24/
CATEGORIES:Community Center Class
ATTACH;FMTTYPE=image/jpeg:https://yokota374fss.com/wp-content/uploads/2026/03/TN10072-Hip-Hop-for-Adults-start-FSSTV.jpg
END:VEVENT
BEGIN:VEVENT
DTSTART;TZID=Asia/Tokyo:20261001T173000
DTEND;TZID=Asia/Tokyo:20261001T182000
DTSTAMP:20260425T102649
CREATED:20260313T061246Z
LAST-MODIFIED:20260313T061246Z
UID:10011462-1790875800-1790878800@yokota374fss.com
SUMMARY:ADULT'S HIP HOP DANCE CLASS
DESCRIPTION:Thu • 5:30-6:20 p.m.\nTaiyo Community Center • Ages 18 & Up \n$50/student • 4 lessons/month
URL:https://yokota374fss.com/event/adults-hip-hop-dance-class/2026-10-01/
CATEGORIES:Community Center Class
ATTACH;FMTTYPE=image/jpeg:https://yokota374fss.com/wp-content/uploads/2026/03/TN10072-Hip-Hop-for-Adults-start-FSSTV.jpg
END:VEVENT
BEGIN:VEVENT
DTSTART;TZID=Asia/Tokyo:20261008T173000
DTEND;TZID=Asia/Tokyo:20261008T182000
DTSTAMP:20260425T102649
CREATED:20260313T061246Z
LAST-MODIFIED:20260313T061246Z
UID:10011463-1791480600-1791483600@yokota374fss.com
SUMMARY:ADULT'S HIP HOP DANCE CLASS
DESCRIPTION:Thu • 5:30-6:20 p.m.\nTaiyo Community Center • Ages 18 & Up \n$50/student • 4 lessons/month
URL:https://yokota374fss.com/event/adults-hip-hop-dance-class/2026-10-08/
CATEGORIES:Community Center Class
ATTACH;FMTTYPE=image/jpeg:https://yokota374fss.com/wp-content/uploads/2026/03/TN10072-Hip-Hop-for-Adults-start-FSSTV.jpg
END:VEVENT
BEGIN:VEVENT
DTSTART;TZID=Asia/Tokyo:20261015T173000
DTEND;TZID=Asia/Tokyo:20261015T182000
DTSTAMP:20260425T102649
CREATED:20260313T061246Z
LAST-MODIFIED:20260313T061246Z
UID:10011464-1792085400-1792088400@yokota374fss.com
SUMMARY:ADULT'S HIP HOP DANCE CLASS
DESCRIPTION:Thu • 5:30-6:20 p.m.\nTaiyo Community Center • Ages 18 & Up \n$50/student • 4 lessons/month
URL:https://yokota374fss.com/event/adults-hip-hop-dance-class/2026-10-15/
CATEGORIES:Community Center Class
ATTACH;FMTTYPE=image/jpeg:https://yokota374fss.com/wp-content/uploads/2026/03/TN10072-Hip-Hop-for-Adults-start-FSSTV.jpg
END:VEVENT
BEGIN:VEVENT
DTSTART;TZID=Asia/Tokyo:20261022T173000
DTEND;TZID=Asia/Tokyo:20261022T182000
DTSTAMP:20260425T102649
CREATED:20260313T061246Z
LAST-MODIFIED:20260313T061246Z
UID:10011465-1792690200-1792693200@yokota374fss.com
SUMMARY:ADULT'S HIP HOP DANCE CLASS
DESCRIPTION:Thu • 5:30-6:20 p.m.\nTaiyo Community Center • Ages 18 & Up \n$50/student • 4 lessons/month
URL:https://yokota374fss.com/event/adults-hip-hop-dance-class/2026-10-22/
CATEGORIES:Community Center Class
ATTACH;FMTTYPE=image/jpeg:https://yokota374fss.com/wp-content/uploads/2026/03/TN10072-Hip-Hop-for-Adults-start-FSSTV.jpg
END:VEVENT
BEGIN:VEVENT
DTSTART;TZID=Asia/Tokyo:20261029T173000
DTEND;TZID=Asia/Tokyo:20261029T182000
DTSTAMP:20260425T102649
CREATED:20260313T061246Z
LAST-MODIFIED:20260313T061246Z
UID:10011466-1793295000-1793298000@yokota374fss.com
SUMMARY:ADULT'S HIP HOP DANCE CLASS
DESCRIPTION:Thu • 5:30-6:20 p.m.\nTaiyo Community Center • Ages 18 & Up \n$50/student • 4 lessons/month
URL:https://yokota374fss.com/event/adults-hip-hop-dance-class/2026-10-29/
CATEGORIES:Community Center Class
ATTACH;FMTTYPE=image/jpeg:https://yokota374fss.com/wp-content/uploads/2026/03/TN10072-Hip-Hop-for-Adults-start-FSSTV.jpg
END:VEVENT
BEGIN:VEVENT
DTSTART;TZID=Asia/Tokyo:20261105T173000
DTEND;TZID=Asia/Tokyo:20261105T182000
DTSTAMP:20260425T102649
CREATED:20260313T061246Z
LAST-MODIFIED:20260313T061246Z
UID:10011467-1793899800-1793902800@yokota374fss.com
SUMMARY:ADULT'S HIP HOP DANCE CLASS
DESCRIPTION:Thu • 5:30-6:20 p.m.\nTaiyo Community Center • Ages 18 & Up \n$50/student • 4 lessons/month
URL:https://yokota374fss.com/event/adults-hip-hop-dance-class/2026-11-05/
CATEGORIES:Community Center Class
ATTACH;FMTTYPE=image/jpeg:https://yokota374fss.com/wp-content/uploads/2026/03/TN10072-Hip-Hop-for-Adults-start-FSSTV.jpg
END:VEVENT
BEGIN:VEVENT
DTSTART;TZID=Asia/Tokyo:20261112T173000
DTEND;TZID=Asia/Tokyo:20261112T182000
DTSTAMP:20260425T102649
CREATED:20260313T061246Z
LAST-MODIFIED:20260313T061246Z
UID:10011468-1794504600-1794507600@yokota374fss.com
SUMMARY:ADULT'S HIP HOP DANCE CLASS
DESCRIPTION:Thu • 5:30-6:20 p.m.\nTaiyo Community Center • Ages 18 & Up \n$50/student • 4 lessons/month
URL:https://yokota374fss.com/event/adults-hip-hop-dance-class/2026-11-12/
CATEGORIES:Community Center Class
ATTACH;FMTTYPE=image/jpeg:https://yokota374fss.com/wp-content/uploads/2026/03/TN10072-Hip-Hop-for-Adults-start-FSSTV.jpg
END:VEVENT
BEGIN:VEVENT
DTSTART;TZID=Asia/Tokyo:20261119T173000
DTEND;TZID=Asia/Tokyo:20261119T182000
DTSTAMP:20260425T102649
CREATED:20260313T061246Z
LAST-MODIFIED:20260313T061246Z
UID:10011469-1795109400-1795112400@yokota374fss.com
SUMMARY:ADULT'S HIP HOP DANCE CLASS
DESCRIPTION:Thu • 5:30-6:20 p.m.\nTaiyo Community Center • Ages 18 & Up \n$50/student • 4 lessons/month
URL:https://yokota374fss.com/event/adults-hip-hop-dance-class/2026-11-19/
CATEGORIES:Community Center Class
ATTACH;FMTTYPE=image/jpeg:https://yokota374fss.com/wp-content/uploads/2026/03/TN10072-Hip-Hop-for-Adults-start-FSSTV.jpg
END:VEVENT
END:VCALENDAR